BEGIN:VCALENDAR
VERSION:2.0
PRODID:-//Issuekalender - ECPv6.9.0//NONSGML v1.0//EN
CALSCALE:GREGORIAN
METHOD:PUBLISH
X-WR-CALNAME:Issuekalender
X-ORIGINAL-URL:https://issuekalender.nl
X-WR-CALDESC:Evenementen voor Issuekalender
REFRESH-INTERVAL;VALUE=DURATION:PT1H
X-Robots-Tag:noindex
X-PUBLISHED-TTL:PT1H
BEGIN:VTIMEZONE
TZID:Europe/Amsterdam
BEGIN:DAYLIGHT
TZOFFSETFROM:+0100
TZOFFSETTO:+0200
TZNAME:CEST
DTSTART:20280326T010000
END:DAYLIGHT
BEGIN:STANDARD
TZOFFSETFROM:+0200
TZOFFSETTO:+0100
TZNAME:CET
DTSTART:20281029T010000
END:STANDARD
END:VTIMEZONE
BEGIN:VEVENT
DTSTART;VALUE=DATE:20280815
DTEND;VALUE=DATE:20280816
DTSTAMP:20260424T233921
CREATED:20240716T143857Z
LAST-MODIFIED:20241008T081646Z
UID:10007782-1849910400-1849996799@issuekalender.nl
SUMMARY:NATIONALE HERDENKING 15 AUGUSTUS 1945
DESCRIPTION:[vc_row][vc_column][vc_single_image image=”61″ css_animation=”fadeInUp” alignment=”left”][/vc_column][/vc_row][vc_row][vc_column][vc_column_text css_animation=”fadeIn” font_size=”45″ font_family=”Roboto” font_weight=”500″ color=”#57529e”]\nNATIONALE HERDENKING 15 AUGUSTUS 1945 \n[/vc_column_text][vc_empty_space height=”10px”][vc_single_image image=”88″ img_size=”medium” css_animation=”fadeInUp” alignment=”left”][vc_column_text css_animation=”fadeIn” font_size=”20px” font_family=”Roboto” font_weight=”normal”]\n\n[/vc_column_text][/vc_column][/vc_row][vc_row][vc_column][vc_column_text]Op 15 augustus staan we stil bij het einde van de Tweede Wereldoorlog voor het Koninkrijk der Nederlanden en herdenken we alle slachtoffers van de oorlog tegen Japan en de Japanse bezetting van Nederlands-Indië.[/vc_column_text][/vc_column][/vc_row][vc_row][vc_column][vc_single_image image=”61″ css_animation=”fadeInUp” alignment=”left”][/vc_column][/vc_row][vc_row][vc_column width=”1/2″]Issuekalender doorzoeken [/vc_column][vc_column width=”1/2″][/vc_column][/vc_row]
URL:https://issuekalender.nl/issue/nationale-herdenking-15-augustus-1945/2028-08-15/
CATEGORIES:Overige
ORGANIZER;CN="Stichting Herdenking 15 Augustus 1945":MAILTO:info@indieherdenking.nl
END:VEVENT
BEGIN:VEVENT
DTSTART;VALUE=DATE:20280818
DTEND;VALUE=DATE:20280819
DTSTAMP:20260424T233921
CREATED:20230711T075029Z
LAST-MODIFIED:20241008T081821Z
UID:10007788-1850169600-1850255999@issuekalender.nl
SUMMARY:NEVER GIVE UP DAY
DESCRIPTION:[vc_row][vc_column][vc_single_image image=”61″ css_animation=”fadeInUp” alignment=”left”][/vc_column][/vc_row][vc_row][vc_column][vc_column_text css_animation=”fadeIn” font_size=”45″ font_family=”Roboto” font_weight=”500″ color=”#57529e”]\nNEVER GIVE UP DAY \n[/vc_column_text][vc_empty_space height=”10px”][vc_single_image image=”88″ img_size=”medium” css_animation=”fadeInUp” alignment=”left”][/vc_column][/vc_row][vc_row][vc_column][vc_column_text]Never Give Up Day op 18 Augustus is een jaarlijks terugkerend evenement die zoveel mensen op zoveel manieren aanspreekt omdat een opmerkelijke gelegenheid is om iemand’s doorzettingsvermogen en vastberadenheid te complimenteren of aan te moedigen.\nHet is een bewustwordingsdag dat reeds op verschillende kalenderdagen in verschillende delen van de wereld werd opgenomen. \n#nevergiveupday – Recherche sur Twitter / Twitter \nwww.nevergiveupday.com \nNever Give Up Day wordt gevierd als een waardering voor degenen die nooit opgeven en een dag waarop de wereld die belangrijke boodschap deelt en je eraan herinnert hoe belangrijk het is om nooit op te geven.[/vc_column_text][/vc_column][/vc_row][vc_row][vc_column][vc_single_image image=”61″ css_animation=”fadeInUp” alignment=”left”][/vc_column][/vc_row][vc_row][vc_column width=”1/2″]Issuekalender doorzoeken [/vc_column][vc_column width=”1/2″][/vc_column][/vc_row]
URL:https://issuekalender.nl/issue/never-give-up-day/2028-08-18/
CATEGORIES:Overige
ORGANIZER;CN="Never Give Up":MAILTO:mrnevergiveup@hotmail.com
END:VEVENT
END:VCALENDAR