BEGIN:VCALENDAR
VERSION:2.0
PRODID:-//Issuekalender - ECPv6.9.0//NONSGML v1.0//EN
CALSCALE:GREGORIAN
METHOD:PUBLISH
X-ORIGINAL-URL:https://issuekalender.nl
X-WR-CALDESC:Evenementen voor Issuekalender
REFRESH-INTERVAL;VALUE=DURATION:PT1H
X-Robots-Tag:noindex
X-PUBLISHED-TTL:PT1H
BEGIN:VTIMEZONE
TZID:Europe/Amsterdam
BEGIN:DAYLIGHT
TZOFFSETFROM:+0100
TZOFFSETTO:+0200
TZNAME:CEST
DTSTART:20280326T010000
END:DAYLIGHT
BEGIN:STANDARD
TZOFFSETFROM:+0200
TZOFFSETTO:+0100
TZNAME:CET
DTSTART:20281029T010000
END:STANDARD
END:VTIMEZONE
BEGIN:VEVENT
DTSTART;VALUE=DATE:20280801
DTEND;VALUE=DATE:20280808
DTSTAMP:20260424T211040
CREATED:20230711T071108Z
LAST-MODIFIED:20241008T074838Z
UID:10007737-1848700800-1849305599@issuekalender.nl
SUMMARY:INTERNATIONALE BORSTVOEDINGSWEEK
DESCRIPTION:[vc_row][vc_column][vc_single_image image=”61″ css_animation=”fadeInUp” alignment=”left”][/vc_column][/vc_row][vc_row][vc_column][vc_column_text css_animation=”fadeIn” font_size=”45″ font_family=”Roboto” font_weight=”500″ color=”#57529e”]\nINTERNATIONALE BORSTVOEDINGSWEEK \n[/vc_column_text][vc_empty_space height=”10px”][vc_single_image image=”88″ img_size=”medium” css_animation=”fadeInUp” alignment=”left”][/vc_column][/vc_row][vc_row][vc_column][vc_column_text]WBW wordt van 1 tot 7 augustus gevierd ter herdenking van de Verklaring van Innocenti uit 1990. WBW ging van start in 1992\, met jaarlijkse thema’s waaronder gezondheidszorgstelsels\, vrouwen en werk\, de internationale gedragscode voor het op de markt brengen van vervangingsmiddelen voor moedermelk\, steun aan de gemeenschap\, ecologie\, economie\, wetenschap\, onderwijs en mensenrechten. Sinds 2016 is WBW afgestemd op de Duurzame Ontwikkelingsdoelen (SDG’s). In 2018 onderschreef een resolutie van de Wereldgezondheidsvergadering WBW als een belangrijke strategie ter bevordering van borstvoeding.[/vc_column_text][/vc_column][/vc_row][vc_row][vc_column][vc_single_image image=”61″ css_animation=”fadeInUp” alignment=”left”][/vc_column][/vc_row][vc_row][vc_column width=”1/2″]Issuekalender doorzoeken [/vc_column][vc_column width=”1/2″][/vc_column][/vc_row]
URL:https://issuekalender.nl/issue/internationale-borstvoedingsweek/2028-08-01/
CATEGORIES:Welzijn en gezondheid
ORGANIZER;CN="waba":MAILTO:waba@waba.org.my
END:VEVENT
BEGIN:VEVENT
DTSTART;VALUE=DATE:20280806
DTEND;VALUE=DATE:20280813
DTSTAMP:20260424T211040
CREATED:20231030T120120Z
LAST-MODIFIED:20241024T150547Z
UID:10008917-1849132800-1849737599@issuekalender.nl
SUMMARY:INTERNATIONALE WEEK VAN DE ASSISTENTIEHOND
DESCRIPTION:[vc_row][vc_column][vc_single_image image=”61″ css_animation=”fadeInUp” alignment=”left”][/vc_column][/vc_row][vc_row][vc_column][vc_column_text css_animation=”fadeIn” font_size=”45″ font_family=”Roboto” font_weight=”500″ color=”#57529e”]\nINTERNATIONALE WEEK VAN DE ASSISTENTIEHOND \n[/vc_column_text][vc_empty_space height=”10px”][vc_single_image image=”88″ img_size=”medium” css_animation=”fadeInUp” alignment=”left”][/vc_column][/vc_row][vc_row][vc_column][vc_column_text css=””]De Internationale Week van de Assistentiehond  (International Assistance Dog Week (IADW)) is opgericht om alle toegewijde\, hardwerkende hulphonden te erkennen die individuen helpen hun beperkingen in verband met hun handicap te verminderen. De Internationale Week van de Assistentiehond vindt jaarlijks plaats in de eerste volle week van augustus. \nHulphonden transformeren het leven van hun menselijke partners met slopende lichamelijke en geestelijke beperkingen door te dienen als hun metgezel.[/vc_column_text][/vc_column][/vc_row][vc_row][vc_column][vc_single_image image=”61″ css_animation=”fadeInUp” alignment=”left”][/vc_column][/vc_row][vc_row][vc_column width=”1/2″]Issuekalender doorzoeken [/vc_column][vc_column width=”1/2″][/vc_column][/vc_row]
URL:https://issuekalender.nl/issue/internationale-week-van-de-assistentiehond/2028-08-06/
CATEGORIES:Dierenwelzijn,Welzijn en gezondheid
END:VEVENT
BEGIN:VEVENT
DTSTART;VALUE=DATE:20280808
DTEND;VALUE=DATE:20280809
DTSTAMP:20260424T211040
CREATED:20230711T072254Z
LAST-MODIFIED:20241008T080214Z
UID:10007753-1849305600-1849391999@issuekalender.nl
SUMMARY:WERELD ME-DAG
DESCRIPTION:[vc_row][vc_column][vc_single_image image=”61″ css_animation=”fadeInUp” alignment=”left”][/vc_column][/vc_row][vc_row][vc_column][vc_column_text css_animation=”fadeIn” font_size=”45″ font_family=”Roboto” font_weight=”500″ color=”#57529e”]\nWERELD ME-DAG \n[/vc_column_text][vc_empty_space height=”10px”][vc_single_image image=”88″ img_size=”medium” css_animation=”fadeInUp” alignment=”left”][/vc_column][/vc_row][vc_row][vc_column][vc_column_text]Wereld ME dag vindt elk jaar plaats. Sinds 2019 is dit op 8 augustus\, eerder bekend als ‘severe ME day’. Dat is de geboortedag van Sophia Mirza (1973-2005)\, de eerste ME-patiënte in Engeland die officieel is overleden aan ME. Oorspronkelijk was de datum 12 mei. Deze internationale awareness day – niet alleen voor ME maar ook voor onder meer Fibromyalgie\, Golfsyndroom\, Lupus\, Lyme\, MCS\, MS\, Parkinson – werd in 1992 gekozent door Tom Hennessy (1954-2013). De twaalfde mei is de geboortedag van Florence Nightingale\, die in haar latere leven leed aan klachten die aan diverse aandoeningen zijn toegeschreven. Volgens historisch onderzoek leed zij echter aan brucellose. \nRond Wereld ME Dag vinden in veel landen activiteiten plaats rondom de ziekte ME. De Landelijke ME Informatiedag van de ME Vereniging Nederland wordt meestal omstreeks deze datum gehouden.[/vc_column_text][/vc_column][/vc_row][vc_row][vc_column][vc_single_image image=”61″ css_animation=”fadeInUp” alignment=”left”][/vc_column][/vc_row][vc_row][vc_column width=”1/2″]Issuekalender doorzoeken [/vc_column][vc_column width=”1/2″][/vc_column][/vc_row]
URL:https://issuekalender.nl/issue/wereld-me-dag/2028-08-08/
CATEGORIES:Welzijn en gezondheid
ORGANIZER;CN="ME vereniging Nederland":MAILTO:contact@mevereniging.nl
END:VEVENT
BEGIN:VEVENT
DTSTART;VALUE=DATE:20280809
DTEND;VALUE=DATE:20280810
DTSTAMP:20260424T211040
CREATED:20230711T072356Z
LAST-MODIFIED:20241008T080740Z
UID:10007759-1849392000-1849478399@issuekalender.nl
SUMMARY:INTERNATIONALE DAG VAN DE INHEEMSE VOLKEREN (VN)
DESCRIPTION:[vc_row][vc_column][vc_single_image image=”61″ css_animation=”fadeInUp” alignment=”left”][/vc_column][/vc_row][vc_row][vc_column][vc_column_text css_animation=”fadeIn” font_size=”45″ font_family=”Roboto” font_weight=”500″ color=”#57529e”]\nINTERNATIONALE DAG VAN DE INHEEMSE VOLKEREN (VN) \n[/vc_column_text][vc_empty_space height=”10px”][vc_single_image image=”88″ img_size=”medium” css_animation=”fadeInUp” alignment=”left”][/vc_column][/vc_row][vc_row][vc_column][vc_column_text]Op de dag van de inheemse volkeren wordt aandacht gevraagd voor de inheemse volkeren\, hun culturen en de bijdrage die ze leveren aan culturele diversiteit. Het grootste doel van deze dag is de nationale overheden stil te laten staan bij de behoeften van hun oorspronkelijke bewoners. Naar schatting zijn er 400 miljoen inheemse mensen in de wereld\, verspreid over 90 landen. Ze vormen minder dan 5 procent van de wereldbevolking maar hun percentage in de groep van de allerarmste op de wereld is beduidend hoger\, hun aandeel daarin is 15 procent. Ze spreken een overgrote meerderheid van de talen in de wereld (naar schatting 7.000) en vertegenwoordigen 5.000 verschillende culturen.[/vc_column_text][/vc_column][/vc_row][vc_row][vc_column][vc_single_image image=”61″ css_animation=”fadeInUp” alignment=”left”][/vc_column][/vc_row][vc_row][vc_column width=”1/2″]Issuekalender doorzoeken [/vc_column][vc_column width=”1/2″][/vc_column][/vc_row]
URL:https://issuekalender.nl/issue/internationale-dag-van-de-inheemse-volkeren-vn/2028-08-09/
CATEGORIES:Overige
END:VEVENT
BEGIN:VEVENT
DTSTART;VALUE=DATE:20280812
DTEND;VALUE=DATE:20280813
DTSTAMP:20260424T211040
CREATED:20230711T072824Z
LAST-MODIFIED:20241008T080857Z
UID:10007765-1849651200-1849737599@issuekalender.nl
SUMMARY:INTERNATIONALE DAG VAN DE JEUGD (VN)
DESCRIPTION:[vc_row][vc_column][vc_single_image image=”61″ css_animation=”fadeInUp” alignment=”left”][/vc_column][/vc_row][vc_row][vc_column][vc_column_text css_animation=”fadeIn” font_size=”45″ font_family=”Roboto” font_weight=”500″ color=”#57529e”]\nDAG VAN DE STILGEBOREN BABY \n[/vc_column_text][vc_empty_space height=”10px”][vc_single_image image=”88″ img_size=”medium” css_animation=”fadeInUp” alignment=”left”][/vc_column][/vc_row][vc_row][vc_column][vc_column_text]In 1999 hebben de Verenigde Naties 12 augustus uitgeroepen tot Internationale Dag van de Jeugd. Deze Dag staat volledig in het teken van kinderen van 15 tot 24 jaar (de VN’s officiële definitie van ‘jeugd’) en wat zij betekenen voor de wereld. Tijdens deze dag wil de Verenigde Naties de aandacht vestigen op jongeren in heel de wereld die een bijdrage leveren aan de samenleving\, des te meer in een sterk vergrijzende samenleving.[/vc_column_text][/vc_column][/vc_row][vc_row][vc_column][vc_single_image image=”61″ css_animation=”fadeInUp” alignment=”left”][/vc_column][/vc_row][vc_row][vc_column width=”1/2″]Issuekalender doorzoeken [/vc_column][vc_column width=”1/2″][/vc_column][/vc_row]
URL:https://issuekalender.nl/issue/internationale-dag-van-de-jeugd-vn/2028-08-12/
CATEGORIES:Overige
END:VEVENT
BEGIN:VEVENT
DTSTART;VALUE=DATE:20280813
DTEND;VALUE=DATE:20280814
DTSTAMP:20260424T211040
CREATED:20230711T074447Z
LAST-MODIFIED:20241008T081106Z
UID:10007771-1849737600-1849823999@issuekalender.nl
SUMMARY:LINKSHANDIGENDAG
DESCRIPTION:[vc_row][vc_column][vc_single_image image=”61″ css_animation=”fadeInUp” alignment=”left”][/vc_column][/vc_row][vc_row][vc_column][vc_column_text css_animation=”fadeIn” font_size=”45″ font_family=”Roboto” font_weight=”500″ color=”#57529e”]\nLINKSHANDIGENDAG \n[/vc_column_text][vc_empty_space height=”10px”][vc_single_image image=”88″ img_size=”medium” css_animation=”fadeInUp” alignment=”left”][/vc_column][/vc_row][vc_row][vc_column][vc_column_text]In het dierenrijk is het uitzonderlijk dat er een voorkeur is voor het gebruik van de linker- of rechterhand. De Amerikaan Dean R. Campbell besloot op vrijdag de 13e 1976 het startschot te geven voor de Dag van de Linkshandigen\, om mensen bewust te maken van het feit dat sommige handelingen voor linkshandigen lastig en zelfs gevaarlijk kunnen zijn.[/vc_column_text][/vc_column][/vc_row][vc_row][vc_column][vc_single_image image=”61″ css_animation=”fadeInUp” alignment=”left”][/vc_column][/vc_row][vc_row][vc_column width=”1/2″]Issuekalender doorzoeken [/vc_column][vc_column width=”1/2″][/vc_column][/vc_row]
URL:https://issuekalender.nl/issue/linkshandigendag/2028-08-13/
CATEGORIES:Mens en maatschappij
ORGANIZER;CN="Linkshandige Dag":MAILTO:sander@linkshandigendag.nl
END:VEVENT
BEGIN:VEVENT
DTSTART;VALUE=DATE:20280813
DTEND;VALUE=DATE:20280814
DTSTAMP:20260424T211040
CREATED:20230711T074545Z
LAST-MODIFIED:20241008T081241Z
UID:10007777-1849737600-1849823999@issuekalender.nl
SUMMARY:WERELD ORGAANDONATIE DAG
DESCRIPTION:[vc_row][vc_column][vc_single_image image=”61″ css_animation=”fadeInUp” alignment=”left”][/vc_column][/vc_row][vc_row][vc_column][vc_column_text css_animation=”fadeIn” font_size=”45″ font_family=”Roboto” font_weight=”500″ color=”#57529e”]\nWERELD ORGAANDONATIE DAG \n[/vc_column_text][vc_empty_space height=”10px”][vc_single_image image=”88″ img_size=”medium” css_animation=”fadeInUp” alignment=”left”][/vc_column][/vc_row][vc_row][vc_column][vc_column_text]13 augustus is het Wereld Orgaandonatie Dag. Deze dag is in het leven geroepen om mensen bewust te maken van het belang van orgaandonatie.[/vc_column_text][/vc_column][/vc_row][vc_row][vc_column][vc_single_image image=”61″ css_animation=”fadeInUp” alignment=”left”][/vc_column][/vc_row][vc_row][vc_column width=”1/2″]Issuekalender doorzoeken [/vc_column][vc_column width=”1/2″][/vc_column][/vc_row]
URL:https://issuekalender.nl/issue/wereld-orgaandonatie-dag/2028-08-13/
CATEGORIES:Welzijn en gezondheid
END:VEVENT
END:VCALENDAR