BEGIN:VCALENDAR
VERSION:2.0
PRODID:-//Issuekalender - ECPv6.9.0//NONSGML v1.0//EN
CALSCALE:GREGORIAN
METHOD:PUBLISH
X-ORIGINAL-URL:https://issuekalender.nl
X-WR-CALDESC:Evenementen voor Issuekalender
REFRESH-INTERVAL;VALUE=DURATION:PT1H
X-Robots-Tag:noindex
X-PUBLISHED-TTL:PT1H
BEGIN:VTIMEZONE
TZID:Europe/Amsterdam
BEGIN:DAYLIGHT
TZOFFSETFROM:+0100
TZOFFSETTO:+0200
TZNAME:CEST
DTSTART:20280326T010000
END:DAYLIGHT
BEGIN:STANDARD
TZOFFSETFROM:+0200
TZOFFSETTO:+0100
TZNAME:CET
DTSTART:20281029T010000
END:STANDARD
END:VTIMEZONE
BEGIN:VEVENT
DTSTART;VALUE=DATE:20280501
DTEND;VALUE=DATE:20280601
DTSTAMP:20260423T073117
CREATED:20230716T091859Z
LAST-MODIFIED:20241009T084856Z
UID:10007239-1840752000-1843430399@issuekalender.nl
SUMMARY:MEI PLASTICVRIJ
DESCRIPTION:[vc_row][vc_column][vc_single_image image=”61″ css_animation=”fadeInUp” alignment=”left”][/vc_column][/vc_row][vc_row][vc_column][vc_column_text css_animation=”fadeIn” font_size=”45″ font_family=”Roboto” font_weight=”500″ color=”#57529e”]\nMEI PLASTICVRIJ \n[/vc_column_text][vc_empty_space height=”10px”][vc_single_image image=”88″ img_size=”medium” css_animation=”fadeInUp” alignment=”left”][/vc_column][/vc_row][vc_row][vc_column][vc_column_text]Wordt vooralsnog alleen in België georganiseerd.[/vc_column_text][/vc_column][/vc_row][vc_row][vc_column][vc_single_image image=”61″ css_animation=”fadeInUp” alignment=”left”][/vc_column][/vc_row][vc_row][vc_column width=”1/2″]Issuekalender doorzoeken [/vc_column][vc_column width=”1/2″][/vc_column][/vc_row]
URL:https://issuekalender.nl/issue/mei-plasticvrij/2028-05-01/
CATEGORIES:Mens en maatschappij,Milieu en duurzaamheid
END:VEVENT
BEGIN:VEVENT
DTSTART;VALUE=DATE:20280501
DTEND;VALUE=DATE:20280601
DTSTAMP:20260423T073117
CREATED:20241003T100805Z
LAST-MODIFIED:20241023T122124Z
UID:10008139-1840752000-1843430399@issuekalender.nl
SUMMARY:LYME AWARENESS MAAND
DESCRIPTION:[vc_row][vc_column][vc_single_image image=”61″ css_animation=”fadeInUp” alignment=”left”][/vc_column][/vc_row][vc_row][vc_column][vc_column_text css_animation=”fadeIn” font_size=”45″ font_family=”Roboto” font_weight=”500″ color=”#57529e”]\nLYME AWARENESS MAAND \n[/vc_column_text][vc_empty_space height=”10px”][vc_single_image image=”88″ img_size=”medium” css_animation=”fadeInUp” alignment=”left”][/vc_column][/vc_row][vc_row][vc_column][vc_column_text]De ziekte van Lyme\, ook wel Lymeziekte of Borreliose genoemd\, is een aandoening die veroorzaakt wordt door de Borrelia bacterie. U kunt de ziekte oplopen door een beet van een besmette teek. \nIn de maand mei wordt er stilgestaan bij het gevaar van tekenbeten en wat het betekent om de ziekte van Lyme te hebben.[/vc_column_text][/vc_column][/vc_row][vc_row][vc_column][vc_single_image image=”61″ css_animation=”fadeInUp” alignment=”left”][/vc_column][/vc_row][vc_row][vc_column width=”1/2″]Issuekalender doorzoeken [/vc_column][vc_column width=”1/2″][/vc_column][/vc_row]
URL:https://issuekalender.nl/issue/lyme-awareness-maand-2/2028-05-01/
CATEGORIES:Overige,Welzijn en gezondheid
END:VEVENT
BEGIN:VEVENT
DTSTART;VALUE=DATE:20280522
DTEND;VALUE=DATE:20280523
DTSTAMP:20260423T073117
CREATED:20230716T100048Z
LAST-MODIFIED:20241005T121615Z
UID:10007451-1842566400-1842652799@issuekalender.nl
SUMMARY:INTERNATIONALE DAG VOOR BIOLOGISCHE DIVERSITEIT (VN)
DESCRIPTION:[vc_row][vc_column][vc_single_image image=”61″ css_animation=”fadeInUp” alignment=”left”][/vc_column][/vc_row][vc_row][vc_column][vc_column_text css_animation=”fadeIn” font_size=”45″ font_family=”Roboto” font_weight=”500″ color=”#57529e”]\nINTERNATIONALE DAG VOOR BIOLOGISCHE DIVERSITEIT (VN) \n[/vc_column_text][vc_empty_space height=”10px”][vc_single_image image=”88″ img_size=”medium” css_animation=”fadeInUp” alignment=”left”][/vc_column][/vc_row][vc_row][vc_column][vc_column_text]De VN hebben 22 mei uitgeroepen tot Wereldbiodiversiteitsdag. Biodiversiteit is de verzamelnaam voor de grote verscheidenheid aan micro-organismen\, dieren- en plantensoorten. De dag is in het leven geroepen om aandacht te vragen voor de problematiek rondom biodiversiteit en zo mensen op hun verantwoordelijkheid aan te spreken om het natuurlijk erfgoed te bewaken.[/vc_column_text][/vc_column][/vc_row][vc_row][vc_column][vc_single_image image=”61″ css_animation=”fadeInUp” alignment=”left”][/vc_column][/vc_row][vc_row][vc_column width=”1/2″]Issuekalender doorzoeken [/vc_column][vc_column width=”1/2″][/vc_column][/vc_row]
URL:https://issuekalender.nl/issue/internationale-dag-voor-biologische-diversiteit-vn/2028-05-22/
CATEGORIES:Dierenwelzijn,Milieu en duurzaamheid,Overige
END:VEVENT
BEGIN:VEVENT
DTSTART;VALUE=DATE:20280522
DTEND;VALUE=DATE:20280523
DTSTAMP:20260423T073117
CREATED:20230716T100251Z
LAST-MODIFIED:20241005T121455Z
UID:10007445-1842566400-1842652799@issuekalender.nl
SUMMARY:DAG VAN DE PRAKTIJKONDERSTEUNERS (POH)
DESCRIPTION:[vc_row][vc_column][vc_single_image image=”61″ css_animation=”fadeInUp” alignment=”left”][/vc_column][/vc_row][vc_row][vc_column][vc_column_text css_animation=”fadeIn” font_size=”45″ font_family=”Roboto” font_weight=”500″ color=”#57529e”]\nDAG VAN DE PRAKTIJKONDERSTEUNERS (POH) \n[/vc_column_text][vc_empty_space height=”10px”][vc_single_image image=”88″ img_size=”medium” css_animation=”fadeInUp” alignment=”left”][/vc_column][/vc_row][vc_row][vc_column][vc_column_text]22 MEI: DE DAG VAN DE PRAKTIJKONDERSTEUNERS EN PRAKTIJKVERPLEEGKUNDIGEN \nIn Nederland zetten circa 10.000 praktijkondersteuners zich dagelijks met hart en ziel in voor patiënten en cliënten in de eerstelijnszorg; de huisartsenpraktijk\, de gezondheidscentra\, bij defensie\, in asielzoekerscentra\, in verpleeghuizen en bij de zorg voor verstandelijke gehandicapten. Dit doen zij als medisch generalistische praktijkondersteuner\, POH-ggz\, POH-ouderen\, POH-jeugd of in andere specialismen. Zij verdienen een dag waarop zij bedankt worden voor hun zorg en doorzettingsvermogen. Jaarlijks wordt deze dag op 22 mei gevierd en kunnen mensen die de praktijkondersteuner een warm hart toedragen haar/hem dat laten merken door hun waardering te tonen in welke vorm dan ook. \n22 mei is overigens geen willekeurige datum. Op 22 mei 2007 is onze vereniging de NVvPO opgericht omdat het toen belangrijk was jouw stem te laten horen en het steeds belangrijker wordt jou en je 10.000 collega’s in het land te vertegenwoordigen.[/vc_column_text][/vc_column][/vc_row][vc_row][vc_column][vc_single_image image=”61″ css_animation=”fadeInUp” alignment=”left”][/vc_column][/vc_row][vc_row][vc_column width=”1/2″]Issuekalender doorzoeken [/vc_column][vc_column width=”1/2″][/vc_column][/vc_row]
URL:https://issuekalender.nl/issue/dag-van-de-praktijkondersteuners-poh/2028-05-22/
CATEGORIES:Welzijn en gezondheid,Werk en welzijn
END:VEVENT
BEGIN:VEVENT
DTSTART;VALUE=DATE:20280523
DTEND;VALUE=DATE:20280524
DTSTAMP:20260423T073117
CREATED:20231016T160409Z
LAST-MODIFIED:20241025T100921Z
UID:10008994-1842652800-1842739199@issuekalender.nl
SUMMARY:BEVRIJD JE VOETENDAG
DESCRIPTION:[vc_row][vc_column][vc_single_image image=”61″ css_animation=”fadeInUp” alignment=”left”][/vc_column][/vc_row][vc_row][vc_column][vc_column_text css_animation=”fadeIn” font_size=”45″ font_family=”Roboto” font_weight=”500″ color=”#57529e”]\nBEVRIJD JE VOETENDAG \n[/vc_column_text][vc_empty_space height=”10px”][vc_single_image image=”88″ img_size=”medium” css_animation=”fadeInUp” alignment=”left”][/vc_column][/vc_row][vc_row][vc_column][vc_column_text]Op Bevrijd je voetendag worden door het hele land blotevoetenacties georganiseerd. We willen mensen ervan bewustmaken dat lopen op blote voeten goed voor je is. We stoppen onze voeten weg in stevige schoenen en verliezen daardoor de connectie. Voetspieren worden lui en we kunnen niet meer op de natuurlijke wijze afwikkelen. Dit heeft allerlei voet- en houdingsklachten tot gevolg. Voeten zijn immers het fundament van ons lichaam. Op Bevrijd je voetendag besteden we aandacht aan onze voeten\, we maken meer contact. Voorbeelden van activiteiten zijn: rondje lopen op blote voeten\, blotevoetenpad wandelen\, barefoot running\, voetoefeningen doen etc. Bevrijd je voetendag is voor iedereen. Voor leerkrachten\, gymleraren\, zorgmedewerkers\, fysiotherapeuten\, oefentherapeuten\, pedicures\, yogadocenten\, managers\, kinderen\, cliënten etc.[/vc_column_text][/vc_column][/vc_row][vc_row][vc_column][vc_single_image image=”61″ css_animation=”fadeInUp” alignment=”left”][/vc_column][/vc_row][vc_row][vc_column width=”1/2″]Issuekalender doorzoeken [/vc_column][vc_column width=”1/2″][/vc_column][/vc_row]
URL:https://issuekalender.nl/issue/bevrijd-je-voetendag/2028-05-23/
CATEGORIES:Welzijn en gezondheid
ORGANIZER;CN="Kennis- en opleidingcentrum voor voet%2C houding en beweging":MAILTO:info@voetentraining.nl
END:VEVENT
BEGIN:VEVENT
DTSTART;VALUE=DATE:20280523
DTEND;VALUE=DATE:20280524
DTSTAMP:20260423T073117
CREATED:20251112T092550Z
LAST-MODIFIED:20251112T092550Z
UID:10009255-1842652800-1842739199@issuekalender.nl
SUMMARY:DAG VAN DE VROUWENGEZONDHEID
DESCRIPTION:[vc_row][vc_column][vc_single_image image=”61″ css_animation=”fadeInUp” alignment=”left”][/vc_column][/vc_row][vc_row][vc_column][vc_column_text css_animation=”fadeIn” font_size=”45″ font_family=”Roboto” font_weight=”500″ color=”#57529e”]\nDAG VAN DE VROUWENGEZONDHEID \n[/vc_column_text][vc_empty_space height=”10px”][vc_single_image image=”88″ img_size=”medium” css_animation=”fadeInUp” alignment=”left”][vc_column_text font_size=”20px” font_family=”Roboto” font_weight=”normal”]\n\n\n\n\n\n\n[/vc_column_text][/vc_column][/vc_row][vc_row][vc_column][vc_column_text]De Dag van de Vrouwengezondheid staat in het teken van de vele vrouwen in Nederland die met onverklaarbare gezondheidsklachten leven. Van alle patiënten met onverklaarde klachten is 80 procent vrouw. Het vrouwenlichaam wordt anders ziek dan het mannenlichaam\, terwijl het mannenlichaam de norm is. Meer onderzoek is dringend nodig. \nTijdens de Dag van de Vrouwengezondheid vragen we aandacht voor het anders ziek worden van het vrouwenlichaam en pleiten we voor meer onderzoek. De focus van deze dag ligt op het creëren van bewustwording\, het delen van kennis\, het samenkomen van patiëntenorganisaties en het bekrachtigen van vrouwen om meer naar hun lichaam te luisteren en hun klachten serieus te nemen. Er zullen events\, webinars\, bijeenkomsten en symposia georganiseerd worden\, zowel op de dag zelf\, als door het jaar heen\, in het teken van de gezondheid van vrouwen. \nEr is eerder een petitie georganiseerd vanuit Voices for Women met meer dan 57.000 handtekeningen\, die is overhandigd aan minister Ernst Kuipers en de Tweede kamer. De intentie van deze jaarlijkse dag op 25 mei is om vrouwen te bekrachtigen. Maar ook om een lans voor de zorgprofessionals te breken omdat zij niet de zorg kunnen leveren aan vrouwen door het huidige grote kennishiaat. \n[/vc_column_text][/vc_column][/vc_row][vc_row][vc_column][vc_single_image image=”61″ css_animation=”fadeInUp” alignment=”left”][/vc_column][/vc_row][vc_row][vc_column width=”1/2″]Issuekalender doorzoeken [/vc_column][vc_column width=”1/2″][/vc_column][/vc_row]
URL:https://issuekalender.nl/issue/dag-van-de-vrouwengezondheid-3-2/2028-05-23/
CATEGORIES:Welzijn en gezondheid
ORGANIZER;CN="Stichting Voices for Women":MAILTO:contact@voicesforwomen.nl
END:VEVENT
BEGIN:VEVENT
DTSTART;VALUE=DATE:20280524
DTEND;VALUE=DATE:20280525
DTSTAMP:20260423T073117
CREATED:20230716T095813Z
LAST-MODIFIED:20241005T122422Z
UID:10007463-1842739200-1842825599@issuekalender.nl
SUMMARY:NATIONALE DAG AANDACHT VOOR STERVEN
DESCRIPTION:[vc_row][vc_column][vc_single_image image=”61″ css_animation=”fadeInUp” alignment=”left”][/vc_column][/vc_row][vc_row][vc_column][vc_column_text css_animation=”fadeIn” font_size=”45″ font_family=”Roboto” font_weight=”500″ color=”#57529e”]\nNATIONALE DAG AANDACHT VOOR STERVEN \n[/vc_column_text][vc_empty_space height=”10px”][vc_single_image image=”88″ img_size=”medium” css_animation=”fadeInUp” alignment=”left”][/vc_column][/vc_row][vc_row][vc_column][vc_column_text]De Stichting Landelijk Expertisecentrum heeft 24 mei op de kaart gezet als Nationale Dag Aandacht voor Sterven. \nHet Landelijk Expertisecentrum Sterven is een stichting zonder winstoogmerk en is door de belastingdienst aangemerkt als een Algemeen Nut Beogende Instelling (ANBI). De vier vrouwen achter de stichting zijn allen gepassioneerd in hun dienstbaarheid aan het leven. Met realisme en zachtheid werken zij gestaag aan de intenties zoals hier verwoord. Vanuit innerlijke bezieling en gedreven door de noodzaak en behoefte die zij zien in onze Westerse wereld vormen zij samen de inspirerende kracht achter dit initiatief.[/vc_column_text][/vc_column][/vc_row][vc_row][vc_column][vc_single_image image=”61″ css_animation=”fadeInUp” alignment=”left”][/vc_column][/vc_row][vc_row][vc_column width=”1/2″]Issuekalender doorzoeken [/vc_column][vc_column width=”1/2″][/vc_column][/vc_row]
URL:https://issuekalender.nl/issue/nationale-dag-aandacht-voor-sterven/2028-05-24/
CATEGORIES:Mens en maatschappij,Welzijn en gezondheid
ORGANIZER;CN="Stichting Landelijk Expertisecentrum Sterven":MAILTO:info@landelijkexpertisecentrumsterven.nl
END:VEVENT
BEGIN:VEVENT
DTSTART;VALUE=DATE:20280524
DTEND;VALUE=DATE:20280525
DTSTAMP:20260423T073117
CREATED:20230716T095909Z
LAST-MODIFIED:20241005T122019Z
UID:10007457-1842739200-1842825599@issuekalender.nl
SUMMARY:INTERNATIONALE VROUWENDAG VOOR VREDE EN ONTWAPENING
DESCRIPTION:[vc_row][vc_column][vc_single_image image=”61″ css_animation=”fadeInUp” alignment=”left”][/vc_column][/vc_row][vc_row][vc_column][vc_column_text css_animation=”fadeIn” font_size=”45″ font_family=”Roboto” font_weight=”500″ color=”#57529e”]\nINTERNATIONALE VROUWENDAG VOOR VREDE EN ONTWAPENING \n[/vc_column_text][vc_empty_space height=”10px”][vc_single_image image=”88″ img_size=”medium” css_animation=”fadeInUp” alignment=”left”][/vc_column][/vc_row][vc_row][vc_column][vc_column_text]Tijdens de Koude oorlog in de jaren tachtig organiseerden vrouwen zich in grote aantallen om te protesteren tegen nucleaire wapens en de wapenwedloop. Daarop is toen de Internationale Vrouwendag voor Vrede en Ontwapening in het leven geroepen door Women Peacemakers Program. Een van de bekendste vrouwelijke vredesactivisten ter wereld is Aung San Suu Kyi (19 juni 1945). Zij vecht sinds de jaren tachtig voor democratie en mensenrechten in Myanmar (Birma). In 1991 ontving zij daarvoor de Nobel Prijs voor de Vrede.[/vc_column_text][/vc_column][/vc_row][vc_row][vc_column][vc_single_image image=”61″ css_animation=”fadeInUp” alignment=”left”][/vc_column][/vc_row][vc_row][vc_column width=”1/2″]Issuekalender doorzoeken [/vc_column][vc_column width=”1/2″][/vc_column][/vc_row]
URL:https://issuekalender.nl/issue/internationale-vrouwendag-voor-vrede-en-ontwapening/2028-05-24/
CATEGORIES:Mens en maatschappij,Overige
END:VEVENT
BEGIN:VEVENT
DTSTART;VALUE=DATE:20280525
DTEND;VALUE=DATE:20280526
DTSTAMP:20260423T073117
CREATED:20230716T095709Z
LAST-MODIFIED:20241005T123346Z
UID:10007474-1842825600-1842911999@issuekalender.nl
SUMMARY:INTERNATIONALE DAG VAN DE VERMISTE KINDEREN
DESCRIPTION:[vc_row][vc_column][vc_single_image image=”61″ css_animation=”fadeInUp” alignment=”left”][/vc_column][/vc_row][vc_row][vc_column][vc_column_text css_animation=”fadeIn” font_size=”45″ font_family=”Roboto” font_weight=”500″ color=”#57529e”]\nINTERNATIONALE DAG VAN DE VERMISTE KINDEREN \n[/vc_column_text][vc_empty_space height=”10px”][vc_single_image image=”88″ img_size=”medium” css_animation=”fadeInUp” alignment=”left”][/vc_column][/vc_row][vc_row][vc_column][vc_column_text]Elk jaar op 25 mei wordt stilgestaan bij de Internationale Dag van de Vermiste Kinderen. Dit is de dag dat in 1979 het Amerikaanse jongetje Etan Patz op 6-jarige leeftijd verdween. In 1983 werd naar aanleiding van de vermissing van Etan de 25e mei uitgeroepen tot ’the International Missing Children’s Day’\, de Internationale dag van de Vermiste kinderen.[/vc_column_text][/vc_column][/vc_row][vc_row][vc_column][vc_single_image image=”61″ css_animation=”fadeInUp” alignment=”left”][/vc_column][/vc_row][vc_row][vc_column width=”1/2″]Issuekalender doorzoeken [/vc_column][vc_column width=”1/2″][/vc_column][/vc_row]
URL:https://issuekalender.nl/issue/internationale-dag-van-de-vermiste-kinderen/2028-05-25/
CATEGORIES:Mens en maatschappij,Overige
END:VEVENT
BEGIN:VEVENT
DTSTART;VALUE=DATE:20280526
DTEND;VALUE=DATE:20280527
DTSTAMP:20260423T073117
CREATED:20230716T095355Z
LAST-MODIFIED:20241010T104120Z
UID:10008040-1842912000-1842998399@issuekalender.nl
SUMMARY:DAG VAN HET GESCHEIDEN KIND
DESCRIPTION:[vc_row][vc_column][vc_single_image image=”61″ css_animation=”fadeInUp” alignment=”left”][/vc_column][/vc_row][vc_row][vc_column][vc_column_text css_animation=”fadeIn” font_size=”45″ font_family=”Roboto” font_weight=”500″ color=”#57529e”]\nDAG VAN HET GESCHEIDEN KIND \n[/vc_column_text][vc_empty_space height=”10px”][vc_single_image image=”88″ img_size=”medium” css_animation=”fadeInUp” alignment=”left”][/vc_column][/vc_row][vc_row][vc_column][vc_column_text]26 mei is de ‘Dag van het Gescheiden Kind’. Hoe vertelt een kind wat het voelt tijdens de scheiding? Hoe vertelt een kind wat het wil na de scheiding? Als een kind moet praten over iets waarvoor de ouders zelf nog de juiste woorden moeten vinden\, hoe moet een kind dit dan doen? Kinderen zijn in staat om het anders te doen\, daarom krijgen zij op de ‘Dag van het Gescheiden Kind’ een stem. Ieder kind heeft een verhaal en deze mogen zij delen op 26 mei\, elk jaar. Deze dag is er om kinderen van gescheiden ouders in het licht te zetten.[/vc_column_text][/vc_column][/vc_row][vc_row][vc_column][vc_single_image image=”61″ css_animation=”fadeInUp” alignment=”left”][/vc_column][/vc_row][vc_row][vc_column width=”1/2″]Issuekalender doorzoeken [/vc_column][vc_column width=”1/2″][/vc_column][/vc_row]
URL:https://issuekalender.nl/issue/dag-van-het-gescheiden-kind/2028-05-26/
CATEGORIES:Mens en maatschappij
ORGANIZER;CN="Dag van het gescheiden kind":MAILTO:contact@dagvanhetgescheidenkind.nl, m.hordijk@imk.nl
END:VEVENT
BEGIN:VEVENT
DTSTART;VALUE=DATE:20280526
DTEND;VALUE=DATE:20280530
DTSTAMP:20260423T073117
CREATED:20251117T093851Z
LAST-MODIFIED:20251117T093852Z
UID:10009398-1842912000-1843257599@issuekalender.nl
SUMMARY:DAG VAN HET KASTEEL
DESCRIPTION:[vc_row][vc_column][vc_single_image image=”61″ css_animation=”fadeInUp” alignment=”left”][/vc_column][/vc_row][vc_row][vc_column][vc_column_text css_animation=”fadeIn” font_size=”45″ font_family=”Roboto” font_weight=”500″ color=”#57529e”]\nDAG VAN HET KASTEEL \n[/vc_column_text][vc_empty_space height=”10px”][vc_single_image image=”88″ img_size=”medium” css_animation=”fadeInUp” alignment=”left”][/vc_column][/vc_row][vc_row][vc_column][vc_column_text]Op de Dag van het Kasteel (ieder jaar op Tweede Pinksterdag) opent de Nederlandse Kastelenstichting samen met met eigenaren en beheerders van kastelen de poorten van meer dan 80 buitenplaatsen en ruïnes voor het grote publiek. Op veel locaties zullen ’ter leeringe ende vermaack’ uitvoeringen van ‘living history’ te zien zijn. Ook geven her en der valkeniers\, troubadours en ridders demonstraties van hun kunnen. Bovendien zullen er speciale exposities\, muziek- of theateruitvoeringen worden georganiseerd. Overal zijn deskundige gidsen aanwezig om de bezoekers rond te leiden. \nHou de website in de gaten voor meer informatie over het programma![/vc_column_text][/vc_column][/vc_row][vc_row][vc_column][vc_single_image image=”61″ css_animation=”fadeInUp” alignment=”left”][/vc_column][/vc_row][vc_row][vc_column width=”1/2″]Issuekalender doorzoeken [/vc_column][vc_column width=”1/2″][/vc_column][/vc_row]
URL:https://issuekalender.nl/issue/dag-van-het-kasteel-2/2028-05-26/
CATEGORIES:Kunst en cultuur,Onderwijs en educatie
ORGANIZER;CN="Nederlandse Kastelenstichting":MAILTO:producent@dagvanhetkasteel.nl
END:VEVENT
BEGIN:VEVENT
DTSTART;VALUE=DATE:20280528
DTEND;VALUE=DATE:20280529
DTSTAMP:20260423T073117
CREATED:20230716T095238Z
LAST-MODIFIED:20241025T110011Z
UID:10008046-1843084800-1843171199@issuekalender.nl
SUMMARY:MENSTRUAL HYGIENE DAY
DESCRIPTION:[vc_row][vc_column][vc_single_image image=”61″ css_animation=”fadeInUp” alignment=”left”][/vc_column][/vc_row][vc_row][vc_column][vc_column_text css_animation=”fadeIn” css=”” font_size=”45″ font_family=”Roboto” font_weight=”500″ color=”#57529e”]\nMENSTRUAL HYGIENE DAY \n[/vc_column_text][vc_empty_space height=”10px”][vc_single_image image=”88″ img_size=”medium” css_animation=”fadeInUp” alignment=”left”][/vc_column][/vc_row][vc_row][vc_column][vc_column_text css=””]Op 28 mei is het Menstrual Hygiene Day. \nMenstruele gezondheid is een mensenrechtenkwestie\, niet alleen een gezondheidskwestie.\n\nIedereen heeft recht op lichamelijke autonomie. De mogelijkheid om je lichaam te verzorgen tijdens de menstruatie is een essentieel onderdeel van deze fundamentele vrijheid. Toch hebben honderden miljoenen mensen geen toegang tot menstruatieproducten en adequate faciliteiten voor menstruele gezondheid.\n\nMet dit in gedachten is het thema van de Dag van de Menstruele Hygiëne dit jaar: “Samen voor een #PeriodFriendlyWorld”.\n\nSlechte menstruele gezondheid en hygiëne ondermijnen fundamentele rechten voor vrouwen\, meisjes en mensen die menstrueren en verergeren sociale en economische ongelijkheid. Onvoldoende middelen om de menstruatie onder controle te houden en patronen van uitsluiting en schaamte ondermijnen de menselijke waardigheid. Genderongelijkheid\, extreme armoede\, humanitaire crises en schadelijke tradities kunnen ontbering en stigmatisering versterken.\n\nEr bestaat brede overeenstemming over wat mensen nodig hebben voor een goede menstruele gezondheid. De essentiële elementen: veilige\, aanvaardbare en betrouwbare benodigdheden om de menstruatie te beheren; privacy om van materiaal te wisselen; faciliteiten om veilig en privé te wassen; en informatie om weloverwogen keuzes te maken. Een allesomvattende aanpak die educatie combineert met infrastructuur en met producten en inspanningen om stigmatisering tegen te gaan\, is het meest succesvol in het bereiken van een goede menstruele gezondheid.\n[/vc_column_text][/vc_column][/vc_row][vc_row][vc_column][vc_single_image image=”61″ css_animation=”fadeInUp” alignment=”left”][/vc_column][/vc_row][vc_row][vc_column width=”1/2″]Issuekalender doorzoeken [/vc_column][vc_column width=”1/2″][/vc_column][/vc_row]
URL:https://issuekalender.nl/issue/menstrual-hygiene-day/2028-05-28/
CATEGORIES:Welzijn en gezondheid
END:VEVENT
END:VCALENDAR