BEGIN:VCALENDAR
VERSION:2.0
PRODID:-//Issuekalender - ECPv6.9.0//NONSGML v1.0//EN
CALSCALE:GREGORIAN
METHOD:PUBLISH
X-WR-CALNAME:Issuekalender
X-ORIGINAL-URL:https://issuekalender.nl
X-WR-CALDESC:Evenementen voor Issuekalender
REFRESH-INTERVAL;VALUE=DURATION:PT1H
X-Robots-Tag:noindex
X-PUBLISHED-TTL:PT1H
BEGIN:VTIMEZONE
TZID:Europe/Amsterdam
BEGIN:DAYLIGHT
TZOFFSETFROM:+0100
TZOFFSETTO:+0200
TZNAME:CEST
DTSTART:20280326T010000
END:DAYLIGHT
BEGIN:STANDARD
TZOFFSETFROM:+0200
TZOFFSETTO:+0100
TZNAME:CET
DTSTART:20281029T010000
END:STANDARD
END:VTIMEZONE
BEGIN:VEVENT
DTSTART;VALUE=DATE:20280501
DTEND;VALUE=DATE:20280515
DTSTAMP:20260422T231949
CREATED:20231030T135446Z
LAST-MODIFIED:20241025T105244Z
UID:10009003-1840752000-1841961599@issuekalender.nl
SUMMARY:FAIRTRADE WEEK
DESCRIPTION:[vc_row][vc_column][vc_single_image image=”61″ css_animation=”fadeInUp” alignment=”left”][/vc_column][/vc_row][vc_row][vc_column][vc_column_text css_animation=”fadeIn” css=”” font_size=”45″ font_family=”Roboto” font_weight=”500″ color=”#57529e”]\nFAIRTRADE WEEK \n[/vc_column_text][vc_empty_space height=”10px”][vc_single_image image=”88″ img_size=”medium” css_animation=”fadeInUp” alignment=”left”][/vc_column][/vc_row][vc_row][vc_column][vc_column_text]Het Keurmerk Max Havelaar is het onafhankelijke keurmerk voor Fairtrade. Producten met het Max Havelaar keurmerk zijn geproduceerd en verhandeld onder eerlijke voorwaarden. Consumenten worden gemotiveerd tijdens de Fairtrade Week te kiezen voor Max Havelaar producten. Er worden tal van activiteiten georganiseerd.[/vc_column_text][/vc_column][/vc_row][vc_row][vc_column][vc_single_image image=”61″ css_animation=”fadeInUp” alignment=”left”][/vc_column][/vc_row][vc_row][vc_column width=”1/2″]Issuekalender doorzoeken [/vc_column][vc_column width=”1/2″][/vc_column][/vc_row]
URL:https://issuekalender.nl/issue/fairtrade-week/2028-05-01/
CATEGORIES:Milieu en duurzaamheid,Welzijn en gezondheid
END:VEVENT
BEGIN:VEVENT
DTSTART;VALUE=DATE:20280501
DTEND;VALUE=DATE:20280601
DTSTAMP:20260422T231949
CREATED:20230716T091859Z
LAST-MODIFIED:20241009T084856Z
UID:10007239-1840752000-1843430399@issuekalender.nl
SUMMARY:MEI PLASTICVRIJ
DESCRIPTION:[vc_row][vc_column][vc_single_image image=”61″ css_animation=”fadeInUp” alignment=”left”][/vc_column][/vc_row][vc_row][vc_column][vc_column_text css_animation=”fadeIn” font_size=”45″ font_family=”Roboto” font_weight=”500″ color=”#57529e”]\nMEI PLASTICVRIJ \n[/vc_column_text][vc_empty_space height=”10px”][vc_single_image image=”88″ img_size=”medium” css_animation=”fadeInUp” alignment=”left”][/vc_column][/vc_row][vc_row][vc_column][vc_column_text]Wordt vooralsnog alleen in België georganiseerd.[/vc_column_text][/vc_column][/vc_row][vc_row][vc_column][vc_single_image image=”61″ css_animation=”fadeInUp” alignment=”left”][/vc_column][/vc_row][vc_row][vc_column width=”1/2″]Issuekalender doorzoeken [/vc_column][vc_column width=”1/2″][/vc_column][/vc_row]
URL:https://issuekalender.nl/issue/mei-plasticvrij/2028-05-01/
CATEGORIES:Mens en maatschappij,Milieu en duurzaamheid
END:VEVENT
BEGIN:VEVENT
DTSTART;VALUE=DATE:20280501
DTEND;VALUE=DATE:20280601
DTSTAMP:20260422T231949
CREATED:20241003T100805Z
LAST-MODIFIED:20241023T122124Z
UID:10008139-1840752000-1843430399@issuekalender.nl
SUMMARY:LYME AWARENESS MAAND
DESCRIPTION:[vc_row][vc_column][vc_single_image image=”61″ css_animation=”fadeInUp” alignment=”left”][/vc_column][/vc_row][vc_row][vc_column][vc_column_text css_animation=”fadeIn” font_size=”45″ font_family=”Roboto” font_weight=”500″ color=”#57529e”]\nLYME AWARENESS MAAND \n[/vc_column_text][vc_empty_space height=”10px”][vc_single_image image=”88″ img_size=”medium” css_animation=”fadeInUp” alignment=”left”][/vc_column][/vc_row][vc_row][vc_column][vc_column_text]De ziekte van Lyme\, ook wel Lymeziekte of Borreliose genoemd\, is een aandoening die veroorzaakt wordt door de Borrelia bacterie. U kunt de ziekte oplopen door een beet van een besmette teek. \nIn de maand mei wordt er stilgestaan bij het gevaar van tekenbeten en wat het betekent om de ziekte van Lyme te hebben.[/vc_column_text][/vc_column][/vc_row][vc_row][vc_column][vc_single_image image=”61″ css_animation=”fadeInUp” alignment=”left”][/vc_column][/vc_row][vc_row][vc_column width=”1/2″]Issuekalender doorzoeken [/vc_column][vc_column width=”1/2″][/vc_column][/vc_row]
URL:https://issuekalender.nl/issue/lyme-awareness-maand-2/2028-05-01/
CATEGORIES:Overige,Welzijn en gezondheid
END:VEVENT
BEGIN:VEVENT
DTSTART;VALUE=DATE:20280508
DTEND;VALUE=DATE:20280509
DTSTAMP:20260422T231949
CREATED:20230716T093145Z
LAST-MODIFIED:20251111T131744Z
UID:10007318-1841356800-1841443199@issuekalender.nl
SUMMARY:INTERNATIONALE DAG VAN HET RODE KRUIS
DESCRIPTION:[vc_row][vc_column][vc_single_image image=”61″ css_animation=”fadeInUp” alignment=”left”][/vc_column][/vc_row][vc_row][vc_column][vc_column_text css_animation=”fadeIn” font_size=”45″ font_family=”Roboto” font_weight=”500″ color=”#57529e”]\nINTERNATIONALE DAG VAN HET RODE KRUIS \n[/vc_column_text][vc_empty_space height=”10px”][vc_single_image image=”88″ img_size=”medium” css_animation=”fadeInUp” alignment=”left”][/vc_column][/vc_row][vc_row][vc_column][vc_column_text]Sinds 1948 viert de organisatie van het Rode Kruis de verjaardag van Henry Dunant. Hij richtte in 1863 het Rode Kruis op\, wat later tot de grootste humanitaire organisatie ter wereld zou uitgroeien.[/vc_column_text][/vc_column][/vc_row][vc_row][vc_column][vc_single_image image=”61″ css_animation=”fadeInUp” alignment=”left”][/vc_column][/vc_row][vc_row][vc_column width=”1/2″]Issuekalender doorzoeken [/vc_column][vc_column width=”1/2″][/vc_column][/vc_row]
URL:https://issuekalender.nl/issue/internationale-dag-van-het-rode-kruis/2028-05-08/
CATEGORIES:Overige
ORGANIZER;CN="Het Nederlandse Rode Kruis":MAILTO:service@redcross.nl
END:VEVENT
BEGIN:VEVENT
DTSTART;VALUE=DATE:20280508
DTEND;VALUE=DATE:20280510
DTSTAMP:20260422T231949
CREATED:20230716T093236Z
LAST-MODIFIED:20251111T131753Z
UID:10003935-1841356800-1841529599@issuekalender.nl
SUMMARY:DAG VOOR HERDENKING EN VERZOENING VAN DEGENEN DIE ZIJN OMGEKOMEN IN DE TWEEDE WERELDOORLOG (VN)
DESCRIPTION:[vc_row][vc_column][vc_single_image image=”61″ css_animation=”fadeInUp” alignment=”left”][/vc_column][/vc_row][vc_row][vc_column][vc_column_text css_animation=”fadeIn” font_size=”45″ font_family=”Roboto” font_weight=”500″ color=”#57529e”]\nDAG VOOR HERDENKING EN VERZOENING VAN DEGENEN DIE ZIJN OMGEKOMEN IN DE TWEEDE WERELDOORLOG (VN) \n[/vc_column_text][vc_empty_space height=”10px”][vc_single_image image=”88″ img_size=”medium” css_animation=”fadeInUp” alignment=”left”][/vc_column][/vc_row][vc_row][vc_column][vc_column_text]In 2004 hebben de Verenigde Naties 8 en 9 mei aangewezen als dagen waarop we alle slachtoffers van de Tweede Wereldoorlog herdenken\, ondanks dat verschillende lidstaten al dagen van overwinning\, bevrijding of herdenking hebben. Vandaar dat deze dagen ook in het teken van verzoening staan.[/vc_column_text][/vc_column][/vc_row][vc_row][vc_column][vc_single_image image=”61″ css_animation=”fadeInUp” alignment=”left”][/vc_column][/vc_row][vc_row][vc_column width=”1/2″]Issuekalender doorzoeken [/vc_column][vc_column width=”1/2″][/vc_column][/vc_row]
URL:https://issuekalender.nl/issue/dag-voor-herdenking-en-verzoening-van-degenen-die-zijn-omgekomen-in-de-tweede-wereldoorlog-vn/2028-05-08/
CATEGORIES:Overige
END:VEVENT
BEGIN:VEVENT
DTSTART;VALUE=DATE:20280508
DTEND;VALUE=DATE:20280515
DTSTAMP:20260422T231949
CREATED:20251125T140317Z
LAST-MODIFIED:20251125T140451Z
UID:10009531-1841356800-1841961599@issuekalender.nl
SUMMARY:Leg je telefoon weg challenge
DESCRIPTION:[vc_row][vc_column][vc_single_image image=”61″ css_animation=”fadeInUp” alignment=”left”][/vc_column][/vc_row][vc_row][vc_column][vc_column_text css_animation=”fadeIn” font_size=”45″ font_family=”Roboto” font_weight=”500″ color=”#57529e”]\nLeg je telefoon weg challenge \n[/vc_column_text][vc_empty_space height=”10px”][vc_single_image image=”88″ img_size=”medium” css_animation=”fadeInUp” alignment=”left”][/vc_column][/vc_row][vc_row][vc_column][vc_column_text]\nWegens het succes van de eerste editie organiseert MIND van 11 t/m 17 mei 2026 voor de tweede keer de Leg je telefoon weg challenge. De uitdaging: maximaal een half uur per dag op je telefoon. Met als doel weer controle over je smartphone hebben\, in plaats van andersom. \nWaarom deze challenge?\nVeel mensen vinden het moeilijk om goed met hun telefoon om te gaan. Dit terwijl te veel telefoongebruik je concentratie\, productiviteit\, creativiteit en gevoel van rust beïnvloedt. Er zijn steeds meer zorgen\, maar we weten vaak niet hoe we het anders kunnen doen. \nWe zijn niet tegen de smartphone\, de smartphone brengt ook veel goeds. Maar we zijn er te afhankelijk van. \n[/vc_column_text][/vc_column][/vc_row][vc_row][vc_column][vc_single_image image=”61″ css_animation=”fadeInUp” alignment=”left”][/vc_column][/vc_row][vc_row][vc_column width=”1/2″]Issuekalender doorzoeken [/vc_column][vc_column width=”1/2″][/vc_column][/vc_row]
URL:https://issuekalender.nl/issue/leg-je-telefoon-weg-challenge/2028-05-08/
CATEGORIES:Mens en maatschappij
ORGANIZER;CN="https%3A//wijzijnmind.nl/":MAILTO:hulplijn@wijzijnmind.nl
END:VEVENT
BEGIN:VEVENT
DTSTART;VALUE=DATE:20280509
DTEND;VALUE=DATE:20280510
DTSTAMP:20260422T231949
CREATED:20230716T093454Z
LAST-MODIFIED:20251111T131810Z
UID:10007343-1841443200-1841529599@issuekalender.nl
SUMMARY:EUROPADAG
DESCRIPTION:[vc_row][vc_column][vc_single_image image=”61″ css_animation=”fadeInUp” alignment=”left”][/vc_column][/vc_row][vc_row][vc_column][vc_column_text css_animation=”fadeIn” font_size=”45″ font_family=”Roboto” font_weight=”500″ color=”#57529e”]\nEUROPADAG \n[/vc_column_text][vc_empty_space height=”10px”][vc_single_image image=”88″ img_size=”medium” css_animation=”fadeInUp” alignment=”left”][/vc_column][/vc_row][vc_row][vc_column][vc_column_text]Op 9 mei wordt jaarlijks de Europadag gevierd. Op 9 mei 1950 werd de Schuman-declaratie getekend. De toenmalige Franse minister van Buitenlandse Zaken\, Robert Schuman\, presenteerde op die dag zijn plan voor een nieuwe vorm van politiek samenwerken om voor altijd oorlog buiten de deur te houden. \nTer gelegenheid van Europadag openen de EU-instellingen in Brussel en Straatsburg begin mei hun deuren voor het publiek. Over heel Europa en trouwens ook elders in de wereld vinden er allerlei activiteiten en activiteiten plaats voor mensen van alle leeftijden.[/vc_column_text][/vc_column][/vc_row][vc_row][vc_column][vc_single_image image=”61″ css_animation=”fadeInUp” alignment=”left”][/vc_column][/vc_row][vc_row][vc_column width=”1/2″]Issuekalender doorzoeken [/vc_column][vc_column width=”1/2″][/vc_column][/vc_row]
URL:https://issuekalender.nl/issue/europadag/2028-05-09/
CATEGORIES:Overige
END:VEVENT
BEGIN:VEVENT
DTSTART;VALUE=DATE:20280509
DTEND;VALUE=DATE:20280510
DTSTAMP:20260422T231949
CREATED:20231207T092931Z
LAST-MODIFIED:20241009T092344Z
UID:10008024-1841443200-1841529599@issuekalender.nl
SUMMARY:EUROPESE DAG VAN DE BEROERTE
DESCRIPTION:[vc_row][vc_column][vc_single_image image=”61″ css_animation=”fadeInUp” alignment=”left”][/vc_column][/vc_row][vc_row][vc_column][vc_column_text css_animation=”fadeIn” font_size=”45″ font_family=”Roboto” font_weight=”500″ color=”#57529e”]\nEUROPESE DAG VAN DE BEROERTE \n[/vc_column_text][vc_empty_space height=”10px”][vc_single_image image=”88″ img_size=”medium” css_animation=”fadeInUp” alignment=”left”][/vc_column][/vc_row][vc_row][vc_column][vc_column_text css=””]Op de Europese Dag van de Beroerte\, jaarlijks op de tweede dinsdag in mei\, wordt er aandacht gevraagd voor de oorzaken en gevolgen van een beroerte of CVA. \nElk jaar wordt\, onder auspiciën van de officiële Europese patiëntenorganisatie Safestroke.eu\, de Europese Dag van de Beroerte gehouden. In Nederland is de organisatie en coördinatie in handen van Hersenletsel.nl. Op deze internationale preventiedag wordt extra aandacht gevraagd voor een beroerte\, ook wel CVA genoemd. Een CVA is een hersenbloeding of herseninfarct waar in Nederland meer dan 100 mensen per dag mee getroffen worden! Het is één van de meest levensbedreigende aandoeningen met circa 10.000 doden per jaar. Daarnaast is het de grootste oorzaak van invaliditeit in Nederland. Het aantal slachtoffers van een CVA is heel groot.[/vc_column_text][/vc_column][/vc_row][vc_row][vc_column][vc_single_image image=”61″ css_animation=”fadeInUp” alignment=”left”][/vc_column][/vc_row][vc_row][vc_column width=”1/2″]Issuekalender doorzoeken [/vc_column][vc_column width=”1/2″][/vc_column][/vc_row]
URL:https://issuekalender.nl/issue/europese-dag-van-de-beroerte/2028-05-09/
CATEGORIES:Welzijn en gezondheid
END:VEVENT
BEGIN:VEVENT
DTSTART;VALUE=DATE:20280509
DTEND;VALUE=DATE:20280516
DTSTAMP:20260422T231949
CREATED:20251117T093139Z
LAST-MODIFIED:20251117T093139Z
UID:10009387-1841443200-1842047999@issuekalender.nl
SUMMARY:WORLD SALT AWARENESS WEEK
DESCRIPTION:[vc_row][vc_column][vc_single_image image=”61″ css_animation=”fadeInUp” alignment=”left”][/vc_column][/vc_row][vc_row][vc_column][vc_column_text css_animation=”fadeIn” font_size=”45″ font_family=”Roboto” font_weight=”500″ color=”#57529e”]\nWORLD SALT AWARENESS WEEK \n[/vc_column_text][vc_empty_space height=”10px”][vc_single_image image=”88″ img_size=”medium” css_animation=”fadeInUp” alignment=”left”][/vc_column][/vc_row][vc_row][vc_column][vc_column_text]Awareness-week over zoutreductie. Deze week wordt ieder jaar gehouden.[/vc_column_text][/vc_column][/vc_row][vc_row][vc_column][vc_single_image image=”61″ css_animation=”fadeInUp” alignment=”left”][/vc_column][/vc_row][vc_row][vc_column width=”1/2″]Issuekalender doorzoeken [/vc_column][vc_column width=”1/2″][/vc_column][/vc_row]
URL:https://issuekalender.nl/issue/world-salt-awareness-week-2/2028-05-09/
CATEGORIES:Welzijn en gezondheid
END:VEVENT
BEGIN:VEVENT
DTSTART;VALUE=DATE:20280512
DTEND;VALUE=DATE:20280513
DTSTAMP:20260422T231949
CREATED:20230716T093744Z
LAST-MODIFIED:20251111T131821Z
UID:10007360-1841702400-1841788799@issuekalender.nl
SUMMARY:DAG VAN DE VERPLEGING
DESCRIPTION:[vc_row][vc_column][vc_single_image image=”61″ css_animation=”fadeInUp” alignment=”left”][/vc_column][/vc_row][vc_row][vc_column][vc_column_text css_animation=”fadeIn” font_size=”45″ font_family=”Roboto” font_weight=”500″ color=”#57529e”]\nDAG VAN DE VERPLEGING \n[/vc_column_text][vc_empty_space height=”10px”][vc_single_image image=”88″ img_size=”medium” css_animation=”fadeInUp” alignment=”left”][/vc_column][/vc_row][vc_row][vc_column][vc_column_text]12 mei is de geboortedag van Florence Nightingale\, een Britse oorlogsverpleegster wie werkzaam was tijdens de Krimoorlog. Ze was vastbesloten het leed van de gewonden en de stervende te verlichten en de zorg te verbeteren. Haar acties waren het begin van het Rode Kruis. De Dag van de Verpleging herinnert mensen aan het goede werk dat medewerkers in de zorg verrichtten en met deze dag worden deze mensen in het zonnetje gezet.[/vc_column_text][/vc_column][/vc_row][vc_row][vc_column][vc_single_image image=”61″ css_animation=”fadeInUp” alignment=”left”][/vc_column][/vc_row][vc_row][vc_column width=”1/2″]Issuekalender doorzoeken [/vc_column][vc_column width=”1/2″][/vc_column][/vc_row]
URL:https://issuekalender.nl/issue/dag-van-de-verpleging/2028-05-12/
CATEGORIES:Welzijn en gezondheid
ORGANIZER;CN="Verpleegkundigen & Verzorgenden Nederland":MAILTO:info@venvn.nl
END:VEVENT
BEGIN:VEVENT
DTSTART;VALUE=DATE:20280513
DTEND;VALUE=DATE:20280514
DTSTAMP:20260422T231949
CREATED:20230716T093923Z
LAST-MODIFIED:20241004T085837Z
UID:10007349-1841788800-1841875199@issuekalender.nl
SUMMARY:INTERNATIONALE DAG VAN DE TREKVOGEL (VN)
DESCRIPTION:[vc_row][vc_column][vc_single_image image=”61″ css_animation=”fadeInUp” alignment=”left”][/vc_column][/vc_row][vc_row][vc_column][vc_column_text css_animation=”fadeIn” font_size=”45″ font_family=”Roboto” font_weight=”500″ color=”#57529e”]\nINTERNATIONALE DAG VAN DE TREKVOGEL (VN) \n[/vc_column_text][vc_empty_space height=”10px”][vc_single_image image=”88″ img_size=”medium” css_animation=”fadeInUp” alignment=”left”][/vc_column][/vc_row][vc_row][vc_column][vc_column_text]De Dag van de Trekvogel (World Migratory Bird Day)  wordt gehouden op de tweede zaterdag in mei . Op deze dag wordt extra aandacht gevraagd voor trekvogels.[/vc_column_text][/vc_column][/vc_row][vc_row][vc_column][vc_single_image image=”61″ css_animation=”fadeInUp” alignment=”left”][/vc_column][/vc_row][vc_row][vc_column width=”1/2″]Issuekalender doorzoeken [/vc_column][vc_column width=”1/2″][/vc_column][/vc_row]
URL:https://issuekalender.nl/issue/internationale-dag-van-de-trekvogel-vn/2028-05-13/
CATEGORIES:Dierenwelzijn
END:VEVENT
BEGIN:VEVENT
DTSTART;VALUE=DATE:20280513
DTEND;VALUE=DATE:20280514
DTSTAMP:20260422T231949
CREATED:20230716T094013Z
LAST-MODIFIED:20241025T101406Z
UID:10008998-1841788800-1841875199@issuekalender.nl
SUMMARY:REDDINGBOOTDAG
DESCRIPTION:[vc_row][vc_column][vc_single_image image=”61″ css_animation=”fadeInUp” alignment=”left”][/vc_column][/vc_row][vc_row][vc_column][vc_column_text css_animation=”fadeIn” font_size=”45″ font_family=”Roboto” font_weight=”500″ color=”#57529e”]\nREDDINGBOOTDAG \n[/vc_column_text][vc_empty_space height=”10px”][vc_single_image image=”88″ img_size=”medium” css_animation=”fadeInUp” alignment=”left”][/vc_column][/vc_row][vc_row][vc_column][vc_column_text]Een keer per jaar organiseert de Koninklijke Nederlandse Redding Maatschappij (KNRM) haar landelijke open dag. Dé dag om actief kennis te maken met het werk\, de professionele vrijwilligers en het materieel van de KNRM. Bij de KNRM draait alles om vrijwilligerswerk. Het reddingswerk kan niet bestaan zonder de 1.100 vrijwilligers.[/vc_column_text][/vc_column][/vc_row][vc_row][vc_column][vc_single_image image=”61″ css_animation=”fadeInUp” alignment=”left”][/vc_column][/vc_row][vc_row][vc_column width=”1/2″]Issuekalender doorzoeken [/vc_column][vc_column width=”1/2″][/vc_column][/vc_row]
URL:https://issuekalender.nl/issue/reddingbootdag/2028-05-13/
CATEGORIES:Onderwijs en educatie,Veiligheid
END:VEVENT
BEGIN:VEVENT
DTSTART;VALUE=DATE:20280514
DTEND;VALUE=DATE:20280515
DTSTAMP:20260422T231949
CREATED:20230716T094110Z
LAST-MODIFIED:20241004T091724Z
UID:10007380-1841875200-1841961599@issuekalender.nl
SUMMARY:HERDENKING VAN DE BOMBARDEMENTEN OP ROTTERDAM
DESCRIPTION:[vc_row][vc_column][vc_single_image image=”61″ css_animation=”fadeInUp” alignment=”left”][/vc_column][/vc_row][vc_row][vc_column][vc_column_text css_animation=”fadeIn” font_size=”45″ font_family=”Roboto” font_weight=”500″ color=”#57529e”]\nHERDENKING VAN DE BOMBARDEMENTEN OP ROTTERDAM \n[/vc_column_text][vc_empty_space height=”10px”][vc_single_image image=”88″ img_size=”medium” css_animation=”fadeInUp” alignment=”left”][/vc_column][/vc_row][vc_row][vc_column][vc_column_text]Het bombardement en de daaropvolgende branden\, legden meer dan 24.000 woningen in de as. Ongeveer 850 mensen overleefden de bommenregen niet. Ruim 80.000 Rotterdammers werden dakloos. Het bombardement had een afschrikwekkend effect. Mede door de aanval op Rotterdam gaf ook de rest van Nederland zich over. Het zou vijf jaar duren voordat Nederland werd bevrijd. Op 14 mei wordt het bombardement en de slachtoffers herdacht.[/vc_column_text][/vc_column][/vc_row][vc_row][vc_column][vc_single_image image=”61″ css_animation=”fadeInUp” alignment=”left”][/vc_column][/vc_row][vc_row][vc_column width=”1/2″]Issuekalender doorzoeken [/vc_column][vc_column width=”1/2″][/vc_column][/vc_row]
URL:https://issuekalender.nl/issue/herdenking-van-de-bombardementen-op-rotterdam/2028-05-14/
CATEGORIES:Overige
ORGANIZER;CN="Brandgrens Rotterdam":MAILTO:infogar@rotterdam.nl
END:VEVENT
BEGIN:VEVENT
DTSTART;VALUE=DATE:20280514
DTEND;VALUE=DATE:20280515
DTSTAMP:20260422T231949
CREATED:20231207T093208Z
LAST-MODIFIED:20241009T091403Z
UID:10007354-1841875200-1841961599@issuekalender.nl
SUMMARY:MOEDERDAG
DESCRIPTION:[vc_row][vc_column][vc_single_image image=”61″ css_animation=”fadeInUp” alignment=”left”][/vc_column][/vc_row][vc_row][vc_column][vc_column_text css_animation=”fadeIn” font_size=”45″ font_family=”Roboto” font_weight=”500″ color=”#57529e”]\nMOEDERDAG \n[/vc_column_text][vc_empty_space height=”10px”][vc_single_image image=”88″ img_size=”medium” css_animation=”fadeInUp” alignment=”left”][/vc_column][/vc_row][vc_row][vc_column][vc_column_text css=””]Moederdag wordt gevierd ter ere van het moederschap. \nMoederdag is een internationale dag. In Nederland wordt moederdag altijd op de tweede zondag in mei gevierd. \nHet vereren van moeders is een hele oude traditie die teruggaat op de moedercultus in het klassieke Griekenland.[/vc_column_text][/vc_column][/vc_row][vc_row][vc_column][vc_single_image image=”61″ css_animation=”fadeInUp” alignment=”left”][/vc_column][/vc_row][vc_row][vc_column width=”1/2″]Issuekalender doorzoeken [/vc_column][vc_column width=”1/2″][/vc_column][/vc_row]
URL:https://issuekalender.nl/issue/moederdag/2028-05-14/
CATEGORIES:Overige
END:VEVENT
END:VCALENDAR