BEGIN:VCALENDAR
VERSION:2.0
PRODID:-//Issuekalender - ECPv6.9.0//NONSGML v1.0//EN
CALSCALE:GREGORIAN
METHOD:PUBLISH
X-WR-CALNAME:Issuekalender
X-ORIGINAL-URL:https://issuekalender.nl
X-WR-CALDESC:Evenementen voor Issuekalender
REFRESH-INTERVAL;VALUE=DURATION:PT1H
X-Robots-Tag:noindex
X-PUBLISHED-TTL:PT1H
BEGIN:VTIMEZONE
TZID:Europe/Amsterdam
BEGIN:DAYLIGHT
TZOFFSETFROM:+0100
TZOFFSETTO:+0200
TZNAME:CEST
DTSTART:20280326T010000
END:DAYLIGHT
BEGIN:STANDARD
TZOFFSETFROM:+0200
TZOFFSETTO:+0100
TZNAME:CET
DTSTART:20281029T010000
END:STANDARD
END:VTIMEZONE
BEGIN:VEVENT
DTSTART;VALUE=DATE:20280422
DTEND;VALUE=DATE:20280506
DTSTAMP:20260422T144837
CREATED:20251201T141037Z
LAST-MODIFIED:20251201T141037Z
UID:10009620-1839974400-1841183999@issuekalender.nl
SUMMARY:Leven met Water Week
DESCRIPTION:[vc_row][vc_column][vc_single_image image=”61″ css_animation=”fadeInUp” alignment=”left”][/vc_column][/vc_row][vc_row][vc_column][vc_column_text css_animation=”fadeIn” font_size=”45″ font_family=”Roboto” font_weight=”500″ color=”#57529e”]\nLEVEN MET WATER WEEK \n[/vc_column_text][vc_empty_space height=”10px”][vc_single_image image=”88″ img_size=”medium” css_animation=”fadeInUp” alignment=”left”][/vc_column][/vc_row][vc_row][vc_column][vc_column_text]\nHet veranderende klimaat zorgt ervoor dat we steeds vaker te maken krijgen met droge perioden of juist met extreme neerslag. Dat kan leiden tot watertekort of juist tot wateroverlast. Ook raakt ons oppervlaktewater vervuild door de manier waarop we leven\, het klimaat dat verandert en door vervuild water dat ons land in stroomt. \nEr zijn dus nogal wat uitdagingen als het gaat om water. En dit vraagt om actie. We moeten anders met ons water omgaan. Dat moeten we samen doen: de overheid\, bedrijven én alle Nederlanders. \n[/vc_column_text][/vc_column][/vc_row][vc_row][vc_column][vc_single_image image=”61″ css_animation=”fadeInUp” alignment=”left”][/vc_column][/vc_row][vc_row][vc_column width=”1/2″]Issuekalender doorzoeken [/vc_column][vc_column width=”1/2″][/vc_column][/vc_row]
URL:https://issuekalender.nl/issue/leven-met-water-week/2028-04-22/
CATEGORIES:Mens en maatschappij
END:VEVENT
BEGIN:VEVENT
DTSTART;VALUE=DATE:20280501
DTEND;VALUE=DATE:20280502
DTSTAMP:20260422T144837
CREATED:20230716T091813Z
LAST-MODIFIED:20251111T130928Z
UID:10007244-1840752000-1840838399@issuekalender.nl
SUMMARY:INTERNATIONALE DAG VAN DE ARBEID
DESCRIPTION:[vc_row][vc_column][vc_single_image image=”61″ css_animation=”fadeInUp” alignment=”left”][/vc_column][/vc_row][vc_row][vc_column][vc_column_text css_animation=”fadeIn” font_size=”45″ font_family=”Roboto” font_weight=”500″ color=”#57529e”]\nINTERNATIONALE DAG VAN DE ARBEID \n[/vc_column_text][vc_empty_space height=”10px”][vc_single_image image=”88″ img_size=”medium” css_animation=”fadeInUp” alignment=”left”][/vc_column][/vc_row][vc_row][vc_column][vc_column_text]In Nederland wordt deze dag niet als nationale feestdag beschouwd maar in veel andere landen wel\, waar men vrij krijgt op 1 mei. Men viert de strijd en de waardigheid van de arbeidersklasse en ventileert de hoop op een rechtvaardige samenleving. Begonnen in 1889 als herdenking van de moord op demonstrerende stakers in Chicago in 1888. Zij droegen voor het eerst een rode vlag mee. \nOp 1 mei vierde men vroeger het lentefeest. Later werd het pas bekend als “Dag van de Arbeid”. De invoering van de achturige werkdag was het begin van de 1 mei-viering als viering van de arbeidersbeweging. In 1888 besloot de Amerikaanse vakbondsfederatie\, American Federation of Labor\, om voortaan op 1 mei jaarlijks te demonstreren voor de invoering van een 8-urige werkdag. Het voorstel werd in 1889 in Parijs overgenomen op het eerste congres van de Tweede Internationale. Het doel was met de 1 mei-viering de strijd voor de achturige werkdag te versterken.[/vc_column_text][/vc_column][/vc_row][vc_row][vc_column][vc_single_image image=”61″ css_animation=”fadeInUp” alignment=”left”][/vc_column][/vc_row][vc_row][vc_column width=”1/2″]Issuekalender doorzoeken [/vc_column][vc_column width=”1/2″][/vc_column][/vc_row]
URL:https://issuekalender.nl/issue/internationale-dag-van-de-arbeid/2028-05-01/
CATEGORIES:Overige
END:VEVENT
BEGIN:VEVENT
DTSTART;VALUE=DATE:20280501
DTEND;VALUE=DATE:20280515
DTSTAMP:20260422T144837
CREATED:20231030T135446Z
LAST-MODIFIED:20241025T105244Z
UID:10009003-1840752000-1841961599@issuekalender.nl
SUMMARY:FAIRTRADE WEEK
DESCRIPTION:[vc_row][vc_column][vc_single_image image=”61″ css_animation=”fadeInUp” alignment=”left”][/vc_column][/vc_row][vc_row][vc_column][vc_column_text css_animation=”fadeIn” css=”” font_size=”45″ font_family=”Roboto” font_weight=”500″ color=”#57529e”]\nFAIRTRADE WEEK \n[/vc_column_text][vc_empty_space height=”10px”][vc_single_image image=”88″ img_size=”medium” css_animation=”fadeInUp” alignment=”left”][/vc_column][/vc_row][vc_row][vc_column][vc_column_text]Het Keurmerk Max Havelaar is het onafhankelijke keurmerk voor Fairtrade. Producten met het Max Havelaar keurmerk zijn geproduceerd en verhandeld onder eerlijke voorwaarden. Consumenten worden gemotiveerd tijdens de Fairtrade Week te kiezen voor Max Havelaar producten. Er worden tal van activiteiten georganiseerd.[/vc_column_text][/vc_column][/vc_row][vc_row][vc_column][vc_single_image image=”61″ css_animation=”fadeInUp” alignment=”left”][/vc_column][/vc_row][vc_row][vc_column width=”1/2″]Issuekalender doorzoeken [/vc_column][vc_column width=”1/2″][/vc_column][/vc_row]
URL:https://issuekalender.nl/issue/fairtrade-week/2028-05-01/
CATEGORIES:Milieu en duurzaamheid,Welzijn en gezondheid
END:VEVENT
BEGIN:VEVENT
DTSTART;VALUE=DATE:20280501
DTEND;VALUE=DATE:20280601
DTSTAMP:20260422T144837
CREATED:20230716T091859Z
LAST-MODIFIED:20241009T084856Z
UID:10007239-1840752000-1843430399@issuekalender.nl
SUMMARY:MEI PLASTICVRIJ
DESCRIPTION:[vc_row][vc_column][vc_single_image image=”61″ css_animation=”fadeInUp” alignment=”left”][/vc_column][/vc_row][vc_row][vc_column][vc_column_text css_animation=”fadeIn” font_size=”45″ font_family=”Roboto” font_weight=”500″ color=”#57529e”]\nMEI PLASTICVRIJ \n[/vc_column_text][vc_empty_space height=”10px”][vc_single_image image=”88″ img_size=”medium” css_animation=”fadeInUp” alignment=”left”][/vc_column][/vc_row][vc_row][vc_column][vc_column_text]Wordt vooralsnog alleen in België georganiseerd.[/vc_column_text][/vc_column][/vc_row][vc_row][vc_column][vc_single_image image=”61″ css_animation=”fadeInUp” alignment=”left”][/vc_column][/vc_row][vc_row][vc_column width=”1/2″]Issuekalender doorzoeken [/vc_column][vc_column width=”1/2″][/vc_column][/vc_row]
URL:https://issuekalender.nl/issue/mei-plasticvrij/2028-05-01/
CATEGORIES:Mens en maatschappij,Milieu en duurzaamheid
END:VEVENT
BEGIN:VEVENT
DTSTART;VALUE=DATE:20280501
DTEND;VALUE=DATE:20280601
DTSTAMP:20260422T144837
CREATED:20241003T100805Z
LAST-MODIFIED:20241023T122124Z
UID:10008139-1840752000-1843430399@issuekalender.nl
SUMMARY:LYME AWARENESS MAAND
DESCRIPTION:[vc_row][vc_column][vc_single_image image=”61″ css_animation=”fadeInUp” alignment=”left”][/vc_column][/vc_row][vc_row][vc_column][vc_column_text css_animation=”fadeIn” font_size=”45″ font_family=”Roboto” font_weight=”500″ color=”#57529e”]\nLYME AWARENESS MAAND \n[/vc_column_text][vc_empty_space height=”10px”][vc_single_image image=”88″ img_size=”medium” css_animation=”fadeInUp” alignment=”left”][/vc_column][/vc_row][vc_row][vc_column][vc_column_text]De ziekte van Lyme\, ook wel Lymeziekte of Borreliose genoemd\, is een aandoening die veroorzaakt wordt door de Borrelia bacterie. U kunt de ziekte oplopen door een beet van een besmette teek. \nIn de maand mei wordt er stilgestaan bij het gevaar van tekenbeten en wat het betekent om de ziekte van Lyme te hebben.[/vc_column_text][/vc_column][/vc_row][vc_row][vc_column][vc_single_image image=”61″ css_animation=”fadeInUp” alignment=”left”][/vc_column][/vc_row][vc_row][vc_column width=”1/2″]Issuekalender doorzoeken [/vc_column][vc_column width=”1/2″][/vc_column][/vc_row]
URL:https://issuekalender.nl/issue/lyme-awareness-maand-2/2028-05-01/
CATEGORIES:Overige,Welzijn en gezondheid
END:VEVENT
BEGIN:VEVENT
DTSTART;VALUE=DATE:20280502
DTEND;VALUE=DATE:20280503
DTSTAMP:20260422T144837
CREATED:20230716T092622Z
LAST-MODIFIED:20251111T131510Z
UID:10009217-1840838400-1840924799@issuekalender.nl
SUMMARY:NATIONALE BEVRIJDINGSDAG
DESCRIPTION:[vc_row][vc_column][vc_single_image image=”61″ css_animation=”fadeInUp” alignment=”left”][/vc_column][/vc_row][vc_row][vc_column][vc_column_text css_animation=”fadeIn” font_size=”45″ font_family=”Roboto” font_weight=”500″ color=”#57529e”]\nNATIONALE BEVRIJDINGSDAG \n[/vc_column_text][vc_empty_space height=”10px”][vc_single_image image=”88″ img_size=”medium” css_animation=”fadeInUp” alignment=”left”][/vc_column][/vc_row][vc_row][vc_column][vc_column_text]Op 5 mei vieren we dat we in Nederland in vrijheid leven. We vieren dat we in 1945 bevrijd zijn van de Duitse bezetting in Europa en de Japanse bezetting in Azië en dat we sindsdien in het Koninkrijk der Nederlanden vrij zijn van oorlog en onderdrukking. 5 mei is ook een dag om ons te bezinnen op het belang van vrijheid en ons te realiseren dat vrijheid kwetsbaar is. Voor de vrijheid in Nederland hebben velen gevochten en zelfs hun leven gegeven. Het einde van de Tweede Wereldoorlog betekende niet dat een einde kwam aan oorlog in de wereld. Nog dagelijks lijden mensen onder gewapende conflicten en de schending van mensenrechten. Op veel plaatsen ter wereld moeten mensen dagelijks vechten voor hun bestaan. 5 mei is daarom óók de dag waarop we ons bezinnen op onvrijheid elders in de wereld.[/vc_column_text][/vc_column][/vc_row][vc_row][vc_column][vc_single_image image=”61″ css_animation=”fadeInUp” alignment=”left”][/vc_column][/vc_row][vc_row][vc_column width=”1/2″]Issuekalender doorzoeken [/vc_column][vc_column width=”1/2″][/vc_column][/vc_row]
URL:https://issuekalender.nl/issue/nationale-bevrijdingsdag/2028-05-02/
CATEGORIES:Mens en maatschappij
ORGANIZER;CN="Nationaal Comit%C3%A9 4 en 5 mei":MAILTO:info@4en5mei.nl
END:VEVENT
BEGIN:VEVENT
DTSTART;VALUE=DATE:20280502
DTEND;VALUE=DATE:20280503
DTSTAMP:20260422T144837
CREATED:20231005T132009Z
LAST-MODIFIED:20241009T090758Z
UID:10007313-1840838400-1840924799@issuekalender.nl
SUMMARY:WERELD ASTMADAG
DESCRIPTION:[vc_row][vc_column][vc_single_image image=”61″ css_animation=”fadeInUp” alignment=”left”][/vc_column][/vc_row][vc_row][vc_column][vc_column_text css_animation=”fadeIn” font_size=”45″ font_family=”Roboto” font_weight=”500″ color=”#57529e”]\nWERELD ASTMADAG \n[/vc_column_text][vc_empty_space height=”10px”][vc_single_image image=”88″ img_size=”medium” css_animation=”fadeInUp” alignment=”left”][/vc_column][/vc_row][vc_row][vc_column][vc_column_text]Iedere eerste dinsdag van mei organiseert het Globale Initiatief voor Astma (GINA) in samenwerking met gezondheidszorggroepen en astmaopvoeders de Wereld Astmadag om voorlichting over astma en astmazorg over de hele wereld te verbeteren.[/vc_column_text][/vc_column][/vc_row][vc_row][vc_column][vc_single_image image=”61″ css_animation=”fadeInUp” alignment=”left”][/vc_column][/vc_row][vc_row][vc_column width=”1/2″]Issuekalender doorzoeken [/vc_column][vc_column width=”1/2″][/vc_column][/vc_row]
URL:https://issuekalender.nl/issue/wereld-astmadag-2/2028-05-02/
CATEGORIES:Welzijn en gezondheid
END:VEVENT
BEGIN:VEVENT
DTSTART;VALUE=DATE:20280503
DTEND;VALUE=DATE:20280504
DTSTAMP:20260422T144837
CREATED:20230716T092043Z
LAST-MODIFIED:20251111T131015Z
UID:10007260-1840924800-1841011199@issuekalender.nl
SUMMARY:NATIONALE DAG VAN EMPATHIE
DESCRIPTION:[vc_row][vc_column][vc_single_image image=”61″ css_animation=”fadeInUp” alignment=”left”][/vc_column][/vc_row][vc_row][vc_column][vc_column_text css_animation=”fadeIn” font_size=”45″ font_family=”Roboto” font_weight=”500″ color=”#57529e”]\nNATIONALE DAG VAN EMPATHIE \n[/vc_column_text][vc_empty_space height=”10px”][vc_single_image image=”88″ img_size=”medium” css_animation=”fadeInUp” alignment=”left”][/vc_column][/vc_row][vc_row][vc_column][vc_column_text]Op 3 mei\, aan de vooravond van de Nationale Herdenking en Bevrijdingsdag\, wordt de nationale Dag van Empathie georganiseerd. Met de Dag van Empathie willen Stichting Nederland Wordt Beter en de Openbare Bibliotheek Amsterdam zorgen voor meer respect\, begrip en empathie tussen de verschillende groepen in de Nederlandse samenleving.[/vc_column_text][/vc_column][/vc_row][vc_row][vc_column][vc_single_image image=”61″ css_animation=”fadeInUp” alignment=”left”][/vc_column][/vc_row][vc_row][vc_column width=”1/2″]Issuekalender doorzoeken [/vc_column][vc_column width=”1/2″][/vc_column][/vc_row]
URL:https://issuekalender.nl/issue/nationale-dag-van-empathie/2028-05-03/
CATEGORIES:Mens en maatschappij,Overige,Welzijn en gezondheid
ORGANIZER;CN="Stichting Nederland Wordt Beter":MAILTO:info@nederlandwordtbeter.nl
END:VEVENT
BEGIN:VEVENT
DTSTART;VALUE=DATE:20280503
DTEND;VALUE=DATE:20280504
DTSTAMP:20260422T144837
CREATED:20230716T092132Z
LAST-MODIFIED:20251111T131109Z
UID:10007266-1840924800-1841011199@issuekalender.nl
SUMMARY:DAG VAN DE PERSVRIJHEID (VN)
DESCRIPTION:[vc_row][vc_column][vc_single_image image=”61″ css_animation=”fadeInUp” alignment=”left”][/vc_column][/vc_row][vc_row][vc_column][vc_column_text css_animation=”fadeIn” font_size=”45″ font_family=”Roboto” font_weight=”500″ color=”#57529e”]\nDAG VAN DE PERSVRIJHEID (VN) \n[/vc_column_text][vc_empty_space height=”10px”][vc_single_image image=”88″ img_size=”medium” css_animation=”fadeInUp” alignment=”left”][/vc_column][/vc_row][vc_row][vc_column][vc_column_text]In 1993 hebben de Verenigde Naties 3 mei tot Internationale Dag van de Persvrijheid uitgeroepen\, met als doel de beginselen van de persvrijheid meer onder de aandacht te brengen en deze wereldwijd te bevorderen. Het idee voor deze Internationale Dag van de Persvrijheid is afkomstig van de Algemene Conferentie van de UNESCO van 1991\, waar erkend werd dat een vrije\, pluriforme en onafhankelijke pers een essentieel onderdeel is van elke democratische samenleving.[/vc_column_text][/vc_column][/vc_row][vc_row][vc_column][vc_single_image image=”61″ css_animation=”fadeInUp” alignment=”left”][/vc_column][/vc_row][vc_row][vc_column width=”1/2″]Issuekalender doorzoeken [/vc_column][vc_column width=”1/2″][/vc_column][/vc_row]
URL:https://issuekalender.nl/issue/dag-van-de-persvrijheid-vn/2028-05-03/
CATEGORIES:Mens en maatschappij
END:VEVENT
BEGIN:VEVENT
DTSTART;VALUE=DATE:20280504
DTEND;VALUE=DATE:20280505
DTSTAMP:20260422T144837
CREATED:20230716T092227Z
LAST-MODIFIED:20251111T131211Z
UID:10007272-1841011200-1841097599@issuekalender.nl
SUMMARY:NATIONALE DODENHERDENKING
DESCRIPTION:[vc_row][vc_column][vc_single_image image=”61″ css_animation=”fadeInUp” alignment=”left”][/vc_column][/vc_row][vc_row][vc_column][vc_column_text css_animation=”fadeIn” font_size=”45″ font_family=”Roboto” font_weight=”500″ color=”#57529e”]\nNATIONALE DODENHERDENKING \n[/vc_column_text][vc_empty_space height=”10px”][vc_single_image image=”88″ img_size=”medium” css_animation=”fadeInUp” alignment=”left”][/vc_column][/vc_row][vc_row][vc_column][vc_column_text]Tijdens de Nationale Herdenking op 4 mei herdenken we allen – burgers en militairen – die in het Koninkrijk der Nederlanden of waar ook ter wereld zijn omgekomen of vermoord sinds het uitbreken van de Tweede Wereldoorlog\, in oorlogssituaties en bij vredesoperaties. Op 4 mei\, om 20.00 uur\, vindt de Nationale Herdenking plaats. Dan worden twee minuten stilte in acht genomen om de Nederlandse oorlogsslachtoffers te herdenken.[/vc_column_text][/vc_column][/vc_row][vc_row][vc_column][vc_single_image image=”61″ css_animation=”fadeInUp” alignment=”left”][/vc_column][/vc_row][vc_row][vc_column width=”1/2″]Issuekalender doorzoeken [/vc_column][vc_column width=”1/2″][/vc_column][/vc_row]
URL:https://issuekalender.nl/issue/nationale-dodenherdenking/2028-05-04/
CATEGORIES:Overige
ORGANIZER;CN="Nationaal Comit%C3%A9 4 en 5 mei":MAILTO:info@4en5mei.nl
END:VEVENT
BEGIN:VEVENT
DTSTART;VALUE=DATE:20280504
DTEND;VALUE=DATE:20280505
DTSTAMP:20260422T144837
CREATED:20230716T092320Z
LAST-MODIFIED:20251111T131320Z
UID:10007278-1841011200-1841097599@issuekalender.nl
SUMMARY:INTERNATIONALE DAG VAN DE BRANDWEER
DESCRIPTION:[vc_row][vc_column][vc_single_image image=”61″ css_animation=”fadeInUp” alignment=”left”][/vc_column][/vc_row][vc_row][vc_column][vc_column_text css_animation=”fadeIn” font_size=”45″ font_family=”Roboto” font_weight=”500″ color=”#57529e”]\nINTERNATIONALE DAG VAN DE BRANDWEER \n[/vc_column_text][vc_empty_space height=”10px”][vc_single_image image=”88″ img_size=”medium” css_animation=”fadeInUp” alignment=”left”][/vc_column][/vc_row][vc_row][vc_column][vc_column_text]International Firefighters’ Day is in januari 1999 ter nagedachtenis van 5 omgekomen Australische brandweerlieden in het leven geroepen. Op International Firefighter’s Day wordt aandacht gevraagd voor het goede werk wat brandweermannen verrichten. De dag is gekoppeld aan St Florian’s Day (4 mei). Op deze dag staat St Florian\, de beschermheilige van het vuur\, centraal.[/vc_column_text][/vc_column][/vc_row][vc_row][vc_column][vc_single_image image=”61″ css_animation=”fadeInUp” alignment=”left”][/vc_column][/vc_row][vc_row][vc_column width=”1/2″]Issuekalender doorzoeken [/vc_column][vc_column width=”1/2″][/vc_column][/vc_row]
URL:https://issuekalender.nl/issue/internationale-dag-van-de-brandweer/2028-05-04/
CATEGORIES:Overige
END:VEVENT
BEGIN:VEVENT
DTSTART;VALUE=DATE:20280505
DTEND;VALUE=DATE:20280506
DTSTAMP:20260422T144837
CREATED:20230716T092409Z
LAST-MODIFIED:20251111T131356Z
UID:10007284-1841097600-1841183999@issuekalender.nl
SUMMARY:INTERNATIONALE DAG VAN DE HANDHYGIËNE
DESCRIPTION:[vc_row][vc_column][vc_single_image image=”61″ css_animation=”fadeInUp” alignment=”left”][/vc_column][/vc_row][vc_row][vc_column][vc_column_text css_animation=”fadeIn” font_size=”45″ font_family=”Roboto” font_weight=”500″ color=”#57529e”]\nINTERNATIONALE DAG VAN DE HANDHYGIËNE \n[/vc_column_text][vc_empty_space height=”10px”][vc_single_image image=”88″ img_size=”medium” css_animation=”fadeInUp” alignment=”left”][/vc_column][/vc_row][vc_row][vc_column][vc_column_text]Hygiëne is altijd belangrijk\, maar helemaal in de gezondsheidszorg. Daarom organiseert de Wereld Gezondsheids Organisatie op 5 mei de Internationale Dag van de Handhygiëne om zorgmedewerkers bewust te maken van het belang van hygiëne.[/vc_column_text][/vc_column][/vc_row][vc_row][vc_column][vc_single_image image=”61″ css_animation=”fadeInUp” alignment=”left”][/vc_column][/vc_row][vc_row][vc_column width=”1/2″]Issuekalender doorzoeken [/vc_column][vc_column width=”1/2″][/vc_column][/vc_row]
URL:https://issuekalender.nl/issue/internationale-dag-van-de-handhygiene/2028-05-05/
CATEGORIES:Overige,Welzijn en gezondheid
END:VEVENT
BEGIN:VEVENT
DTSTART;VALUE=DATE:20280505
DTEND;VALUE=DATE:20280506
DTSTAMP:20260422T144837
CREATED:20230716T092521Z
LAST-MODIFIED:20251111T131457Z
UID:10003887-1841097600-1841183999@issuekalender.nl
SUMMARY:INTERNATIONALE DAG VAN DE VROEDVROUW
DESCRIPTION:[vc_row][vc_column][vc_single_image image=”61″ css_animation=”fadeInUp” alignment=”left”][/vc_column][/vc_row][vc_row][vc_column][vc_column_text css_animation=”fadeIn” font_size=”45″ font_family=”Roboto” font_weight=”500″ color=”#57529e”]\nINTERNATIONALE DAG VAN DE VROEDVROUW \n[/vc_column_text][vc_empty_space height=”10px”][vc_single_image image=”88″ img_size=”medium” css_animation=”fadeInUp” alignment=”left”][/vc_column][/vc_row][vc_row][vc_column][vc_column_text]In ontwikkelingslanden als Sierra Leone\, Afghanistan en Zuid-Sudan sterven in vergelijking met de Westerse wereld nog veel te veel vrouwen aan de gevolgen van zwangerschap en bevalling. De Internationale Dag van de Vroedvrouw vestigt de aandacht op het feit dat\, met name in minder ontwikkelde gebieden\, de vroedvrouw van groot belang is.[/vc_column_text][/vc_column][/vc_row][vc_row][vc_column][vc_single_image image=”61″ css_animation=”fadeInUp” alignment=”left”][/vc_column][/vc_row][vc_row][vc_column width=”1/2″]Issuekalender doorzoeken [/vc_column][vc_column width=”1/2″][/vc_column][/vc_row]
URL:https://issuekalender.nl/issue/internationale-dag-van-de-vroedvrouw/2028-05-05/
CATEGORIES:Overige,Welzijn en gezondheid
ORGANIZER;CN="International Midwives":MAILTO:info@internationalmidwives.org
END:VEVENT
BEGIN:VEVENT
DTSTART;VALUE=DATE:20280506
DTEND;VALUE=DATE:20280507
DTSTAMP:20260422T144837
CREATED:20230716T092707Z
LAST-MODIFIED:20251111T131541Z
UID:10007302-1841184000-1841270399@issuekalender.nl
SUMMARY:INTERNATIONALE ANTI-DIEETDAG
DESCRIPTION:[vc_row][vc_column][vc_single_image image=”61″ css_animation=”fadeInUp” alignment=”left”][/vc_column][/vc_row][vc_row][vc_column][vc_column_text css_animation=”fadeIn” font_size=”45″ font_family=”Roboto” font_weight=”500″ color=”#57529e”]\nINTERNATIONALE ANTI-DIEETDAG \n[/vc_column_text][vc_empty_space height=”10px”][vc_single_image image=”88″ img_size=”medium” css_animation=”fadeInUp” alignment=”left”][/vc_column][/vc_row][vc_row][vc_column][vc_column_text]Op Internationale Anti-Dieetdag wordt stil gestaan bij de grote plaats die gewicht en de obsessie om slank te zijn in onze samenleving inneemt. Op deze dag denken we niet aan diëten en afvallen\, maar meer aan lekker en gezond eten en met plezier bewegen. Ook geldt de dag als herdenkingsdag voor alle mensen die gestorven zijn of blijvend letsel opgelopen hebben als gevolg van het slankheidsideaal\, zij het aan anorexia nervosa\, of als gevolg van een afslankdieet of -operatie.[/vc_column_text][/vc_column][/vc_row][vc_row][vc_column][vc_single_image image=”61″ css_animation=”fadeInUp” alignment=”left”][/vc_column][/vc_row][vc_row][vc_column width=”1/2″]Issuekalender doorzoeken [/vc_column][vc_column width=”1/2″][/vc_column][/vc_row]
URL:https://issuekalender.nl/issue/internationale-anti-dieetdag/2028-05-06/
CATEGORIES:Overige,Welzijn en gezondheid
END:VEVENT
BEGIN:VEVENT
DTSTART;VALUE=DATE:20280507
DTEND;VALUE=DATE:20280508
DTSTAMP:20260422T144837
CREATED:20230716T093054Z
LAST-MODIFIED:20251111T131653Z
UID:10007296-1841270400-1841356799@issuekalender.nl
SUMMARY:INTERNATIONALE DAG VAN DE LACH
DESCRIPTION:[vc_row][vc_column][vc_single_image image=”61″ css_animation=”fadeInUp” alignment=”left”][/vc_column][/vc_row][vc_row][vc_column][vc_column_text css_animation=”fadeIn” font_size=”45″ font_family=”Roboto” font_weight=”500″ color=”#57529e”]\nINTERNATIONALE DAG VAN DE LACH \n[/vc_column_text][vc_empty_space height=”10px”][vc_single_image image=”88″ img_size=”medium” css_animation=”fadeInUp” alignment=”left”][/vc_column][/vc_row][vc_row][vc_column][vc_column_text]De Internationale Dag van de Lach is in het leven geroepen door Dr. Madan Kataria\, de grondlegger van de wereldwijde Laughter-Yoga beweging. Op de eerste zondag van mei worden in meer dan 65 landen ter wereld lach-manifestaties georganiseerd om aandacht te vragen voor vrede en het belang van de lach voor vriendschap en verbroedering.[/vc_column_text][/vc_column][/vc_row][vc_row][vc_column][vc_single_image image=”61″ css_animation=”fadeInUp” alignment=”left”][/vc_column][/vc_row][vc_row][vc_column width=”1/2″]Issuekalender doorzoeken [/vc_column][vc_column width=”1/2″][/vc_column][/vc_row]
URL:https://issuekalender.nl/issue/internationale-dag-van-de-lach/2028-05-07/
CATEGORIES:Ontspanning en plezier
END:VEVENT
END:VCALENDAR