BEGIN:VCALENDAR
VERSION:2.0
PRODID:-//Issuekalender - ECPv6.9.0//NONSGML v1.0//EN
CALSCALE:GREGORIAN
METHOD:PUBLISH
X-ORIGINAL-URL:https://issuekalender.nl
X-WR-CALDESC:Evenementen voor Issuekalender
REFRESH-INTERVAL;VALUE=DURATION:PT1H
X-Robots-Tag:noindex
X-PUBLISHED-TTL:PT1H
BEGIN:VTIMEZONE
TZID:Europe/Amsterdam
BEGIN:DAYLIGHT
TZOFFSETFROM:+0100
TZOFFSETTO:+0200
TZNAME:CEST
DTSTART:20280326T010000
END:DAYLIGHT
BEGIN:STANDARD
TZOFFSETFROM:+0200
TZOFFSETTO:+0100
TZNAME:CET
DTSTART:20281029T010000
END:STANDARD
END:VTIMEZONE
BEGIN:VEVENT
DTSTART;VALUE=DATE:20280401
DTEND;VALUE=DATE:20280501
DTSTAMP:20260422T092343
CREATED:20231113T100049Z
LAST-MODIFIED:20241023T130010Z
UID:10008069-1838160000-1840751999@issuekalender.nl
SUMMARY:MAAND VAN DE GROENE TUIN
DESCRIPTION:[vc_row][vc_column][vc_single_image image=”61″ css_animation=”fadeInUp” alignment=”left”][/vc_column][/vc_row][vc_row][vc_column][vc_column_text css_animation=”fadeIn” css=”” font_size=”45″ font_family=”Roboto” font_weight=”500″ color=”#57529e”]\nMAAND VAN DE GROENE TUIN \n[/vc_column_text][vc_empty_space height=”10px”][vc_single_image image=”88″ img_size=”medium” css_animation=”fadeInUp” alignment=”left”][/vc_column][/vc_row][vc_row][vc_column][vc_column_text css=””]Het doel van de Maand van de Groene Tuin is om tuinbezitters te stimuleren hun eigen tuin én eigen straat (verder) te vergroenen en te verduurzamen. Een maand lang krijgen tuinbezitters tuintips zoals het ontstenen van hun tuin\, het voorkomen van plagen\, en tips om meer dieren in de tuin van voedsel en schuilplek te voorzien.[/vc_column_text][/vc_column][/vc_row][vc_row][vc_column][vc_single_image image=”61″ css_animation=”fadeInUp” alignment=”left”][/vc_column][/vc_row][vc_row][vc_column width=”1/2″]Issuekalender doorzoeken [/vc_column][vc_column width=”1/2″][/vc_column][/vc_row]
URL:https://issuekalender.nl/issue/maand-van-de-groene-tuin-2/2028-04-01/
CATEGORIES:Milieu en duurzaamheid
ORGANIZER;CN="Milieu Centraal":MAILTO:info@milieucentraal.nl
END:VEVENT
BEGIN:VEVENT
DTSTART;VALUE=DATE:20280422
DTEND;VALUE=DATE:20280506
DTSTAMP:20260422T092343
CREATED:20251201T141037Z
LAST-MODIFIED:20251201T141037Z
UID:10009620-1839974400-1841183999@issuekalender.nl
SUMMARY:Leven met Water Week
DESCRIPTION:[vc_row][vc_column][vc_single_image image=”61″ css_animation=”fadeInUp” alignment=”left”][/vc_column][/vc_row][vc_row][vc_column][vc_column_text css_animation=”fadeIn” font_size=”45″ font_family=”Roboto” font_weight=”500″ color=”#57529e”]\nLEVEN MET WATER WEEK \n[/vc_column_text][vc_empty_space height=”10px”][vc_single_image image=”88″ img_size=”medium” css_animation=”fadeInUp” alignment=”left”][/vc_column][/vc_row][vc_row][vc_column][vc_column_text]\nHet veranderende klimaat zorgt ervoor dat we steeds vaker te maken krijgen met droge perioden of juist met extreme neerslag. Dat kan leiden tot watertekort of juist tot wateroverlast. Ook raakt ons oppervlaktewater vervuild door de manier waarop we leven\, het klimaat dat verandert en door vervuild water dat ons land in stroomt. \nEr zijn dus nogal wat uitdagingen als het gaat om water. En dit vraagt om actie. We moeten anders met ons water omgaan. Dat moeten we samen doen: de overheid\, bedrijven én alle Nederlanders. \n[/vc_column_text][/vc_column][/vc_row][vc_row][vc_column][vc_single_image image=”61″ css_animation=”fadeInUp” alignment=”left”][/vc_column][/vc_row][vc_row][vc_column width=”1/2″]Issuekalender doorzoeken [/vc_column][vc_column width=”1/2″][/vc_column][/vc_row]
URL:https://issuekalender.nl/issue/leven-met-water-week/2028-04-22/
CATEGORIES:Mens en maatschappij
END:VEVENT
BEGIN:VEVENT
DTSTART;VALUE=DATE:20280424
DTEND;VALUE=DATE:20280425
DTSTAMP:20260422T092343
CREATED:20230715T140949Z
LAST-MODIFIED:20251111T125957Z
UID:10007181-1840147200-1840233599@issuekalender.nl
SUMMARY:WERELDPROEFDIERENDAG
DESCRIPTION:[vc_row][vc_column][vc_single_image image=”61″ css_animation=”fadeInUp” alignment=”left”][/vc_column][/vc_row][vc_row][vc_column][vc_column_text css_animation=”fadeIn” font_size=”45″ font_family=”Roboto” font_weight=”500″ color=”#57529e”]\nWERELDPROEFDIERENDAG \n[/vc_column_text][vc_empty_space height=”10px”][vc_single_image image=”88″ img_size=”medium” css_animation=”fadeInUp” alignment=”left”][/vc_column][/vc_row][vc_row][vc_column][vc_column_text]Wereldproefdierendag is een dag die jaarlijks op 24 april wordt gehouden als protest tegen het gebruik van proefdieren. \nDe 24e april is de geboortedag van Lord Dowding (overleden in 1970)\, die in zijn leven fel van leer trok tegen het proefdiergebruik. Zijn vrouw\, Lady Dowding\, nam later een groot deel van zijn werk over. De naam Dowding is nog steeds verbonden aan een Engels fonds dat financiële middelen verstrekt om onderzoek te stimuleren zonder gebruik te maken van proefdieren.[/vc_column_text][/vc_column][/vc_row][vc_row][vc_column][vc_single_image image=”61″ css_animation=”fadeInUp” alignment=”left”][/vc_column][/vc_row][vc_row][vc_column width=”1/2″]Issuekalender doorzoeken [/vc_column][vc_column width=”1/2″][/vc_column][/vc_row]
URL:https://issuekalender.nl/issue/wereldproefdierendag/2028-04-24/
CATEGORIES:Dierenwelzijn
END:VEVENT
BEGIN:VEVENT
DTSTART;VALUE=DATE:20280425
DTEND;VALUE=DATE:20280426
DTSTAMP:20260422T092343
CREATED:20230715T131326Z
LAST-MODIFIED:20251111T130022Z
UID:10007187-1840233600-1840319999@issuekalender.nl
SUMMARY:WERELD DNA-DAG
DESCRIPTION:[vc_row][vc_column][vc_single_image image=”61″ css_animation=”fadeInUp” alignment=”left”][/vc_column][/vc_row][vc_row][vc_column][vc_column_text css_animation=”fadeIn” font_size=”45″ font_family=”Roboto” font_weight=”500″ color=”#57529e”]\nWERELD DNA-DAG \n[/vc_column_text][vc_empty_space height=”10px”][vc_single_image image=”88″ img_size=”medium” css_animation=”fadeInUp” alignment=”left”][/vc_column][/vc_row][vc_row][vc_column][vc_column_text]Vandaag wordt international herdacht dat James Watson\, Francis Crick\, Maurice Wilkins\, Rosalind Franklin artikelen in het tijdschrift Nature publiceerden over DNA en publicaties over de structuur van de dubbele DNA-helix. Watson\, Crick en Wilkins kregen voor de ontdekking van de dubbele DNA-helixstructuur in 1962 de Nobelprijs voor Fysiologie of Geneeskunde. Natuurlijk viert DNA-dag ook de vooruitgang die mogelijk is geworden door de ontdekking van het DNA in 1869 door de Zwitserse biochemicus Johann Friedrich Miescher (1844-1895). \nWAT BEPAALT DNA (DRAGER VAN ERFELIJKE INFORMATIE)?\n\nkan je vertellen welke erfelijke ziektes je kunt krijgen\nkan als bewijs dienen in een moordzaak\nvertelt je wie je (voor)ouders zijn of wie ze waren\nbepaalt hoe je er uit ziet\n\nDNA bepaalt veel meer dan alleen maar hoe je er uit ziet maar DNA bepaalt niet alles\, ook omgevingsfactoren bepalen voor een groot gedeelte wie\, wat en hoe je wordt.[/vc_column_text][/vc_column][/vc_row][vc_row][vc_column][vc_single_image image=”61″ css_animation=”fadeInUp” alignment=”left”][/vc_column][/vc_row][vc_row][vc_column width=”1/2″]Issuekalender doorzoeken [/vc_column][vc_column width=”1/2″][/vc_column][/vc_row]
URL:https://issuekalender.nl/issue/wereld-dna-dag/2028-04-25/
CATEGORIES:Welzijn en gezondheid
END:VEVENT
BEGIN:VEVENT
DTSTART;VALUE=DATE:20280425
DTEND;VALUE=DATE:20280426
DTSTAMP:20260422T092343
CREATED:20230715T140847Z
LAST-MODIFIED:20251111T130022Z
UID:10007193-1840233600-1840319999@issuekalender.nl
SUMMARY:WERELDMALARIADAG (VN)
DESCRIPTION:[vc_row][vc_column][vc_single_image image=”61″ css_animation=”fadeInUp” alignment=”left”][/vc_column][/vc_row][vc_row][vc_column][vc_column_text css_animation=”fadeIn” font_size=”45″ font_family=”Roboto” font_weight=”500″ color=”#57529e”]\nWERELDMALARIADAG (VN) \n[/vc_column_text][vc_empty_space height=”10px”][vc_single_image image=”88″ img_size=”medium” css_animation=”fadeInUp” alignment=”left”][/vc_column][/vc_row][vc_row][vc_column][vc_column_text]Iedere dag lopen nog altijd 3 miljard mensen op de wereld het gevaar om te worden geïnfecteerd met malaria. In 2015 werden 214 miljoen mensen ziek\, waarvan er bijna 438.000 overleden als gevolg van de ziekte. Hoewel het aantal slachtoffers van de ziekte sinds het jaar 2000 afneemt\, is het nog altijd keihard nodig om de ziekte te bestrijden. Het thema voor 2016 is “End Malaria For Good”. \nWereldmalariadag is ontstaan in 2007 tijdens het 60e World Health Assembly (WHA) van de Wereldgezondheidsorganisatie van de VN (WHO). De dag vervangt sindsdien Afrika Malariadag\, die sinds 2011 elk jaar op 25 april werd georganiseerd. Wereldmalariadag wordt door organisaties en burgers over de hele wereld gebruikt om meer aandacht te krijgen voor de ziekte malaria. Het doel is om de ziekte te voorkomen en uit de wereld te helpen en daarmee de verwoestingen van malaria te beëindigen.[/vc_column_text][/vc_column][/vc_row][vc_row][vc_column][vc_single_image image=”61″ css_animation=”fadeInUp” alignment=”left”][/vc_column][/vc_row][vc_row][vc_column width=”1/2″]Issuekalender doorzoeken [/vc_column][vc_column width=”1/2″][/vc_column][/vc_row]
URL:https://issuekalender.nl/issue/wereldmalariadag-vn/2028-04-25/
CATEGORIES:Welzijn en gezondheid
END:VEVENT
BEGIN:VEVENT
DTSTART;VALUE=DATE:20280426
DTEND;VALUE=DATE:20280427
DTSTAMP:20260422T092344
CREATED:20230715T131240Z
LAST-MODIFIED:20251111T130046Z
UID:10007199-1840320000-1840406399@issuekalender.nl
SUMMARY:WERELD INTELLECTUEEL EIGENDOM DAG (VN)
DESCRIPTION:[vc_row][vc_column][vc_single_image image=”61″ css_animation=”fadeInUp” alignment=”left”][/vc_column][/vc_row][vc_row][vc_column][vc_column_text css_animation=”fadeIn” font_size=”45″ font_family=”Roboto” font_weight=”500″ color=”#57529e”]\nWERELD INTELLECTUEEL EIGENDOM DAG (VN) \n[/vc_column_text][vc_empty_space height=”10px”][vc_single_image image=”88″ img_size=”medium” css_animation=”fadeInUp” alignment=”left”][/vc_column][/vc_row][vc_row][vc_column][vc_column_text]Op 26 april van elk jaar wordt World Intellectual Property Day gevierd. \nDe dag wordt georganiseerd om de discussie over de rol van intellectueel eigendom (IP) te bevorderen en innovatie en creativiteit te stimuleren.[/vc_column_text][/vc_column][/vc_row][vc_row][vc_column][vc_single_image image=”61″ css_animation=”fadeInUp” alignment=”left”][/vc_column][/vc_row][vc_row][vc_column width=”1/2″]Issuekalender doorzoeken [/vc_column][vc_column width=”1/2″][/vc_column][/vc_row]
URL:https://issuekalender.nl/issue/wereld-intellectueel-eigendom-dag-vn/2028-04-26/
CATEGORIES:Innovatie en technologie,Wetenschap
END:VEVENT
BEGIN:VEVENT
DTSTART;VALUE=DATE:20280427
DTEND;VALUE=DATE:20280428
DTSTAMP:20260422T092344
CREATED:20230715T131149Z
LAST-MODIFIED:20251111T130050Z
UID:10003615-1840406400-1840492799@issuekalender.nl
SUMMARY:KONINGSDAG
DESCRIPTION:[vc_row][vc_column][vc_single_image image=”61″ css_animation=”fadeInUp” alignment=”left”][/vc_column][/vc_row][vc_row][vc_column][vc_column_text css_animation=”fadeIn” font_size=”45″ font_family=”Roboto” font_weight=”500″ color=”#57529e”]\nKONINGSDAG \n[/vc_column_text][vc_empty_space height=”10px”][vc_single_image image=”88″ img_size=”medium” css_animation=”fadeInUp” alignment=”left”][vc_column_text font_size=”20px” font_family=”Roboto” font_weight=”normal”]\n\n\n\n\n\n\n\n\n\n27-04-2024 | Nationale feestdag\n\n\n\n\n\n\n\n\n\n\n\n\n\n\n[/vc_column_text][/vc_column][/vc_row][vc_row][vc_column][vc_column_text css=””]Koningsdag is de belangrijkste seculiere nationale feestdag in Nederland. Het wordt gevierd op de verjaardag van de Nederlandse Koning Willem-Alexander van Oranje (27 april)\, maar wanneer 27 april op een zondag valt\, vindt de dag plaats op zaterdag 26. \nOorspronkelijk werd Koninginnedag gevierd op de verjaardag van Koningin Juliana (30 april). Haar dochter\, Koningin Beatrix die in 1980 de troon besteeg\, besloot de dag in april te blijven vieren op Juliana’s verjaardag vanwege de slechte weersverwachtingen op haar eigen verjaardag (31 januari). \nDe Koning en zijn familie bezoeken op Koningsdag één of twee steden waar bijzondere activiteiten plaatsvinden. De dag wordt ook gevierd in de Antillen en op Aruba\, waar alle dorpen en steden oranje kleuren. Voorafgaand aan Koningsdag worden op (basis-) scholen in heel Nederland de sportieve Koningsspelen gehouden.[/vc_column_text][/vc_column][/vc_row][vc_row][vc_column][vc_single_image image=”61″ css_animation=”fadeInUp” alignment=”left”][/vc_column][/vc_row][vc_row][vc_column width=”1/2″]Issuekalender doorzoeken [/vc_column][vc_column width=”1/2″][/vc_column][/vc_row]
URL:https://issuekalender.nl/issue/koningsdag/2028-04-27/
CATEGORIES:Nationale feestdag
END:VEVENT
BEGIN:VEVENT
DTSTART;VALUE=DATE:20280428
DTEND;VALUE=DATE:20280429
DTSTAMP:20260422T092344
CREATED:20230715T130827Z
LAST-MODIFIED:20251111T130100Z
UID:10007211-1840492800-1840579199@issuekalender.nl
SUMMARY:WERELDDAG VOOR VEILIGHEID EN GEZONDHEID OP HET WERK (VN)
DESCRIPTION:[vc_row][vc_column][vc_single_image image=”61″ css_animation=”fadeInUp” alignment=”left”][/vc_column][/vc_row][vc_row][vc_column][vc_column_text css_animation=”fadeIn” font_size=”45″ font_family=”Roboto” font_weight=”500″ color=”#57529e”]\nWERELDDAG VOOR VEILIGHEID EN GEZONDHEID OP HET WERK (VN) \n[/vc_column_text][vc_empty_space height=”10px”][vc_single_image image=”88″ img_size=”medium” css_animation=”fadeInUp” alignment=”left”][/vc_column][/vc_row][vc_row][vc_column][vc_column_text]Helaas zijn bedrijfsongevallen en beroepsziekten aan de orde van de dag. Jaarlijks wordt op 28 april de aandacht gevestigd op deze incidenten en wordt er gesproken over het voorkomen en genezen van deze specifieke ongevallen en ziekten.[/vc_column_text][/vc_column][/vc_row][vc_row][vc_column][vc_single_image image=”61″ css_animation=”fadeInUp” alignment=”left”][/vc_column][/vc_row][vc_row][vc_column width=”1/2″]Issuekalender doorzoeken [/vc_column][vc_column width=”1/2″][/vc_column][/vc_row]
URL:https://issuekalender.nl/issue/werelddag-voor-veiligheid-en-gezondheid-op-het-werk-vn/2028-04-28/
CATEGORIES:Veiligheid,Welzijn en gezondheid
ORGANIZER;CN="International Labour Organization":MAILTO:ilo@ilo.org
END:VEVENT
BEGIN:VEVENT
DTSTART;VALUE=DATE:20280428
DTEND;VALUE=DATE:20280429
DTSTAMP:20260422T092344
CREATED:20230715T130918Z
LAST-MODIFIED:20251111T130108Z
UID:10007205-1840492800-1840579199@issuekalender.nl
SUMMARY:WORKERS’ MEMORIAL DAY
DESCRIPTION:[vc_row][vc_column][vc_single_image image=”61″ css_animation=”fadeInUp” alignment=”left”][/vc_column][/vc_row][vc_row][vc_column][vc_column_text css_animation=”fadeIn” font_size=”45″ font_family=”Roboto” font_weight=”500″ color=”#57529e”]\nWORKERS’ MEMORIAL DAY \n[/vc_column_text][vc_empty_space height=”10px”][vc_single_image image=”88″ img_size=”medium” css_animation=”fadeInUp” alignment=”left”][/vc_column][/vc_row][vc_row][vc_column][vc_column_text]In Nederland komen jaarlijks zo’n 4.000 werknemers om door vies en gevaarlijk werk. Op Workers’ Memorial Day\, dat is 28 april\, herdenken we wereldwijd deze doden door het werk. \nWant Workers’ Memorial Day is de internationale dag ter herdenking van werknemers die zijn overleden als gevolg van ongevallen of beroepsziekten. Deze gedenkdag vindt ieder jaar plaats op 28 april.[/vc_column_text][/vc_column][/vc_row][vc_row][vc_column][vc_single_image image=”61″ css_animation=”fadeInUp” alignment=”left”][/vc_column][/vc_row][vc_row][vc_column width=”1/2″]Issuekalender doorzoeken [/vc_column][vc_column width=”1/2″][/vc_column][/vc_row]
URL:https://issuekalender.nl/issue/workers-memorial-day/2028-04-28/
CATEGORIES:Werk en welzijn
END:VEVENT
BEGIN:VEVENT
DTSTART;VALUE=DATE:20280429
DTEND;VALUE=DATE:20280430
DTSTAMP:20260422T092344
CREATED:20230715T130510Z
LAST-MODIFIED:20251111T130121Z
UID:10007222-1840579200-1840665599@issuekalender.nl
SUMMARY:HERDENKINGSDAG VOOR SLACHTOFFERS VAN CHEMISCHE WAPENS (VN)
DESCRIPTION:[vc_row][vc_column][vc_single_image image=”61″ css_animation=”fadeInUp” alignment=”left”][/vc_column][/vc_row][vc_row][vc_column][vc_column_text css_animation=”fadeIn” font_size=”45″ font_family=”Roboto” font_weight=”500″ color=”#57529e”]\nHERDENKINGSDAG VOOR SLACHTOFFERS VAN CHEMISCHE WAPENS (VN) \n[/vc_column_text][vc_empty_space height=”10px”][vc_single_image image=”88″ img_size=”medium” css_animation=”fadeInUp” alignment=”left”][/vc_column][/vc_row][vc_row][vc_column][vc_column_text]Jaarlijks op 29 april worden de slachtoffers van chemische wapens herdacht.[/vc_column_text][/vc_column][/vc_row][vc_row][vc_column][vc_single_image image=”61″ css_animation=”fadeInUp” alignment=”left”][/vc_column][/vc_row][vc_row][vc_column width=”1/2″]Issuekalender doorzoeken [/vc_column][vc_column width=”1/2″][/vc_column][/vc_row]
URL:https://issuekalender.nl/issue/herdenkingsdag-voor-slachtoffers-van-chemische-wapens-vn/2028-04-29/
CATEGORIES:Mens en maatschappij,Overige
END:VEVENT
BEGIN:VEVENT
DTSTART;VALUE=DATE:20280429
DTEND;VALUE=DATE:20280430
DTSTAMP:20260422T092344
CREATED:20230715T130622Z
LAST-MODIFIED:20241003T075649Z
UID:10007216-1840579200-1840665599@issuekalender.nl
SUMMARY:INTERNATIONALE DAG VAN DE DANS
DESCRIPTION:[vc_row][vc_column][vc_single_image image=”61″ css_animation=”fadeInUp” alignment=”left”][/vc_column][/vc_row][vc_row][vc_column][vc_column_text css_animation=”fadeIn” font_size=”45″ font_family=”Roboto” font_weight=”500″ color=”#57529e”]\nINTERNATIONALE DAG VAN DE DANS \n[/vc_column_text][vc_empty_space height=”10px”][vc_single_image image=”88″ img_size=”medium” css_animation=”fadeInUp” alignment=”left”][/vc_column][/vc_row][vc_row][vc_column][vc_column_text]Het Internationaal Dans Comitee en UNESCO hebben in 1982 deze datum als Dag van de Dans verklaard. Te midden van de extravagante Rococoperiode werd Jean-Georges Noverre geboren wie de danswereld toen al op z`n kop zette. Hij wordt gezien als de grondlegger van de expressieve dans.[/vc_column_text][/vc_column][/vc_row][vc_row][vc_column][vc_single_image image=”61″ css_animation=”fadeInUp” alignment=”left”][/vc_column][/vc_row][vc_row][vc_column width=”1/2″]Issuekalender doorzoeken [/vc_column][vc_column width=”1/2″][/vc_column][/vc_row]
URL:https://issuekalender.nl/issue/internationale-dag-van-de-dans/2028-04-29/
CATEGORIES:Kunst en cultuur
ORGANIZER;CN="International Dance Day":MAILTO:info@iti-worldwide.org
END:VEVENT
BEGIN:VEVENT
DTSTART;VALUE=DATE:20280429
DTEND;VALUE=DATE:20280430
DTSTAMP:20260422T092344
CREATED:20230715T130734Z
LAST-MODIFIED:20241003T080050Z
UID:10007227-1840579200-1840665599@issuekalender.nl
SUMMARY:WERELDWENSDAG
DESCRIPTION:[vc_row][vc_column][vc_single_image image=”61″ css_animation=”fadeInUp” alignment=”left”][/vc_column][/vc_row][vc_row][vc_column][vc_column_text css_animation=”fadeIn” font_size=”45″ font_family=”Roboto” font_weight=”500″ color=”#57529e”]\nWERELDWENSDAG \n[/vc_column_text][vc_empty_space height=”10px”][vc_single_image image=”88″ img_size=”medium” css_animation=”fadeInUp” alignment=”left”][/vc_column][/vc_row][vc_row][vc_column][vc_column_text]Over de hele wereld (in 48 landen) wordt er op 29 april\, vanwege World Wish Day\, aandacht gevraagd voor bijzondere wensvervullingen. Ook in Nederland vervult Make-A-Wish de liefste wens van kinderen tussen 3 en 18 jaar met een levensbedreigende ziekte. Het vervullen van een allerliefste wens is maatwerk en vraagt veel inzet en creativiteit. Sinds de oprichting in 1989 beleefden al meer dan 4.000 levensbedreigend zieke kinderen hun wens\, dankzij de inzet van bijna 400 vrijwilligers. Make-A-Wish Nederland ontvangt geen overheidsbijdrage\, maar is afhankelijk van giften en fondsenwervende acties van bedrijven\, clubs\, scholen en (sport)verenigingen en de structurele steun van donateurs en sponsoren.[/vc_column_text][/vc_column][/vc_row][vc_row][vc_column][vc_single_image image=”61″ css_animation=”fadeInUp” alignment=”left”][/vc_column][/vc_row][vc_row][vc_column width=”1/2″]Issuekalender doorzoeken [/vc_column][vc_column width=”1/2″][/vc_column][/vc_row]
URL:https://issuekalender.nl/issue/wereldwensdag/2028-04-29/
CATEGORIES:Mens en maatschappij,Welzijn en gezondheid
ORGANIZER;CN="Make-A-Wish Nederland":MAILTO:info@makeawishnederland.org
END:VEVENT
BEGIN:VEVENT
DTSTART;VALUE=DATE:20280430
DTEND;VALUE=DATE:20280501
DTSTAMP:20260422T092344
CREATED:20230715T130424Z
LAST-MODIFIED:20251111T130132Z
UID:10007233-1840665600-1840751999@issuekalender.nl
SUMMARY:INTERNATIONALE DAG VAN DE JAZZ (VN)
DESCRIPTION:[vc_row][vc_column][vc_single_image image=”61″ css_animation=”fadeInUp” alignment=”left”][/vc_column][/vc_row][vc_row][vc_column][vc_column_text css_animation=”fadeIn” font_size=”45″ font_family=”Roboto” font_weight=”500″ color=”#57529e”]\nINTERNATIONALE DAG VAN DE JAZZ (VN) \n[/vc_column_text][vc_empty_space height=”10px”][vc_single_image image=”88″ img_size=”medium” css_animation=”fadeInUp” alignment=”left”][/vc_column][/vc_row][vc_row][vc_column][vc_column_text]In november 2011 riep de Algemene Conferentie van UNESCO 30 april uit tot “Internationale Dag van de Jazz”. Deze Internationale Dag brengt gemeenschappen\, scholen\, artiesten\, historici\, academici en jazzliefhebbers over de hele wereld samen om de jazzkunst\, haar wortels\, haar toekomst en haar impact te vieren en te leren kennen. Deze belangrijke internationale kunstvorm wordt gevierd voor het promoten van vrede\, dialoog tussen culturen\, diversiteit\, en respect voor mensenrechten en menselijke waardigheid\, het uitroeien van discriminatie\, het promoten van vrijheid van meningsuiting\, het bevorderen van gendergelijkheid\, en het versterken van de rol van de jeugd voor sociale verandering.[/vc_column_text][/vc_column][/vc_row][vc_row][vc_column][vc_single_image image=”61″ css_animation=”fadeInUp” alignment=”left”][/vc_column][/vc_row][vc_row][vc_column width=”1/2″]Issuekalender doorzoeken [/vc_column][vc_column width=”1/2″][/vc_column][/vc_row]
URL:https://issuekalender.nl/issue/internationale-dag-van-de-jazz-vn/2028-04-30/
CATEGORIES:Kunst en cultuur
END:VEVENT
END:VCALENDAR