BEGIN:VCALENDAR
VERSION:2.0
PRODID:-//Issuekalender - ECPv6.9.0//NONSGML v1.0//EN
CALSCALE:GREGORIAN
METHOD:PUBLISH
X-ORIGINAL-URL:https://issuekalender.nl
X-WR-CALDESC:Evenementen voor Issuekalender
REFRESH-INTERVAL;VALUE=DURATION:PT1H
X-Robots-Tag:noindex
X-PUBLISHED-TTL:PT1H
BEGIN:VTIMEZONE
TZID:Europe/Amsterdam
BEGIN:DAYLIGHT
TZOFFSETFROM:+0100
TZOFFSETTO:+0200
TZNAME:CEST
DTSTART:20280326T010000
END:DAYLIGHT
BEGIN:STANDARD
TZOFFSETFROM:+0200
TZOFFSETTO:+0100
TZNAME:CET
DTSTART:20281029T010000
END:STANDARD
END:VTIMEZONE
BEGIN:VEVENT
DTSTART;VALUE=DATE:20280401
DTEND;VALUE=DATE:20280501
DTSTAMP:20260422T065111
CREATED:20231113T100049Z
LAST-MODIFIED:20241023T130010Z
UID:10008069-1838160000-1840751999@issuekalender.nl
SUMMARY:MAAND VAN DE GROENE TUIN
DESCRIPTION:[vc_row][vc_column][vc_single_image image=”61″ css_animation=”fadeInUp” alignment=”left”][/vc_column][/vc_row][vc_row][vc_column][vc_column_text css_animation=”fadeIn” css=”” font_size=”45″ font_family=”Roboto” font_weight=”500″ color=”#57529e”]\nMAAND VAN DE GROENE TUIN \n[/vc_column_text][vc_empty_space height=”10px”][vc_single_image image=”88″ img_size=”medium” css_animation=”fadeInUp” alignment=”left”][/vc_column][/vc_row][vc_row][vc_column][vc_column_text css=””]Het doel van de Maand van de Groene Tuin is om tuinbezitters te stimuleren hun eigen tuin én eigen straat (verder) te vergroenen en te verduurzamen. Een maand lang krijgen tuinbezitters tuintips zoals het ontstenen van hun tuin\, het voorkomen van plagen\, en tips om meer dieren in de tuin van voedsel en schuilplek te voorzien.[/vc_column_text][/vc_column][/vc_row][vc_row][vc_column][vc_single_image image=”61″ css_animation=”fadeInUp” alignment=”left”][/vc_column][/vc_row][vc_row][vc_column width=”1/2″]Issuekalender doorzoeken [/vc_column][vc_column width=”1/2″][/vc_column][/vc_row]
URL:https://issuekalender.nl/issue/maand-van-de-groene-tuin-2/2028-04-01/
CATEGORIES:Milieu en duurzaamheid
ORGANIZER;CN="Milieu Centraal":MAILTO:info@milieucentraal.nl
END:VEVENT
BEGIN:VEVENT
DTSTART;VALUE=DATE:20280414
DTEND;VALUE=DATE:20280422
DTSTAMP:20260422T065111
CREATED:20251117T092628Z
LAST-MODIFIED:20251117T092628Z
UID:10009366-1839283200-1839974399@issuekalender.nl
SUMMARY:MEDIA UKKIE DAGEN
DESCRIPTION:[vc_row][vc_column][vc_single_image image=”61″ css_animation=”fadeInUp” alignment=”left”][/vc_column][/vc_row][vc_row][vc_column][vc_column_text css_animation=”fadeIn” font_size=”45″ font_family=”Roboto” font_weight=”500″ color=”#57529e”]\nMEDIA UKKIE DAGEN \n[/vc_column_text][vc_empty_space height=”10px”][vc_single_image image=”88″ img_size=”medium” css_animation=”fadeInUp” alignment=”left”][/vc_column][/vc_row][vc_row][vc_column][vc_column_text css=””]De Media Ukkie Dagen hebben tot doel om opvoeders en professionals te ondersteunen bij de mediaopvoeding van kinderen van 0 t/m 6 jaar. \nDe Media Ukkie Dagen is een initiatief van het Netwerk Mediawijsheid waar de focus ligt op jonge kinderen van 0 t/m 6 jaar\, hun ouders en (professionele) opvoeders. Met de campagne wil het Netwerk Mediawijsheid hen bewust maken van de vele kennis die er al is op het gebied van mediaopvoeding en concrete handvatten bieden om hier thuis mee aan de slag te gaan. Elk jaar spelen de netwerkpartners van het Netwerk Mediawijsheid een belangrijke rol in de campagne door het organiseren van activiteiten en door het gezamenlijk uitdragen van de campagneboodschap.[/vc_column_text][/vc_column][/vc_row][vc_row][vc_column][vc_single_image image=”61″ css_animation=”fadeInUp” alignment=”left”][/vc_column][/vc_row][vc_row][vc_column width=”1/2″]Issuekalender doorzoeken [/vc_column][vc_column width=”1/2″][/vc_column][/vc_row]
URL:https://issuekalender.nl/issue/media-ukkie-dagen-check-2/2028-04-14/
CATEGORIES:Onderwijs en educatie
ORGANIZER;CN="Netwerk Mediawijsheid":MAILTO:info@mediawijzer.net
END:VEVENT
BEGIN:VEVENT
DTSTART;VALUE=DATE:20280417
DTEND;VALUE=DATE:20280418
DTSTAMP:20260422T065111
CREATED:20231016T153636Z
LAST-MODIFIED:20241024T142254Z
UID:10008781-1839542400-1839628799@issuekalender.nl
SUMMARY:DAG VAN DE KINDERARMOEDE
DESCRIPTION:[vc_row][vc_column][vc_single_image image=”61″ css_animation=”fadeInUp” alignment=”left”][/vc_column][/vc_row][vc_row][vc_column][vc_column_text css_animation=”fadeIn” font_size=”45″ font_family=”Roboto” font_weight=”500″ color=”#57529e”]\nDAG VAN DE KINDERARMOEDE \n[/vc_column_text][vc_empty_space height=”10px”][vc_single_image image=”88″ img_size=”medium” css_animation=”fadeInUp” alignment=”left”][/vc_column][/vc_row][vc_row][vc_column][vc_column_text]Op 17 april vragen wij aandacht voor de ruim 300.000 kinderen in Nederland die leven in armoede. Door geldgebrek missen kinderen thuis vaak dingen die belangrijk zijn voor hun ontwikkeling. Vooral het kopen van een fiets is voor ouders met een laag inkomen een te grote kostenpost\, net als het aanschaffen van kleding (26\,8%). Ook als er passende schoenen\, schoolspullen of een warme winterjas nodig is\, moeten deze ouders vaak ‘nee’ zeggen. Kinderen kunnen zich achtergesteld voelen ten opzichte van andere kinderen. Het zorgt voor gevoelens van angst en eenzaamheid. De kinderen voelen de stress van hun ouders vaak haarfijn aan. Vooral als een gezin lang in financiële problemen zit\, zijn de negatieve gevolgen voor kinderen duidelijk zichtbaar. Kinderen die opgroeien in armoede doen het over het algemeen slechter op school\, krijgen later vaker een slecht betaalde baan en kampen bovengemiddeld met gezondheidsproblemen. Ook krijgen ze niet altijd dezelfde kansen als kinderen uit welvarende gezinnen\, bijvoorbeeld omdat hun ouders een beperkter netwerk hebben en minder middelen. Elk kind verdient toch een jeugd zonder zorgen? Gelijk te zijn aan vriendjes of vriendinnetjes. Ook een fiets\, eens nieuwe kleren\, eindelijk een dagje uit! Zodat ook zij erbij horen en gelijken kansen krijgen voor de toekomst. Net als ieder ander kind.[/vc_column_text][/vc_column][/vc_row][vc_row][vc_column][vc_single_image image=”61″ css_animation=”fadeInUp” alignment=”left”][/vc_column][/vc_row][vc_row][vc_column width=”1/2″]Issuekalender doorzoeken [/vc_column][vc_column width=”1/2″][/vc_column][/vc_row]
URL:https://issuekalender.nl/issue/dag-van-de-kinderarmoede/2028-04-17/
CATEGORIES:Mens en maatschappij
ORGANIZER;CN="Nationaal Fonds Kinderhulp":MAILTO:info@kinderhulp.nl
END:VEVENT
BEGIN:VEVENT
DTSTART;VALUE=DATE:20280417
DTEND;VALUE=DATE:20280424
DTSTAMP:20260422T065111
CREATED:20251117T092814Z
LAST-MODIFIED:20251117T092814Z
UID:10009382-1839542400-1840147199@issuekalender.nl
SUMMARY:NATIONALE HARTFALENWEEK
DESCRIPTION:[vc_row][vc_column][vc_single_image image=”61″ css_animation=”fadeInUp” alignment=”left”][/vc_column][/vc_row][vc_row][vc_column][vc_column_text css_animation=”fadeIn” css=”” font_size=”45″ font_family=”Roboto” font_weight=”500″ color=”#57529e”]\nNATIONALE HARTFALENWEEK \n[/vc_column_text][vc_empty_space height=”10px”][vc_single_image image=”88″ img_size=”medium” css_animation=”fadeInUp” alignment=”left”][/vc_column][/vc_row][vc_row][vc_column][vc_column_text css=””]Bij hartfalen kan het hart niet genoeg bloed rondpompen. Daardoor krijgen organen en spieren niet genoeg zuurstof en voedingsstoffen. Deze ziekte ontstaat meestal geleidelijk. Zonder behandeling gaat\nhet hart steeds verder achteruit. Hartfalen is niet hetzelfde als een hartinfarct of een hartstilstand. Deze ziekten treden altijd plotseling op. Veel mensen herkennen klachten van hartfalen niet als signalen\nvan een ziekte. Hierdoor gaan zij te laat of zelfs niet naar een dokter. Tijdige behandeling kan juist voorkomen dat iemand steeds meer klachten krijgt en alsmaar zieker wordt. \nIn de periode om de Hartfalendag heen is er extra aandacht in ziekenhuizen en huisartspraktijken om mensen bewust te maken van hartfalen en de klachten die op hartfalen kunnen wijzen. Op de Hartfalendag zelf is er een congres voor cardiologen\, huisartsen\, fysiotherapeuten\, verpleegkundig specialisten\, hartfalenverpleegkundigen en andere (para)medici betrokken bij hartfalenzorg.[/vc_column_text][/vc_column][/vc_row][vc_row][vc_column][vc_single_image image=”61″ css_animation=”fadeInUp” alignment=”left”][/vc_column][/vc_row][vc_row][vc_column width=”1/2″]Issuekalender doorzoeken [/vc_column][vc_column width=”1/2″][/vc_column][/vc_row]
URL:https://issuekalender.nl/issue/nationale-hartfalenweek-2/2028-04-17/
CATEGORIES:Welzijn en gezondheid
ORGANIZER;CN="Hartstichting":MAILTO:r.vanduin@hartstichting.nl
END:VEVENT
BEGIN:VEVENT
DTSTART;VALUE=DATE:20280418
DTEND;VALUE=DATE:20280419
DTSTAMP:20260422T065111
CREATED:20230715T143102Z
LAST-MODIFIED:20251111T125606Z
UID:10007143-1839628800-1839715199@issuekalender.nl
SUMMARY:INTERNATIONALE DAG VOOR MONUMENTEN EN OPGRAVINGEN (VN)
DESCRIPTION:[vc_row][vc_column][vc_single_image image=”61″ css_animation=”fadeInUp” alignment=”left”][/vc_column][/vc_row][vc_row][vc_column][vc_column_text css_animation=”fadeIn” font_size=”45″ font_family=”Roboto” font_weight=”500″ color=”#57529e”]\nINTERNATIONALE DAG VOOR MONUMENTEN EN OPGRAVINGEN (VN) \n[/vc_column_text][vc_empty_space height=”10px”][vc_single_image image=”88″ img_size=”medium” css_animation=”fadeInUp” alignment=”left”][/vc_column][/vc_row][vc_row][vc_column][vc_column_text]Om de waarde ons werelderfgoed onder de aandacht te brengen wordt sinds 1983 op 18 april de International Day for Monuments and Sites georganiseerd.[/vc_column_text][/vc_column][/vc_row][vc_row][vc_column][vc_single_image image=”61″ css_animation=”fadeInUp” alignment=”left”][/vc_column][/vc_row][vc_row][vc_column width=”1/2″]Issuekalender doorzoeken [/vc_column][vc_column width=”1/2″][/vc_column][/vc_row]
URL:https://issuekalender.nl/issue/internationale-dag-voor-monumenten-en-opgravingen-vn/2028-04-18/
CATEGORIES:Kunst en cultuur
END:VEVENT
BEGIN:VEVENT
DTSTART;VALUE=DATE:20280419
DTEND;VALUE=DATE:20280420
DTSTAMP:20260422T065111
CREATED:20230715T143009Z
LAST-MODIFIED:20251111T125703Z
UID:10003695-1839715200-1839801599@issuekalender.nl
SUMMARY:LANDELIJKE DAG TEGEN PESTEN
DESCRIPTION:[vc_row][vc_column][vc_single_image image=”61″ css_animation=”fadeInUp” alignment=”left”][/vc_column][/vc_row][vc_row][vc_column][vc_column_text css_animation=”fadeIn” font_size=”45″ font_family=”Roboto” font_weight=”500″ color=”#57529e”]\nLANDELIJKE DAG TEGEN PESTEN \n[/vc_column_text][vc_empty_space height=”10px”][vc_single_image image=”88″ img_size=”medium” css_animation=”fadeInUp” alignment=”left”][/vc_column][/vc_row][vc_row][vc_column][vc_column_text]Op de Dag tegen Pesten op 19 april is er – in tegenstelling tot veel andere Dagen van\, Dagen tegen of Dagen voor het een of ander – niet één groot centraal evenement met muziek\, optredens van BN’ers en speeches van betrokken politici. Dat is een bewuste keuze\, vertelt Patricia Bolwerk\, directeur van Stop Pesten NU en verantwoordelijk voor het “aanslingeren” van de Dag tegen Pesten. “We proberen te bereiken dat mensen zelf in actie komen om pesten te stoppen\, dat ze zelf iets organiseren in hun eigen omgeving. De Dag tegen Pesten is vooral bedoeld om één dag per jaar extra bewustzijn te creëren.”[/vc_column_text][/vc_column][/vc_row][vc_row][vc_column][vc_single_image image=”61″ css_animation=”fadeInUp” alignment=”left”][/vc_column][/vc_row][vc_row][vc_column width=”1/2″]Issuekalender doorzoeken [/vc_column][vc_column width=”1/2″][/vc_column][/vc_row]
URL:https://issuekalender.nl/issue/landelijke-dag-tegen-pesten/2028-04-19/
CATEGORIES:Onderwijs en educatie,Sociale cohesie en integratie,Welzijn en gezondheid
END:VEVENT
BEGIN:VEVENT
DTSTART;VALUE=DATE:20280420
DTEND;VALUE=DATE:20280421
DTSTAMP:20260422T065111
CREATED:20231030T091942Z
LAST-MODIFIED:20241002T135414Z
UID:10007148-1839801600-1839887999@issuekalender.nl
SUMMARY:SECRETARESSEDAG
DESCRIPTION:[vc_row][vc_column][vc_single_image image=”61″ css_animation=”fadeInUp” alignment=”left”][/vc_column][/vc_row][vc_row][vc_column][vc_column_text css_animation=”fadeIn” font_size=”45″ font_family=”Roboto” font_weight=”500″ color=”#57529e”]\nSECRETARESSEDAG \n[/vc_column_text][vc_empty_space height=”10px”][vc_single_image image=”88″ img_size=”medium” css_animation=”fadeInUp” alignment=”left”][/vc_column][/vc_row][vc_row][vc_column][vc_column_text]Elke derde donderdag van april worden in Europa de secretaresses in het zonnetje gezet door hun werkgever.[/vc_column_text][/vc_column][/vc_row][vc_row][vc_column][vc_single_image image=”61″ css_animation=”fadeInUp” alignment=”left”][/vc_column][/vc_row][vc_row][vc_column width=”1/2″]Issuekalender doorzoeken [/vc_column][vc_column width=”1/2″][/vc_column][/vc_row]
URL:https://issuekalender.nl/issue/secretaressedag/2028-04-20/
CATEGORIES:Mens en maatschappij
END:VEVENT
BEGIN:VEVENT
DTSTART;VALUE=DATE:20280422
DTEND;VALUE=DATE:20280423
DTSTAMP:20260422T065111
CREATED:20230715T142152Z
LAST-MODIFIED:20251111T125726Z
UID:10007169-1839974400-1840060799@issuekalender.nl
SUMMARY:DAG VAN DE AARDE – EARTH DAY (VN)
DESCRIPTION:[vc_row][vc_column][vc_single_image image=”61″ css_animation=”fadeInUp” alignment=”left”][/vc_column][/vc_row][vc_row][vc_column][vc_column_text css_animation=”fadeIn” font_size=”45″ font_family=”Roboto” font_weight=”500″ color=”#57529e”]\nDAG VAN DE AARDE – EARTH DAY (VN) \n[/vc_column_text][vc_empty_space height=”10px”][vc_single_image image=”88″ img_size=”medium” css_animation=”fadeInUp” alignment=”left”][/vc_column][/vc_row][vc_row][vc_column][vc_column_text]De Dag van de Aarde\, jaarlijks op 22 april\, is sinds 1973 vooral in de Verenigde Staten een populair fenomeen (Earth Day). De dag heeft als doelstelling mensen te laten nadenken over hun consumentengedrag en de invloed hiervan op de aarde. De activiteiten worden wereldwijd gecoördineerd door de Earth Day Association. \nIn 2002 introduceerde de stichting Dag van de Aarde in Nederland een nationale dag voor bezinning en plezier.[/vc_column_text][/vc_column][/vc_row][vc_row][vc_column][vc_single_image image=”61″ css_animation=”fadeInUp” alignment=”left”][/vc_column][/vc_row][vc_row][vc_column width=”1/2″]Issuekalender doorzoeken [/vc_column][vc_column width=”1/2″][/vc_column][/vc_row]
URL:https://issuekalender.nl/issue/dag-van-de-aarde-earth-day-vn/2028-04-22/
CATEGORIES:Milieu en duurzaamheid
END:VEVENT
BEGIN:VEVENT
DTSTART;VALUE=DATE:20280422
DTEND;VALUE=DATE:20280423
DTSTAMP:20260422T065111
CREATED:20231016T154023Z
LAST-MODIFIED:20241023T122029Z
UID:10008135-1839974400-1840060799@issuekalender.nl
SUMMARY:NATIONALE ZAAIDAG
DESCRIPTION:[vc_row][vc_column][vc_single_image image=”61″ css_animation=”fadeInUp” alignment=”left”][/vc_column][/vc_row][vc_row][vc_column][vc_column_text css_animation=”fadeIn” font_size=”45″ font_family=”Roboto” font_weight=”500″ color=”#57529e”]\nNATIONALE ZAAIDAG \n[/vc_column_text][vc_empty_space height=”10px”][vc_single_image image=”88″ img_size=”medium” css_animation=”fadeInUp” alignment=”left”][/vc_column][/vc_row][vc_row][vc_column][vc_column_text]De Bijenstichting en Stichting Bijenvrienden roepen voor het tiende jaar particulieren\, gemeenten\, agrariërs\, scholen en andere grondbezitters op om bloemstroken aan te leggen zodat er één groot bloemenlint voor bijen ontstaat.[/vc_column_text][/vc_column][/vc_row][vc_row][vc_column][vc_single_image image=”61″ css_animation=”fadeInUp” alignment=”left”][/vc_column][/vc_row][vc_row][vc_column width=”1/2″]Issuekalender doorzoeken [/vc_column][vc_column width=”1/2″][/vc_column][/vc_row]
URL:https://issuekalender.nl/issue/nationale-zaaidag/2028-04-22/
CATEGORIES:Dierenwelzijn,Milieu en duurzaamheid
ORGANIZER;CN="De Bijenstichting en Stichting Bijenvrienden":MAILTO:info@bijenstichting.nl
END:VEVENT
BEGIN:VEVENT
DTSTART;VALUE=DATE:20280422
DTEND;VALUE=DATE:20280506
DTSTAMP:20260422T065111
CREATED:20251201T141037Z
LAST-MODIFIED:20251201T141037Z
UID:10009620-1839974400-1841183999@issuekalender.nl
SUMMARY:Leven met Water Week
DESCRIPTION:[vc_row][vc_column][vc_single_image image=”61″ css_animation=”fadeInUp” alignment=”left”][/vc_column][/vc_row][vc_row][vc_column][vc_column_text css_animation=”fadeIn” font_size=”45″ font_family=”Roboto” font_weight=”500″ color=”#57529e”]\nLEVEN MET WATER WEEK \n[/vc_column_text][vc_empty_space height=”10px”][vc_single_image image=”88″ img_size=”medium” css_animation=”fadeInUp” alignment=”left”][/vc_column][/vc_row][vc_row][vc_column][vc_column_text]\nHet veranderende klimaat zorgt ervoor dat we steeds vaker te maken krijgen met droge perioden of juist met extreme neerslag. Dat kan leiden tot watertekort of juist tot wateroverlast. Ook raakt ons oppervlaktewater vervuild door de manier waarop we leven\, het klimaat dat verandert en door vervuild water dat ons land in stroomt. \nEr zijn dus nogal wat uitdagingen als het gaat om water. En dit vraagt om actie. We moeten anders met ons water omgaan. Dat moeten we samen doen: de overheid\, bedrijven én alle Nederlanders. \n[/vc_column_text][/vc_column][/vc_row][vc_row][vc_column][vc_single_image image=”61″ css_animation=”fadeInUp” alignment=”left”][/vc_column][/vc_row][vc_row][vc_column width=”1/2″]Issuekalender doorzoeken [/vc_column][vc_column width=”1/2″][/vc_column][/vc_row]
URL:https://issuekalender.nl/issue/leven-met-water-week/2028-04-22/
CATEGORIES:Mens en maatschappij
END:VEVENT
BEGIN:VEVENT
DTSTART;VALUE=DATE:20280423
DTEND;VALUE=DATE:20280424
DTSTAMP:20260422T065111
CREATED:20230715T141144Z
LAST-MODIFIED:20251111T125827Z
UID:10007175-1840060800-1840147199@issuekalender.nl
SUMMARY:WERELDBOEKENDAG (VN)
DESCRIPTION:[vc_row][vc_column][vc_single_image image=”61″ css_animation=”fadeInUp” alignment=”left”][/vc_column][/vc_row][vc_row][vc_column][vc_column_text css_animation=”fadeIn” font_size=”45″ font_family=”Roboto” font_weight=”500″ color=”#57529e”]\nWERELDBOEKENDAG (VN) \n[/vc_column_text][vc_empty_space height=”10px”][vc_single_image image=”88″ img_size=”medium” css_animation=”fadeInUp” alignment=”left”][/vc_column][/vc_row][vc_row][vc_column][vc_column_text]Deze dag\, die ook bekend staat als ‘Internationale dag van het boek en de auteursrechten’ vindt sinds 1995 jaarlijks op 23 april plaats. \nHet is op deze datum in 1616 dat zowel Cervantes\, Shakespeare als Inca Garcilaso de la Vega stierven. Het is ook de geboortedatum of overlijden van andere prominente auteurs\, zoals Maurice Druon\, Haldor K.Laxness\, Vladimir Nabokov\, Josep Pla en Manuel Mejía Vallejo. \nDaarom wordt op deze datum een wereldwijd eerbetoon aan boeken en auteurs gehouden. Hiermee hoopt UNESCO iedereen – en met name jongeren – aan te moedigen om het plezier van lezen te ontdekken. Ook wil de VN-organisatie naar eigen zeggen ‘hernieuwd respect creëren voor de onvervangbare bijdragen van degenen die de sociale en culturele vooruitgang van de mensheid hebben bevorderd’.[/vc_column_text][/vc_column][/vc_row][vc_row][vc_column][vc_single_image image=”61″ css_animation=”fadeInUp” alignment=”left”][/vc_column][/vc_row][vc_row][vc_column width=”1/2″]Issuekalender doorzoeken [/vc_column][vc_column width=”1/2″][/vc_column][/vc_row]
URL:https://issuekalender.nl/issue/wereldboekendag-vn/2028-04-23/
CATEGORIES:Kunst en cultuur
END:VEVENT
END:VCALENDAR