BEGIN:VCALENDAR
VERSION:2.0
PRODID:-//Issuekalender - ECPv6.9.0//NONSGML v1.0//EN
CALSCALE:GREGORIAN
METHOD:PUBLISH
X-WR-CALNAME:Issuekalender
X-ORIGINAL-URL:https://issuekalender.nl
X-WR-CALDESC:Evenementen voor Issuekalender
REFRESH-INTERVAL;VALUE=DURATION:PT1H
X-Robots-Tag:noindex
X-PUBLISHED-TTL:PT1H
BEGIN:VTIMEZONE
TZID:Europe/Amsterdam
BEGIN:DAYLIGHT
TZOFFSETFROM:+0100
TZOFFSETTO:+0200
TZNAME:CEST
DTSTART:20280326T010000
END:DAYLIGHT
BEGIN:STANDARD
TZOFFSETFROM:+0200
TZOFFSETTO:+0100
TZNAME:CET
DTSTART:20281029T010000
END:STANDARD
END:VTIMEZONE
BEGIN:VEVENT
DTSTART;VALUE=DATE:20280301
DTEND;VALUE=DATE:20280401
DTSTAMP:20260422T002407
CREATED:20230714T124946Z
LAST-MODIFIED:20251111T111927Z
UID:10008576-1835481600-1838159999@issuekalender.nl
SUMMARY:ENDOMETRIOSE AWARENESS MAAND
DESCRIPTION:[vc_row][vc_column][vc_single_image image=”61″ css_animation=”fadeInUp” alignment=”left”][/vc_column][/vc_row][vc_row][vc_column][vc_column_text css_animation=”fadeIn” font_size=”45″ font_family=”Roboto” font_weight=”500″ color=”#57529e”]\nENDOMETRIOSE AWARENESS MAAND \n[/vc_column_text][vc_empty_space height=”10px”][vc_single_image image=”88″ img_size=”medium” css_animation=”fadeInUp” alignment=”left”][/vc_column][/vc_row][vc_row][vc_column][vc_column_text]De gehele maand maart is wereldwijd Endometriosis Awareness Month. \n\n[/vc_column_text][/vc_column][/vc_row][vc_row][vc_column][vc_single_image image=”61″ css_animation=”fadeInUp” alignment=”left”][/vc_column][/vc_row][vc_row][vc_column width=”1/2″]Issuekalender doorzoeken [/vc_column][vc_column width=”1/2″][/vc_column][/vc_row]
URL:https://issuekalender.nl/issue/endometriose-awareness-maand/2028-03-01/
CATEGORIES:Welzijn en gezondheid
END:VEVENT
BEGIN:VEVENT
DTSTART;VALUE=DATE:20280301
DTEND;VALUE=DATE:20280401
DTSTAMP:20260422T002407
CREATED:20230714T131149Z
LAST-MODIFIED:20251111T111937Z
UID:10008586-1835481600-1838159999@issuekalender.nl
SUMMARY:DARMKANKERMAAND
DESCRIPTION:[vc_row][vc_column][vc_single_image image=”61″ css_animation=”fadeInUp” alignment=”left”][/vc_column][/vc_row][vc_row][vc_column][vc_column_text css_animation=”fadeIn” font_size=”45″ font_family=”Roboto” font_weight=”500″ color=”#57529e”]\nDARMKANKERMAAND \n[/vc_column_text][vc_empty_space height=”10px”][vc_single_image image=”88″ img_size=”medium” css_animation=”fadeInUp” alignment=”left”][/vc_column][/vc_row][vc_row][vc_column][vc_column_text]Maart is internationaal uitgeroepen tot darmkankermaand. Tijdens de darmkankermaand geeft de Maag-\, Lever-\, Darm-Stichting extra aandacht aan de preventie van darmkanker en mensen die getroffen zijn door de ziekte. Jaarlijks krijgen meer dan 15.000 patiënten en hun naasten met darmkanker te maken.[/vc_column_text][/vc_column][/vc_row][vc_row][vc_column][vc_single_image image=”61″ css_animation=”fadeInUp” alignment=”left”][/vc_column][/vc_row][vc_row][vc_column width=”1/2″]Issuekalender doorzoeken [/vc_column][vc_column width=”1/2″][/vc_column][/vc_row]
URL:https://issuekalender.nl/issue/darmkankermaand/2028-03-01/
CATEGORIES:Welzijn en gezondheid
ORGANIZER;CN="Maag Lever Darm Stichting":MAILTO:info@mlds.nl
END:VEVENT
BEGIN:VEVENT
DTSTART;VALUE=DATE:20280308
DTEND;VALUE=DATE:20280320
DTSTAMP:20260422T002407
CREATED:20230714T135746Z
LAST-MODIFIED:20241028T155229Z
UID:10009050-1836086400-1837123199@issuekalender.nl
SUMMARY:BOEKENWEEK
DESCRIPTION:[vc_row][vc_column][vc_single_image image=”61″ css_animation=”fadeInUp” alignment=”left”][/vc_column][/vc_row][vc_row][vc_column][vc_column_text css_animation=”fadeIn” font_size=”45″ font_family=”Roboto” font_weight=”500″ color=”#57529e”]\nBOEKENWEEK \n[/vc_column_text][vc_empty_space height=”10px”][vc_single_image image=”88″ img_size=”medium” css_animation=”fadeInUp” alignment=”left”][/vc_column][/vc_row][vc_row][vc_column][vc_column_text css=””]In de Boekenweek staat literaire (non-) fictie centraal. Elke Boekenweek heeft een thema. Dit thema vestigt de aandacht op een bepaald segment en nieuwe uitgaven van het boekenaanbod. \n\nHet thema van de 89ste Boekenweek in 2025 is ’tijd’. De Boekenweek wordt gevierd van 16 tot en met 24 maart en het Boekenweekgeschenk wordt geschreven door de grootste schrijversfamilie van Nederland: de Chabotten.\n\n\n\n\n\n\n\n\n\n[/vc_column_text][/vc_column][/vc_row][vc_row][vc_column][vc_single_image image=”61″ css_animation=”fadeInUp” alignment=”left”][/vc_column][/vc_row][vc_row][vc_column width=”1/2″]Issuekalender doorzoeken [/vc_column][vc_column width=”1/2″][/vc_column][/vc_row]
URL:https://issuekalender.nl/issue/boekenweek/2028-03-08/
CATEGORIES:Kunst en cultuur,Onderwijs en educatie,Ontspanning en plezier
ORGANIZER;CN="Stichting CPNB":MAILTO:info@cpnb.nl
END:VEVENT
BEGIN:VEVENT
DTSTART;VALUE=DATE:20280313
DTEND;VALUE=DATE:20280314
DTSTAMP:20260422T002407
CREATED:20251117T092127Z
LAST-MODIFIED:20251117T092127Z
UID:10009342-1836518400-1836604799@issuekalender.nl
SUMMARY:INTERNATIONALE DAG VAN DE SLAAP
DESCRIPTION:[vc_row][vc_column][vc_single_image image=”61″ css_animation=”fadeInUp” alignment=”left”][/vc_column][/vc_row][vc_row][vc_column][vc_column_text css_animation=”fadeIn” font_size=”45″ font_family=”Roboto” font_weight=”500″ color=”#57529e”]\nINTERNATIONALE DAG VAN DE SLAAP \n[/vc_column_text][vc_empty_space height=”10px”][vc_single_image image=”88″ img_size=”medium” css_animation=”fadeInUp” alignment=”left”][/vc_column][/vc_row][vc_row][vc_column][vc_column_text]Hoewel deze dag meer leeft in België\, waar het een ware ‘uitslaapdag’ is geworden\, wordt in Nederland vooral aandacht gevraagd voor de gevolgen van slechte nachtrust en de aandoeningen die slechte nachtrust kunnen veroorzaken.[/vc_column_text][/vc_column][/vc_row][vc_row][vc_column][vc_single_image image=”61″ css_animation=”fadeInUp” alignment=”left”][/vc_column][/vc_row][vc_row][vc_column width=”1/2″]Issuekalender doorzoeken [/vc_column][vc_column width=”1/2″][/vc_column][/vc_row]
URL:https://issuekalender.nl/issue/internationale-dag-van-de-slaap-2/2028-03-13/
CATEGORIES:Welzijn en gezondheid
ORGANIZER;CN="World Sleep Society":MAILTO:info@worldsleepsociety.org
END:VEVENT
BEGIN:VEVENT
DTSTART;VALUE=DATE:20280314
DTEND;VALUE=DATE:20280315
DTSTAMP:20260422T002407
CREATED:20230714T140711Z
LAST-MODIFIED:20251111T112713Z
UID:10008636-1836604800-1836691199@issuekalender.nl
SUMMARY:PI-DAG
DESCRIPTION:[vc_row][vc_column][vc_single_image image=”61″ css_animation=”fadeInUp” alignment=”left”][/vc_column][/vc_row][vc_row][vc_column][vc_column_text css_animation=”fadeIn” font_size=”45″ font_family=”Roboto” font_weight=”500″ color=”#57529e”]\nPI-DAG \n[/vc_column_text][vc_empty_space height=”10px”][vc_single_image image=”88″ img_size=”medium” css_animation=”fadeInUp” alignment=”left”][/vc_column][/vc_row][vc_row][vc_column][vc_column_text]Op π-dag\, 14 maart\, wordt wereldwijd op verschillende wiskundeafdelingen van universiteiten feestgevierd. π-dag wordt op 14 maart gevierd\, omdat in de Amerikaanse schrijfwijze voor data 14 maart geschreven wordt als 3/14 en de driecijferige benadering voor π 3\,14 is. Deze dag wordt op verschillende manieren gevierd. De viering begint gewoonlijk om 13:59 uur (1:59 PM)\, omdat de zescijferige benadering van π 3\,14159 is.[/vc_column_text][/vc_column][/vc_row][vc_row][vc_column][vc_single_image image=”61″ css_animation=”fadeInUp” alignment=”left”][/vc_column][/vc_row][vc_row][vc_column width=”1/2″]Issuekalender doorzoeken [/vc_column][vc_column width=”1/2″][/vc_column][/vc_row]
URL:https://issuekalender.nl/issue/pi-dag/2028-03-14/
CATEGORIES:Innovatie en technologie,Onderwijs en educatie,Wetenschap
END:VEVENT
BEGIN:VEVENT
DTSTART;VALUE=DATE:20280315
DTEND;VALUE=DATE:20280316
DTSTAMP:20260422T002407
CREATED:20230714T140815Z
LAST-MODIFIED:20251111T112724Z
UID:10008641-1836691200-1836777599@issuekalender.nl
SUMMARY:WERELDDAG VAN DE RECHTEN VAN DE CONSUMENT
DESCRIPTION:[vc_row][vc_column][vc_single_image image=”61″ css_animation=”fadeInUp” alignment=”left”][/vc_column][/vc_row][vc_row][vc_column][vc_column_text css_animation=”fadeIn” font_size=”45″ font_family=”Roboto” font_weight=”500″ color=”#57529e”]\nWERELDDAG VAN DE RECHTEN VAN DE CONSUMENT \n[/vc_column_text][vc_empty_space height=”10px”][vc_single_image image=”88″ img_size=”medium” css_animation=”fadeInUp” alignment=”left”][/vc_column][/vc_row][vc_row][vc_column][vc_column_text]De consumentenbeweging viert elk jaar op 15 maart de Werelddag van de Rechten van de Consument\, als middel om het wereldwijde bewustzijn over consumentenrechten en -behoeften te vergroten. Het vieren van de dag is een kans om te eisen dat de rechten van alle consumenten worden gerespecteerd en beschermd\, en om te protesteren tegen marktmisbruik en sociale onrechtvaardigheden die deze rechten ondermijnen. \nDe Wereldconsumentenrechtendag werd geïnspireerd door president John F. Kennedy\, die op 15 maart 1962 een speciale boodschap naar het Amerikaanse Congres stuurde\, waarin hij zich formeel over de kwestie van de consumentenrechten uitsprak. Hij was de eerste wereldleider die dat deed. De consumentenbeweging zette die datum voor het eerst in 1983 in het zonnetje en gebruikt die dag nu elk jaar om actie te ondernemen met betrekking tot belangrijke kwesties en campagnes.[/vc_column_text][/vc_column][/vc_row][vc_row][vc_column][vc_single_image image=”61″ css_animation=”fadeInUp” alignment=”left”][/vc_column][/vc_row][vc_row][vc_column width=”1/2″]Issuekalender doorzoeken [/vc_column][vc_column width=”1/2″][/vc_column][/vc_row]
URL:https://issuekalender.nl/issue/werelddag-van-de-rechten-van-de-consument/2028-03-15/
CATEGORIES:Economie en financiën
END:VEVENT
BEGIN:VEVENT
DTSTART;VALUE=DATE:20280315
DTEND;VALUE=DATE:20280316
DTSTAMP:20260422T002407
CREATED:20231031T084859Z
LAST-MODIFIED:20241028T131931Z
UID:10008423-1836691200-1836777599@issuekalender.nl
SUMMARY:DE GROTE REKENDAG
DESCRIPTION:[vc_row][vc_column][vc_single_image image=”61″ css_animation=”fadeInUp” alignment=”left”][/vc_column][/vc_row][vc_row][vc_column][vc_column_text css_animation=”fadeIn” font_size=”45″ font_family=”Roboto” font_weight=”500″ color=”#57529e”]\nDE GROTE REKENDAG \n[/vc_column_text][vc_empty_space height=”10px”][vc_single_image image=”88″ img_size=”medium” css_animation=”fadeInUp” alignment=”left”][/vc_column][/vc_row][vc_row][vc_column][vc_column_text css=””]De Grote Rekendag is een dag voor groep 1 tot en met 8 die helemaal in het teken staat van rekenen. Het is een dag van onderzoekend leren en speelse opdrachten. Een dag die laat zien dat rekenen meer is dan alleen sommen maken. Een dag die laat zien hoe leuk rekenen kan zijn. \nDe dag wordt elk jaar georganiseerd\, meestal in maart. Meer dan duizend basisscholen uit Nederland en Vlaanderen doen mee. \n[/vc_column_text][/vc_column][/vc_row][vc_row][vc_column][vc_single_image image=”61″ css_animation=”fadeInUp” alignment=”left”][/vc_column][/vc_row][vc_row][vc_column width=”1/2″]Issuekalender doorzoeken [/vc_column][vc_column width=”1/2″][/vc_column][/vc_row]
URL:https://issuekalender.nl/issue/de-grote-rekendag/2028-03-15/
CATEGORIES:Onderwijs en educatie
ORGANIZER;CN="Grote Rekendag":MAILTO:info@rekendag.nl
END:VEVENT
BEGIN:VEVENT
DTSTART;VALUE=DATE:20280316
DTEND;VALUE=DATE:20280317
DTSTAMP:20260422T002407
CREATED:20230714T141900Z
LAST-MODIFIED:20251111T112744Z
UID:10008646-1836777600-1836863999@issuekalender.nl
SUMMARY:DAG VAN DE THUISWERKER
DESCRIPTION:[vc_row][vc_column][vc_single_image image=”61″ css_animation=”fadeInUp” alignment=”left”][/vc_column][/vc_row][vc_row][vc_column][vc_empty_space height=”10px”][vc_single_image image=”88″ img_size=”medium” css_animation=”fadeInUp” alignment=”left”][/vc_column][/vc_row][vc_row][vc_column][vc_column_text]Half Nederland ontdekte in 2020 noodgedwongen het thuiswerken. Als de coronamaatregelen straks versoepelen\, dan gaan velen weer opgelucht naar kantoor. Maar niet iedereen. Een groep mensen werkt altijd vanuit huis. Omdat ze dat willen óf omdat ze niet anders kunnen\, bijvoorbeeld omdat ze door een aandoening niet op kantoor kunnen werken. \nOp de Dag van de Thuiswerker\, op 16 maart\, zetten we deze mensen in het zonnetje. \nLange tijd werd thuiswerken gezien als een bijbaantje. Iets voor een veredelde huisvrouw. Doordat veel mensen afgelopen noodgedwongen ervaring opgedaan hebben met thuiswerken is het imago van thuiswerken gelukkig verbetert. Mensen beseffen dat thuiswerkers even hard werken als hun equivalenten op kantoor. \nMaar we willen met de Dag van de Thuiswerker nog een extra stap zetten. We willen mensen ervan bewust maken dat vanuit huis werken een langdurige oplossing kan zijn voor mensen met en zonder aandoening. Voor de mensen zelf\, die met thuiswerken een betere balans in hun leven krijgen\, en voor werkgevers die door de thuiswerkbaan te omarmen als serieuze mogelijkheid minder snel afscheid hoeft te nemen van medewerkers die langdurig ziek worden en moeite hebben met de reis naar of de drukte op kantoor. \nDe Dag van de Thuiswerker wordt georganiseerd door social enterprise Webmastery\, waar de medewerkers allen vanuit huis werken. Zij verzorgen social media en websites voor organisaties. \nWil je bijdragen aan ons doel? Laten zien welke thuiswerktopper jij kent. Zet ze in het zonnetje op je social media met hashtag #dagvandethuiswerker op 16 maart. En vergeet niet de organisatie te mentionen die deze thuiswerker de kans biedt om te shinen op afstand.[/vc_column_text][/vc_column][/vc_row][vc_row][vc_column][vc_single_image image=”61″ css_animation=”fadeInUp” alignment=”left”][/vc_column][/vc_row][vc_row][vc_column width=”1/2″]Issuekalender doorzoeken [/vc_column][vc_column width=”1/2″][/vc_column][/vc_row]
URL:https://issuekalender.nl/issue/dag-van-de-thuiswerker-2/2028-03-16/
CATEGORIES:Mens en maatschappij,Werk en welzijn
ORGANIZER;CN="Webmastery":MAILTO:margaret@webmastery.nl
END:VEVENT
BEGIN:VEVENT
DTSTART;VALUE=DATE:20280316
DTEND;VALUE=DATE:20280317
DTSTAMP:20260422T002407
CREATED:20230714T143033Z
LAST-MODIFIED:20251111T112756Z
UID:10006745-1836777600-1836863999@issuekalender.nl
SUMMARY:DAG VAN DE GEZONDE SCHOOLKANTINE
DESCRIPTION:[vc_row][vc_column][vc_single_image image=”61″ css_animation=”fadeInUp” alignment=”left”][/vc_column][/vc_row][vc_row][vc_column][vc_column_text css_animation=”fadeIn” font_size=”45″ font_family=”Roboto” font_weight=”500″ color=”#57529e”]\nDAG VAN DE GEZONDE SCHOOLKANTINE \n[/vc_column_text][vc_empty_space height=”10px”][vc_single_image image=”88″ img_size=”medium” css_animation=”fadeInUp” alignment=”left”][/vc_column][/vc_row][vc_row][vc_column][vc_column_text]Dag van de Gezonde Schoolkantine. \nEen gezonde schoolkantine is een belangrijke factor in het gezonder maken van de eetomgeving van jongeren. Willen we dat zij gezonder leven\, dan is het belangrijk dat zij ook op school gezond kunnen eten en drinken. Zij brengen hier immers een groot deel van hun tijd door. Ervaren dat gezond eten lekker en heel gewoon is\, helpt hen een gezond eetpatroon te ontwikkelen.[/vc_column_text][/vc_column][/vc_row][vc_row][vc_column][vc_single_image image=”61″ css_animation=”fadeInUp” alignment=”left”][/vc_column][/vc_row][vc_row][vc_column width=”1/2″]Issuekalender doorzoeken [/vc_column][vc_column width=”1/2″][/vc_column][/vc_row]
URL:https://issuekalender.nl/issue/dag-van-de-gezonde-schoolkantine/2028-03-16/
CATEGORIES:Mens en maatschappij,Onderwijs en educatie,Welzijn en gezondheid
ORGANIZER;CN="Voedingscentrum Nederland":MAILTO:schuit@voedingscentrum.nl
END:VEVENT
BEGIN:VEVENT
DTSTART;VALUE=DATE:20280317
DTEND;VALUE=DATE:20280318
DTSTAMP:20260422T002407
CREATED:20230714T144357Z
LAST-MODIFIED:20251111T112835Z
UID:10009149-1836864000-1836950399@issuekalender.nl
SUMMARY:WERELDVERTELDAG
DESCRIPTION:[vc_row][vc_column][vc_single_image image=”61″ css_animation=”fadeInUp” alignment=”left”][/vc_column][/vc_row][vc_row][vc_column][vc_column_text css_animation=”fadeIn” font_size=”45″ font_family=”Roboto” font_weight=”500″ color=”#57529e”]\nWERELDVERTELDAG \n[/vc_column_text][vc_empty_space height=”10px”][vc_single_image image=”88″ img_size=”medium” css_animation=”fadeInUp” alignment=”left”][/vc_column][/vc_row][vc_row][vc_column][vc_column_text]Op Wereldverteldag vieren vertellers uit de hele wereld de kunst van het vertellen: het overdragen van verhalen in de mondelinge traditie.[/vc_column_text][/vc_column][/vc_row][vc_row][vc_column][vc_single_image image=”61″ css_animation=”fadeInUp” alignment=”left”][/vc_column][/vc_row][vc_row][vc_column width=”1/2″]Issuekalender doorzoeken [/vc_column][vc_column width=”1/2″][/vc_column][/vc_row]
URL:https://issuekalender.nl/issue/wereldverteldag/2028-03-17/
CATEGORIES:Mens en maatschappij,Onderwijs en educatie
ORGANIZER;CN="Werkgroep Wereldverteldag":MAILTO:info@wereldverteldag.nl
END:VEVENT
BEGIN:VEVENT
DTSTART;VALUE=DATE:20280318
DTEND;VALUE=DATE:20280319
DTSTAMP:20260422T002407
CREATED:20230714T143716Z
LAST-MODIFIED:20251111T112811Z
UID:10008651-1836950400-1837036799@issuekalender.nl
SUMMARY:ARUBADAG
DESCRIPTION:[vc_row][vc_column][vc_single_image image=”61″ css_animation=”fadeInUp” alignment=”left”][/vc_column][/vc_row][vc_row][vc_column][vc_column_text css_animation=”fadeIn” font_size=”45″ font_family=”Roboto” font_weight=”500″ color=”#57529e”]\nARUBADAG \n[/vc_column_text][vc_empty_space height=”10px”][vc_single_image image=”88″ img_size=”medium” css_animation=”fadeInUp” alignment=”left”][/vc_column][/vc_row][vc_row][vc_column][vc_column_text]Op deze voor Aruba historische dag wordt gevierd dat het eiland haar eigen vlag en volkslied heeft. \nDe Arubaanse vlag werd officieel in gebruik genomen op 18 maart 1976. Op diezelfde dag kreeg Aruba ook een eigen volkslied\, “Aruba Dushi Tera” dat te luisteren is op de video hiernaast. Dit volkslied werd gecomponeerd en geschreven door de Arubaanse muzikanten Juan Chabaya Lampe (Padu) del Caribe\, Hubert Booi en Rufo Wever. Om te herdenken dat Aruba een eigen vlag en volkslied kreeg in 1976\, wordt nog elk jaar op 18 maart dit heuglijke feit gevierd tijdens een grote nationale feestdag\, Arubadag. Arubadag\, ofwel de dag van de vlag en het volkslied\, wordt gevierd over het hele eiland\, maar de meeste festiviteiten vinden plaats in Oranjestad. Zo wordt er bijvoorbeeld een grote folkloristische zang- en dansshow gehouden op 18 maart op de LG Smith Boulevard\, voor het bestuurskantoor. Op deze nationale feestdag op Aruba worden ook vele sportevenementen\, motortochten en andere feestelijkheden georganiseerd. Jong en oud kan zich op Arubadag de hele dag vermaken![/vc_column_text][/vc_column][/vc_row][vc_row][vc_column][vc_single_image image=”61″ css_animation=”fadeInUp” alignment=”left”][/vc_column][/vc_row][vc_row][vc_column width=”1/2″]Issuekalender doorzoeken [/vc_column][vc_column width=”1/2″][/vc_column][/vc_row]
URL:https://issuekalender.nl/issue/arubadag/2028-03-18/
CATEGORIES:Sociale cohesie en integratie,Welzijn en gezondheid
ORGANIZER;CN="Arubahuis Den Haag":MAILTO:info@arubadag.com
END:VEVENT
BEGIN:VEVENT
DTSTART;VALUE=DATE:20280318
DTEND;VALUE=DATE:20280319
DTSTAMP:20260422T002407
CREATED:20230715T121914Z
LAST-MODIFIED:20251111T112918Z
UID:10009157-1836950400-1837036799@issuekalender.nl
SUMMARY:WERELD DOWNSYNDROOMDAG (VN)
DESCRIPTION:[vc_row][vc_column][vc_single_image image=”61″ css_animation=”fadeInUp” alignment=”left”][/vc_column][/vc_row][vc_row][vc_column][vc_column_text css_animation=”fadeIn” font_size=”45″ font_family=”Roboto” font_weight=”500″ color=”#57529e”]\nWERELD DOWNSYNDROOMDAG (VN) \n[/vc_column_text][vc_empty_space height=”10px”][vc_single_image image=”88″ img_size=”medium” css_animation=”fadeInUp” alignment=”left”][/vc_column][/vc_row][vc_row][vc_column][vc_column_text]Wereld Down Syndroom Dag is ervoor bedoeld mensen bewust te maken van het Syndroom van Down. Deze erfelijke (aangeboren) afwijking wordt ook wel trisomie 21 genoemd. Daarom wordt 21 maart de Wereld Downsyndroom dag georganiseerd. \nDown Syndrome International (DSI) wil graag meer aandacht voor de talenten en mogelijkheden die mensen met down hebben. Ook steunen zij onderzoek om wereldwijde zorg te verbeteren.[/vc_column_text][/vc_column][/vc_row][vc_row][vc_column][vc_single_image image=”61″ css_animation=”fadeInUp” alignment=”left”][/vc_column][/vc_row][vc_row][vc_column width=”1/2″]Issuekalender doorzoeken [/vc_column][vc_column width=”1/2″][/vc_column][/vc_row]
URL:https://issuekalender.nl/issue/wereld-downsyndroomdag-vn/2028-03-18/
CATEGORIES:Overige,Welzijn en gezondheid
ORGANIZER;CN="Down Syndrome International":MAILTO:contact@ds-int.org
END:VEVENT
BEGIN:VEVENT
DTSTART;VALUE=DATE:20280318
DTEND;VALUE=DATE:20280319
DTSTAMP:20260422T002407
CREATED:20230715T122627Z
LAST-MODIFIED:20251111T112941Z
UID:10009163-1836950400-1837036799@issuekalender.nl
SUMMARY:WERELD POËZIEDAG (VN)
DESCRIPTION:[vc_row][vc_column][vc_single_image image=”61″ css_animation=”fadeInUp” alignment=”left”][/vc_column][/vc_row][vc_row][vc_column][vc_column_text css_animation=”fadeIn” font_size=”45″ font_family=”Roboto” font_weight=”500″ color=”#57529e”]\nWERELD POËZIEDAG (VN) \n[/vc_column_text][vc_empty_space height=”10px”][vc_single_image image=”88″ img_size=”medium” css_animation=”fadeInUp” alignment=”left”][/vc_column][/vc_row][vc_row][vc_column][vc_column_text]De Wereld Poëziedag is in 1999 het leven geroepen door UNESCO om aandacht te vragen voor het lezen\, schrijven en publiceren van poëzie en vindt elk jaar plaats op 21 maart. Poëtische taal is een ander facet van de dialoog tussen culturen.[/vc_column_text][/vc_column][/vc_row][vc_row][vc_column][vc_single_image image=”61″ css_animation=”fadeInUp” alignment=”left”][/vc_column][/vc_row][vc_row][vc_column width=”1/2″]Issuekalender doorzoeken [/vc_column][vc_column width=”1/2″][/vc_column][/vc_row]
URL:https://issuekalender.nl/issue/wereld-poeziedag-vn/2028-03-18/
CATEGORIES:Kunst en cultuur,Overige
END:VEVENT
BEGIN:VEVENT
DTSTART;VALUE=DATE:20280318
DTEND;VALUE=DATE:20280319
DTSTAMP:20260422T002407
CREATED:20251117T092339Z
LAST-MODIFIED:20251117T092340Z
UID:10009346-1836950400-1837036799@issuekalender.nl
SUMMARY:LANDELIJKE OPSCHOONDAG
DESCRIPTION:[vc_row][vc_column][vc_single_image image=”61″ css_animation=”fadeInUp” alignment=”left”][/vc_column][/vc_row][vc_row][vc_column][vc_column_text css_animation=”fadeIn” font_size=”45″ font_family=”Roboto” font_weight=”500″ color=”#57529e”]\nLANDELIJKE OPSCHOONDAG \n[/vc_column_text][vc_empty_space height=”10px”][vc_single_image image=”88″ img_size=”medium” css_animation=”fadeInUp” alignment=”left”][/vc_column][/vc_row][vc_row][vc_column][vc_column_text]Tijdens de Landelijke Opschoondag\, organiseren mensen door het hele land leuke opschoonacties om samen hun buurt of straat schoon te houden. \nBuren\, collega’s en scholieren vinden het vaak ontzettend gezellig om samen aan de slag te gaan. NederlandSchoon helpt gemeenten dan ook graag bij het stimuleren van zoveel mogelijk inwoners. Want hoe meer inwoners meedoen aan de Landelijke Opschoondag\, hoe succesvoller het wordt![/vc_column_text][/vc_column][/vc_row][vc_row][vc_column][vc_single_image image=”61″ css_animation=”fadeInUp” alignment=”left”][/vc_column][/vc_row][vc_row][vc_column width=”1/2″]Issuekalender doorzoeken [/vc_column][vc_column width=”1/2″][/vc_column][/vc_row]
URL:https://issuekalender.nl/issue/landelijke-opschoondag-2/2028-03-18/
CATEGORIES:Milieu en duurzaamheid
ORGANIZER;CN="Stichting Nederland Schoon":MAILTO:info@nederlandschoon.nl
END:VEVENT
END:VCALENDAR