BEGIN:VCALENDAR
VERSION:2.0
PRODID:-//Issuekalender - ECPv6.9.0//NONSGML v1.0//EN
CALSCALE:GREGORIAN
METHOD:PUBLISH
X-ORIGINAL-URL:https://issuekalender.nl
X-WR-CALDESC:Evenementen voor Issuekalender
REFRESH-INTERVAL;VALUE=DURATION:PT1H
X-Robots-Tag:noindex
X-PUBLISHED-TTL:PT1H
BEGIN:VTIMEZONE
TZID:Europe/Amsterdam
BEGIN:DAYLIGHT
TZOFFSETFROM:+0100
TZOFFSETTO:+0200
TZNAME:CEST
DTSTART:20280326T010000
END:DAYLIGHT
BEGIN:STANDARD
TZOFFSETFROM:+0200
TZOFFSETTO:+0100
TZNAME:CET
DTSTART:20281029T010000
END:STANDARD
END:VTIMEZONE
BEGIN:VEVENT
DTSTART;VALUE=DATE:20280301
DTEND;VALUE=DATE:20280401
DTSTAMP:20260421T225917
CREATED:20230714T124946Z
LAST-MODIFIED:20251111T111927Z
UID:10008576-1835481600-1838159999@issuekalender.nl
SUMMARY:ENDOMETRIOSE AWARENESS MAAND
DESCRIPTION:[vc_row][vc_column][vc_single_image image=”61″ css_animation=”fadeInUp” alignment=”left”][/vc_column][/vc_row][vc_row][vc_column][vc_column_text css_animation=”fadeIn” font_size=”45″ font_family=”Roboto” font_weight=”500″ color=”#57529e”]\nENDOMETRIOSE AWARENESS MAAND \n[/vc_column_text][vc_empty_space height=”10px”][vc_single_image image=”88″ img_size=”medium” css_animation=”fadeInUp” alignment=”left”][/vc_column][/vc_row][vc_row][vc_column][vc_column_text]De gehele maand maart is wereldwijd Endometriosis Awareness Month. \n\n[/vc_column_text][/vc_column][/vc_row][vc_row][vc_column][vc_single_image image=”61″ css_animation=”fadeInUp” alignment=”left”][/vc_column][/vc_row][vc_row][vc_column width=”1/2″]Issuekalender doorzoeken [/vc_column][vc_column width=”1/2″][/vc_column][/vc_row]
URL:https://issuekalender.nl/issue/endometriose-awareness-maand/2028-03-01/
CATEGORIES:Welzijn en gezondheid
END:VEVENT
BEGIN:VEVENT
DTSTART;VALUE=DATE:20280301
DTEND;VALUE=DATE:20280401
DTSTAMP:20260421T225917
CREATED:20230714T131149Z
LAST-MODIFIED:20251111T111937Z
UID:10008586-1835481600-1838159999@issuekalender.nl
SUMMARY:DARMKANKERMAAND
DESCRIPTION:[vc_row][vc_column][vc_single_image image=”61″ css_animation=”fadeInUp” alignment=”left”][/vc_column][/vc_row][vc_row][vc_column][vc_column_text css_animation=”fadeIn” font_size=”45″ font_family=”Roboto” font_weight=”500″ color=”#57529e”]\nDARMKANKERMAAND \n[/vc_column_text][vc_empty_space height=”10px”][vc_single_image image=”88″ img_size=”medium” css_animation=”fadeInUp” alignment=”left”][/vc_column][/vc_row][vc_row][vc_column][vc_column_text]Maart is internationaal uitgeroepen tot darmkankermaand. Tijdens de darmkankermaand geeft de Maag-\, Lever-\, Darm-Stichting extra aandacht aan de preventie van darmkanker en mensen die getroffen zijn door de ziekte. Jaarlijks krijgen meer dan 15.000 patiënten en hun naasten met darmkanker te maken.[/vc_column_text][/vc_column][/vc_row][vc_row][vc_column][vc_single_image image=”61″ css_animation=”fadeInUp” alignment=”left”][/vc_column][/vc_row][vc_row][vc_column width=”1/2″]Issuekalender doorzoeken [/vc_column][vc_column width=”1/2″][/vc_column][/vc_row]
URL:https://issuekalender.nl/issue/darmkankermaand/2028-03-01/
CATEGORIES:Welzijn en gezondheid
ORGANIZER;CN="Maag Lever Darm Stichting":MAILTO:info@mlds.nl
END:VEVENT
BEGIN:VEVENT
DTSTART;VALUE=DATE:20280304
DTEND;VALUE=DATE:20280313
DTSTAMP:20260421T225917
CREATED:20251117T091938Z
LAST-MODIFIED:20251117T091939Z
UID:10009334-1835740800-1836518399@issuekalender.nl
SUMMARY:WEEK VAN DE HOOGBEGAAFDHEID
DESCRIPTION:[vc_row][vc_column][vc_single_image image=”61″ css_animation=”fadeInUp” alignment=”left”][/vc_column][/vc_row][vc_row][vc_column][vc_column_text css_animation=”fadeIn” font_size=”45″ font_family=”Roboto” font_weight=”500″ color=”#57529e”]\nWEEK VAN DE HOOGBEGAAFDHEID \n[/vc_column_text][vc_empty_space height=”10px”][vc_single_image image=”88″ img_size=”medium” css_animation=”fadeInUp” alignment=”left”][/vc_column][/vc_row][vc_row][vc_column][vc_column_text]Hoogbegaafdheid is een woord dat niet bij iedereen positieve gedachten oproept. Er bestaan ook veel vooroordelen en misvattingen over. Mede hierdoor kunnen hoogbegaafden niet altijd en overal zichzelf zijn en hun talenten optimaal inzetten. En dat is enorm jammer\, want hoogbegaafden hebben de maatschappij veel te bieden.\nDe Week van de Hoogbegaafdheid brengt het onderwerp positief onder de aandacht en wil kennis over hoogbegaafdheid verspreiden en vooroordelen en misvattingen proberen weg te nemen.[/vc_column_text][/vc_column][/vc_row][vc_row][vc_column][vc_single_image image=”61″ css_animation=”fadeInUp” alignment=”left”][/vc_column][/vc_row][vc_row][vc_column width=”1/2″]Issuekalender doorzoeken [/vc_column][vc_column width=”1/2″][/vc_column][/vc_row]
URL:https://issuekalender.nl/issue/week-van-de-hoogbegaafdheid-2/2028-03-04/
CATEGORIES:Mens en maatschappij,Onderwijs en educatie
ORGANIZER;CN="Rianne van de Ven%2C Vereniging Mensa Nederland%2C Instituut hoogbegaafdheid Nederland%2C iQBegrijp":MAILTO:info@weekvandehoogbegaafdheid.nl
END:VEVENT
BEGIN:VEVENT
DTSTART;VALUE=DATE:20280306
DTEND;VALUE=DATE:20280307
DTSTAMP:20260421T225917
CREATED:20230714T132631Z
LAST-MODIFIED:20251111T112554Z
UID:10008402-1835913600-1835999999@issuekalender.nl
SUMMARY:EUROPESE DAG VAN DE LOGOPEDIE
DESCRIPTION:[vc_row][vc_column][vc_single_image image=”61″ css_animation=”fadeInUp” alignment=”left”][/vc_column][/vc_row][vc_row][vc_column][vc_column_text css_animation=”fadeIn” font_size=”45″ font_family=”Roboto” font_weight=”500″ color=”#57529e”]\nEUROPESE DAG VAN DE LOGOPEDIE \n[/vc_column_text][vc_empty_space height=”10px”][vc_single_image image=”88″ img_size=”medium” css_animation=”fadeInUp” alignment=”left”][/vc_column][/vc_row][vc_row][vc_column][vc_column_text]Met ondersteunde communicatie geeft de logopedist iedereen een stem \nNiet of nauwelijks kunnen spreken\, betekent niet dat je niets te zeggen hebt. Ook kinderen en volwassenen die niet goed kunnen spreken\, hebben behoefte aan communiceren. Door gebruik te maken van andere communicatievormen en -middelen\, kunnen zij zich toch uiten. De logopedist kan een belangrijke rol spelen bij deze ‘ondersteunde communicatie’.[/vc_column_text][/vc_column][/vc_row][vc_row][vc_column][vc_single_image image=”61″ css_animation=”fadeInUp” alignment=”left”][/vc_column][/vc_row][vc_row][vc_column width=”1/2″]Issuekalender doorzoeken [/vc_column][vc_column width=”1/2″][/vc_column][/vc_row]
URL:https://issuekalender.nl/issue/europese-dag-van-de-logopedie/2028-03-06/
CATEGORIES:Mens en maatschappij,Welzijn en gezondheid
END:VEVENT
BEGIN:VEVENT
DTSTART;VALUE=DATE:20280306
DTEND;VALUE=DATE:20280313
DTSTAMP:20260421T225917
CREATED:20231030T132143Z
LAST-MODIFIED:20241024T114940Z
UID:10008387-1835913600-1836518399@issuekalender.nl
SUMMARY:NATIONALE WEEK ZONDER VLEES EN ZUIVEL
DESCRIPTION:[vc_row][vc_column][vc_single_image image=”61″ css_animation=”fadeInUp” alignment=”left”][/vc_column][/vc_row][vc_row][vc_column][vc_column_text css_animation=”fadeIn” font_size=”45″ font_family=”Roboto” font_weight=”500″ color=”#57529e”]\nNATIONALE WEEK ZONDER VLEES EN ZUIVEL \n[/vc_column_text][vc_empty_space height=”10px”][vc_single_image image=”88″ img_size=”medium” css_animation=”fadeInUp” alignment=”left”][/vc_column][/vc_row][vc_row][vc_column][vc_column_text]Nationale Week Zonder Vlees & Zuivel \nWij vinden dat elke dag vlees en zuivel eten niet meer van deze tijd is. Met de Nationale Week Zonder Vlees & Zuivel roepen we deelnemers op om een week vlees en zuivel te laten staan. Zo willen we een flexitarisch eetpatroon promoten\, waarbij vlees en zuivel afgewisseld worden met vegetarische en plantaardige alternatieven. Vaker een dagje geen vlees\, vis en zuivel eten is een kleine moeite maar heeft een enorm positieve impact op mens\, dier en milieu. Door geen vlees en zuivel te consumeren tijdens de Nationale Week Zonder Vlees & Zuivel verlaag je de milieudruk van je voeding. Je bespaart bijvoorbeeld op watergebruik en de uitstoot van broeikasgassen die bijdragen aan klimaatverandering. Iedereen die het volhoudt om gedurende één week geen vlees en zuivel te eten\, bespaart maar liefst… \nStichting Nationale Week Zonder Vlees is een stichting met ANBI-status. De stichting is in het leven geroepen door Isabel Boerdam. Isabel is vegetariër sinds haar 9e en deelt sinds 2013 vegetarische inspiratie op haar foodblog De Hippe Vegetariër. In 2018 besloot ze dat het tijd was voor meer. Met haar communicatie-expertise en foodnetwerk als basis\, besloot Isabel zelf een bijdrage te willen leveren aan de uitdagende klimaatdoelstellingen en de maatschappelijke gezondheid. Ze bedacht de Nationale Week Zonder Vlees en voerde de eerste editie in 2018 in haar eentje uit. Sindsdien is de campagne het jaarlijks terugkerende non-profit initiatief van haar Food Consultancy & Communications Agency Green Food Lab. Zo vertaalt Isabel met de Nationale Week Zonder Vlees & Zuivel de missie van Green Food Lab om de route naar meer plantaardig in Nederland te versnellen naar concrete acties met direct meetbare resultaten. \nSinds 2018 is er veel veranderd. Tijd dus voor een volgende stap. Vlees is namelijk niet het enige wat een enorme CO2-uitstoot en waterafdruk achterlaat\, ook zuivel is erg belastend voor het milieu. In 2022 is daarom de extra laag ‘& Zuivel’ toegevoegd aan de campagne. De Nationale Week Zonder Vlees & Zuivel vindt jaarlijks plaats in maart.[/vc_column_text][/vc_column][/vc_row][vc_row][vc_column][vc_single_image image=”61″ css_animation=”fadeInUp” alignment=”left”][/vc_column][/vc_row][vc_row][vc_column width=”1/2″]Issuekalender doorzoeken [/vc_column][vc_column width=”1/2″][/vc_column][/vc_row]
URL:https://issuekalender.nl/issue/nationale-week-zonder-vlees-en-zuivel/2028-03-06/
CATEGORIES:Dierenwelzijn,Welzijn en gezondheid
ORGANIZER;CN="Isabel Boerdam":MAILTO:weekzondervlees@gmail.com
END:VEVENT
BEGIN:VEVENT
DTSTART;VALUE=DATE:20280306
DTEND;VALUE=DATE:20280313
DTSTAMP:20260421T225917
CREATED:20251117T092038Z
LAST-MODIFIED:20251117T092039Z
UID:10009338-1835913600-1836518399@issuekalender.nl
SUMMARY:WEEK VAN DE AFVALHELDEN
DESCRIPTION:[vc_row][vc_column][vc_single_image image=”61″ css_animation=”fadeInUp” alignment=”left”][/vc_column][/vc_row][vc_row][vc_column][vc_column_text css_animation=”fadeIn” font_size=”45″ font_family=”Roboto” font_weight=”500″ color=”#57529e”]\nWEEK VAN DE AFVALHELDEN \n[/vc_column_text][vc_empty_space height=”10px”][vc_single_image image=”88″ img_size=”medium” css_animation=”fadeInUp” alignment=”left”][/vc_column][/vc_row][vc_row][vc_column][vc_column_text]Afvalinzameling\, groenbeheer\, reiniging en verwerking: werk dat essentieel is voor een een slim gebruik van afval en grondstoffen en een goed draaiende samenleving. In de Week van de AfvalHelden zetten we onze medewerkers in het zonnetje. Dat zijn er best veel: ongeveer 30.000 mensen zetten zich dagelijks in voor het inzamelen van afval en grondstoffen\, het runnen van een milieustraat\, het veilig vervoeren naar de verwerker\, het verwerken en recyclen. We noemen ze onze AfvalHelden\, met een hoofdletter H. Ook zijn er medewerkers actief in ‘het groen en grijs’: van rioolbeheerder tot kolkenreiniger\, van zoutstrooier tot begraafplaatsbeheerder. Een rijke verzameling van beroepen met een gemeenschappelijk kenmerk: het gaat om mooi werk dat ertoe doet. Ze werken in een vitale sector. En verdienen onze waardering.[/vc_column_text][/vc_column][/vc_row][vc_row][vc_column][vc_single_image image=”61″ css_animation=”fadeInUp” alignment=”left”][/vc_column][/vc_row][vc_row][vc_column width=”1/2″]Issuekalender doorzoeken [/vc_column][vc_column width=”1/2″][/vc_column][/vc_row]
URL:https://issuekalender.nl/issue/week-van-de-afvalhelden-2/2028-03-06/
CATEGORIES:Mens en maatschappij,Milieu en duurzaamheid,Overige
ORGANIZER;CN="NVRD":MAILTO:info@weekvandeafvalhelden.nl
END:VEVENT
BEGIN:VEVENT
DTSTART;VALUE=DATE:20280307
DTEND;VALUE=DATE:20280308
DTSTAMP:20260421T225917
CREATED:20231207T095255Z
LAST-MODIFIED:20241024T115521Z
UID:10008407-1836000000-1836086399@issuekalender.nl
SUMMARY:DAG VAN DE VITALOGIE
DESCRIPTION:[vc_row][vc_column][vc_single_image image=”61″ css_animation=”fadeInUp” alignment=”left”][/vc_column][/vc_row][vc_row][vc_column][vc_column_text css_animation=”fadeIn” font_size=”45″ font_family=”Roboto” font_weight=”500″ color=”#57529e”]\nDAG VAN DE VITALOGIE \n[/vc_column_text][vc_empty_space height=”10px”][vc_single_image image=”88″ img_size=”medium” css_animation=”fadeInUp” alignment=”left”][/vc_column][/vc_row][vc_row][vc_column][vc_column_text]De Dag van de Vitalogie is dè dag waarop je je extra bewust mag zijn van je goede voornemen waar je op 1 januari vol goede moed mee gestart bent. Ben je nog steeds op het goede spoor of ben je inmiddels afgehaakt? \nUit onderzoek blijkt dat je om relatief eenvoudige gewoonteveranderingen door te voeren\, zoals gezonder eten\, meer water drinken of meer bewegen\, je gemiddeld 66 dagen nodig hebt. Phillippa Lally en haar team hebben hier onderzoek naar gedaan. Tijdens dit onderzoek keek men hoe lang het duurde voordat deelnemers een handeling automatisch uitvoerden (hét moment waarop je een nieuwe gewoonte hebt gevormd). \nNiet voor niets dus dat de ‘Dag van de Vitalogie’ dit jaar op 6 maart\, ongeveer 66 dagen na oud & nieuw\, gehouden wordt.[/vc_column_text][/vc_column][/vc_row][vc_row][vc_column][vc_single_image image=”61″ css_animation=”fadeInUp” alignment=”left”][/vc_column][/vc_row][vc_row][vc_column width=”1/2″]Issuekalender doorzoeken [/vc_column][vc_column width=”1/2″][/vc_column][/vc_row]
URL:https://issuekalender.nl/issue/dag-van-de-vitalogie/2028-03-07/
CATEGORIES:Welzijn en gezondheid
ORGANIZER;CN="NGvV (beroepsvereniging)":MAILTO:info@ngvv.nl
END:VEVENT
BEGIN:VEVENT
DTSTART;VALUE=DATE:20280308
DTEND;VALUE=DATE:20280309
DTSTAMP:20260421T225917
CREATED:20230714T133253Z
LAST-MODIFIED:20251111T112607Z
UID:10008626-1836086400-1836172799@issuekalender.nl
SUMMARY:INTERNATIONALE VROUWENDAG (VN)
DESCRIPTION:[vc_row][vc_column][vc_single_image image=”61″ css_animation=”fadeInUp” alignment=”left”][/vc_column][/vc_row][vc_row][vc_column][vc_column_text css_animation=”fadeIn” font_size=”45″ font_family=”Roboto” font_weight=”500″ color=”#57529e”]\nINTERNATIONALE VROUWENDAG (VN) \n[/vc_column_text][vc_empty_space height=”10px”][vc_single_image image=”88″ img_size=”medium” css_animation=”fadeInUp” alignment=”left”][/vc_column][/vc_row][vc_row][vc_column][vc_column_text]Internationale Vrouwendag stond en staat voor het gevoel van solidariteit en strijdbaarheid van vrouwen overal ter wereld. In 1911 werd de Vrouwendag internationaal voor het eerst gevierd – in 1912 voor het eerst in Nederland. Aanvankelijk werd de Vrouwendag op verschillende data gehouden\, pas in 1922 werd 8 maart gekozen als vaste datum. \nVrijheid\nAl jarenlang strijden vrouwen voor zelfbeschikking\, individuele rechten en vrijheid. Vrijheid van vrouwen dient niet onderhandelbaar te zijn maar een vanzelfsprekendheid. \n[/vc_column_text][/vc_column][/vc_row][vc_row][vc_column][vc_single_image image=”61″ css_animation=”fadeInUp” alignment=”left”][/vc_column][/vc_row][vc_row][vc_column width=”1/2″]Issuekalender doorzoeken [/vc_column][vc_column width=”1/2″][/vc_column][/vc_row]
URL:https://issuekalender.nl/issue/internationale-vrouwendag-vn/2028-03-08/
CATEGORIES:Mens en maatschappij
ORGANIZER;CN="Internationale Vrouwendag":MAILTO:info@internationale-vrouwendag.nl
END:VEVENT
BEGIN:VEVENT
DTSTART;VALUE=DATE:20280308
DTEND;VALUE=DATE:20280320
DTSTAMP:20260421T225917
CREATED:20230714T135746Z
LAST-MODIFIED:20241028T155229Z
UID:10009050-1836086400-1837123199@issuekalender.nl
SUMMARY:BOEKENWEEK
DESCRIPTION:[vc_row][vc_column][vc_single_image image=”61″ css_animation=”fadeInUp” alignment=”left”][/vc_column][/vc_row][vc_row][vc_column][vc_column_text css_animation=”fadeIn” font_size=”45″ font_family=”Roboto” font_weight=”500″ color=”#57529e”]\nBOEKENWEEK \n[/vc_column_text][vc_empty_space height=”10px”][vc_single_image image=”88″ img_size=”medium” css_animation=”fadeInUp” alignment=”left”][/vc_column][/vc_row][vc_row][vc_column][vc_column_text css=””]In de Boekenweek staat literaire (non-) fictie centraal. Elke Boekenweek heeft een thema. Dit thema vestigt de aandacht op een bepaald segment en nieuwe uitgaven van het boekenaanbod. \n\nHet thema van de 89ste Boekenweek in 2025 is ’tijd’. De Boekenweek wordt gevierd van 16 tot en met 24 maart en het Boekenweekgeschenk wordt geschreven door de grootste schrijversfamilie van Nederland: de Chabotten.\n\n\n\n\n\n\n\n\n\n[/vc_column_text][/vc_column][/vc_row][vc_row][vc_column][vc_single_image image=”61″ css_animation=”fadeInUp” alignment=”left”][/vc_column][/vc_row][vc_row][vc_column width=”1/2″]Issuekalender doorzoeken [/vc_column][vc_column width=”1/2″][/vc_column][/vc_row]
URL:https://issuekalender.nl/issue/boekenweek/2028-03-08/
CATEGORIES:Kunst en cultuur,Onderwijs en educatie,Ontspanning en plezier
ORGANIZER;CN="Stichting CPNB":MAILTO:info@cpnb.nl
END:VEVENT
BEGIN:VEVENT
DTSTART;VALUE=DATE:20280309
DTEND;VALUE=DATE:20280310
DTSTAMP:20260421T225917
CREATED:20230714T134021Z
LAST-MODIFIED:20241023T115808Z
UID:10008086-1836172800-1836259199@issuekalender.nl
SUMMARY:WORLD KIDNEY DAY
DESCRIPTION:[vc_row][vc_column][vc_single_image image=”61″ css_animation=”fadeInUp” alignment=”left”][/vc_column][/vc_row][vc_row][vc_column][vc_column_text css_animation=”fadeIn” font_size=”45″ font_family=”Roboto” font_weight=”500″ color=”#57529e”]\nWORLD KIDNEY DAY \n[/vc_column_text][vc_empty_space height=”10px”][vc_single_image image=”88″ img_size=”medium” css_animation=”fadeInUp” alignment=”left”][/vc_column][/vc_row][vc_row][vc_column][vc_column_text]World Kidney Day heeft als doel bewustwording creëren over het belang van onze nieren en terugdringen van de frequentie en de impact van nierziekten (en bijbehorende gezondheidsproblemen). \nDe World Kidney Day is iedere tweede donderdag in maart.[/vc_column_text][/vc_column][/vc_row][vc_row][vc_column][vc_single_image image=”61″ css_animation=”fadeInUp” alignment=”left”][/vc_column][/vc_row][vc_row][vc_column width=”1/2″]Issuekalender doorzoeken [/vc_column][vc_column width=”1/2″][/vc_column][/vc_row]
URL:https://issuekalender.nl/issue/world-kidney-day/2028-03-09/
CATEGORIES:Onderwijs en educatie,Welzijn en gezondheid
END:VEVENT
BEGIN:VEVENT
DTSTART;VALUE=DATE:20280310
DTEND;VALUE=DATE:20280312
DTSTAMP:20260421T225917
CREATED:20230714T134258Z
LAST-MODIFIED:20241025T075316Z
UID:10008756-1836259200-1836431999@issuekalender.nl
SUMMARY:NLDOET
DESCRIPTION:[vc_row][vc_column][vc_single_image image=”61″ css_animation=”fadeInUp” alignment=”left”][/vc_column][/vc_row][vc_row][vc_column][vc_column_text css_animation=”fadeIn” font_size=”45″ font_family=”Roboto” font_weight=”500″ color=”#57529e”]\nNLDOET \n[/vc_column_text][vc_empty_space height=”10px”][vc_single_image image=”88″ img_size=”medium” css_animation=”fadeInUp” alignment=”left”][/vc_column][/vc_row][vc_row][vc_column][vc_column_text css=””]Het Oranje Fonds organiseert deze grote vrijwilligersactie om de vrijwillige inzet in de schijnwerpers te zetten en zoveel mogelijk Nederlanders te activeren om een dag(deel) de handen uit de mouwen te steken daar waar het nodig is. \nKloppend hart\nVrijwilligers zijn het kloppend hart van vele sociale initiatieven. Het Oranje Fonds laat daarom met NLdoet zien hoe belangrijk actieve burgers voor de samenleving zijn. Daarnaast draagt NLdoet bij aan een goed imago van het vrijwilligerswerk. Ook laat NLdoet zien hoe leuk vrijwilligerswerk kan zijn. \nHet hele Koninkrijk DOET\nOnder de namen NLdoet\, ARUBA DOET\, BON DOET\, CURA DOET\, Statia DOET en SXM DOET onderstrepen deze zes initiatieven het belang van vrijwilligerswerk én vrijwilligers in heel het koninkrijk en roepen iedereen op om voor (een deel van) een dag de handen uit de mouwen te steken. Heeft uw organisatie een leuke klus? Moet het buurtcentrum nodig opgeknapt worden\, moet het gaas van de dierenopvang vervangen worden\, wilt u een verwendagje voor alle ouderen of heeft u een andere leuke klus? Meld uw klus dan aan op deze website en doe mee.[/vc_column_text][/vc_column][/vc_row][vc_row][vc_column][vc_single_image image=”61″ css_animation=”fadeInUp” alignment=”left”][/vc_column][/vc_row][vc_row][vc_column width=”1/2″]Issuekalender doorzoeken [/vc_column][vc_column width=”1/2″][/vc_column][/vc_row]
URL:https://issuekalender.nl/issue/nldoet/2028-03-10/
CATEGORIES:Mens en maatschappij,Sociale cohesie en integratie
ORGANIZER;CN="Het Oranje Fonds":MAILTO:nldoet@oranjefonds.nl
END:VEVENT
BEGIN:VEVENT
DTSTART;VALUE=DATE:20280311
DTEND;VALUE=DATE:20280312
DTSTAMP:20260421T225917
CREATED:20251112T091925Z
LAST-MODIFIED:20251112T091925Z
UID:10009241-1836345600-1836431999@issuekalender.nl
SUMMARY:DAG VAN DE INGENIEUR
DESCRIPTION:[vc_row][vc_column][vc_single_image image=”61″ css_animation=”fadeInUp” alignment=”left”][/vc_column][/vc_row][vc_row][vc_column][vc_column_text css_animation=”fadeIn” font_size=”45″ font_family=”Roboto” font_weight=”500″ color=”#57529e”]\nDAG VAN DE INGENIEUR \n[/vc_column_text][vc_empty_space height=”10px”][vc_single_image image=”88″ img_size=”medium” css_animation=”fadeInUp” alignment=”left”][/vc_column][/vc_row][vc_row][vc_column][vc_column_text]Jaarlijks vindt de Dag van de Ingenieur plaats. Op deze dag wordt op een belangrijke plaats voor technologie in Nederland de Ingenieur van het Jaar gekozen door het Koninklijk Instituut van Ingenieurs (KIVI). Hij of zij wint de Prins Friso Ingenieursprijs. \nIngenieurs die zich onderscheiden in expertise\, innoverend vermogen\, maatschappelijke impact en ondernemerschap komen in aanmerking voor de jaarlijkse Prins Friso Ingenieursprijs. Prins Friso was ingenieur lucht- en ruimtevaarttechniek en werktuigbouwkunde. Daarnaast was hij in het bezit van een diploma bedrijfseconomie. Deze door Prins Friso zo nadrukkelijk gekozen combinatie van competenties maakten hem als ingenieur uniek. Zijn inspirerende nalatenschap aan de ingenieurswereld maakt het bijzonder passend om de Ingenieur van het Jaar te eren met de Prins Friso Ingenieursprijs. Prins Friso was tevens zeer gewaardeerd lid van KIVI. \nNaast de Ingenieur van het Jaar wordt er op de Dag van de Ingenieur ook de KIVI Academic Society Award uitgereikt. Voor de KIVI Academic Society Award komen hoogleraren in aanmerking die zich onderscheiden door uitmuntend onderzoek en hun vermogen om op aansprekende wijze de verbinding tussen wetenschap en maatschappij te leggen.[/vc_column_text][/vc_column][/vc_row][vc_row][vc_column][vc_single_image image=”61″ css_animation=”fadeInUp” alignment=”left”][/vc_column][/vc_row][vc_row][vc_column width=”1/2″]Issuekalender doorzoeken [/vc_column][vc_column width=”1/2″][/vc_column][/vc_row]
URL:https://issuekalender.nl/issue/dag-van-de-ingenieur-2/2028-03-11/
CATEGORIES:Innovatie en technologie,Wetenschap
ORGANIZER;CN="Het Koninklijk Instituut Van Ingenieurs (KIVI)":MAILTO:info@kivi.nl
END:VEVENT
END:VCALENDAR