BEGIN:VCALENDAR
VERSION:2.0
PRODID:-//Issuekalender - ECPv6.9.0//NONSGML v1.0//EN
CALSCALE:GREGORIAN
METHOD:PUBLISH
X-WR-CALNAME:Issuekalender
X-ORIGINAL-URL:https://issuekalender.nl
X-WR-CALDESC:Evenementen voor Issuekalender
REFRESH-INTERVAL;VALUE=DURATION:PT1H
X-Robots-Tag:noindex
X-PUBLISHED-TTL:PT1H
BEGIN:VTIMEZONE
TZID:Europe/Amsterdam
BEGIN:DAYLIGHT
TZOFFSETFROM:+0100
TZOFFSETTO:+0200
TZNAME:CEST
DTSTART:20240331T010000
END:DAYLIGHT
BEGIN:STANDARD
TZOFFSETFROM:+0200
TZOFFSETTO:+0100
TZNAME:CET
DTSTART:20241027T010000
END:STANDARD
END:VTIMEZONE
BEGIN:VEVENT
DTSTART;VALUE=DATE:20240909
DTEND;VALUE=DATE:20240910
DTSTAMP:20260419T214256
CREATED:20231026T121721Z
LAST-MODIFIED:20251117T114059Z
UID:10006336-1725868800-1725901200@issuekalender.nl
SUMMARY:VERSPILLINGSVRIJE WEEK
DESCRIPTION:[vc_row][vc_column][vc_single_image image=”61″ css_animation=”fadeInUp” alignment=”left”][/vc_column][/vc_row][vc_row][vc_column][vc_column_text css_animation=”fadeIn” font_size=”45″ font_family=”Roboto” font_weight=”500″ color=”#57529e”]\nVERSPILLINGSVRIJE WEEK \n[/vc_column_text][vc_empty_space height=”10px”][vc_single_image image=”88″ img_size=”medium” css_animation=”fadeInUp” alignment=”left”][/vc_column][/vc_row][vc_row][vc_column][vc_column_text css=””]Samen Tegen Voedselverspilling organiseert op deze dag de Verspillingsvrije Week. Een week die je uitdaagt om zo min mogelijk voedsel te verspillen. Hoe meer mensen meedoen\, hoe meer eten en drinken we redden. Dat is niet alleen goed voor het milieu\, maar ook gunstig voor je portemonnee. Zo maken we samen Nederland #verspillingsvrij. Kijk voor meer informatie op www.verspillingsvrijeweek.nl[/vc_column_text][/vc_column][/vc_row][vc_row][vc_column][vc_single_image image=”61″ css_animation=”fadeInUp” alignment=”left”][/vc_column][/vc_row][vc_row][vc_column width=”1/2″]Issuekalender doorzoeken [/vc_column][vc_column width=”1/2″][/vc_column][/vc_row]
URL:https://issuekalender.nl/issue/verspillingsvrije-week/2024-09-09/
CATEGORIES:Milieu en duurzaamheid
ORGANIZER;CN="Stichting Samen Tegen Voedselverspilling":MAILTO:week@samentegenvoedselverspilling.nl
END:VEVENT
BEGIN:VEVENT
DTSTART;VALUE=DATE:20240910
DTEND;VALUE=DATE:20240911
DTSTAMP:20260419T214256
CREATED:20231023T143633Z
LAST-MODIFIED:20241028T102749Z
UID:10008720-1725926400-1726012799@issuekalender.nl
SUMMARY:WORLD SUICIDE PREVENTION DAY
DESCRIPTION:[vc_row][vc_column][vc_column_text css_animation=”fadeIn” font_size=”35″ font_family=”Roboto” font_weight=”500″ color=”#57529e”]\nWORLD SUICIDE PREVENTION DAY (VN) \n[/vc_column_text][vc_empty_space height=”10px”][vc_single_image image=”88″ img_size=”medium” css_animation=”fadeInUp” alignment=”left”][/vc_column][/vc_row][vc_row][vc_column][vc_column_text]\n\n\n\nDe Wereld Suïcidepreventiedag (WSPD) wordt georganiseerd door de International Association for Suicide Prevention (IASP). De WHO is medesponsor van deze dag. Het doel van deze dag is om mensen wereldwijd ervan bewust te maken dat zelfmoord kan worden voorkomen. \n\n\n\n[/vc_column_text][/vc_column][/vc_row][vc_row][vc_column][vc_single_image image=”61″ css_animation=”fadeInUp” alignment=”left”][/vc_column][/vc_row][vc_row][vc_column width=”1/2″]Issuekalender doorzoeken [/vc_column][vc_column width=”1/2″][/vc_column][/vc_row]
URL:https://issuekalender.nl/issue/world-suicide-prevention-day-vn/2024-09-10/
CATEGORIES:Overige,Welzijn en gezondheid
END:VEVENT
BEGIN:VEVENT
DTSTART;VALUE=DATE:20240913
DTEND;VALUE=DATE:20240914
DTSTAMP:20260419T214256
CREATED:20231023T091507Z
LAST-MODIFIED:20241007T124113Z
UID:10005972-1726185600-1726271999@issuekalender.nl
SUMMARY:DAG VAN DE SCHEIDING
DESCRIPTION:[vc_row][vc_column][vc_single_image image=”61″ css_animation=”fadeInUp” alignment=”left”][/vc_column][/vc_row][vc_row][vc_column][vc_column_text css_animation=”fadeIn” font_size=”45″ font_family=”Roboto” font_weight=”500″ color=”#57529e”]\nDAG VAN DE SCHEIDING \n[/vc_column_text][vc_empty_space height=”10px”][vc_single_image image=”88″ img_size=”medium” css_animation=”fadeInUp” alignment=”left”][/vc_column][/vc_row][vc_row][vc_column][vc_column_text]Sinds 2010 is het iedere tweede vrijdag van september Dag van de Scheiding. Dit is te herleiden naar de allereerste echtscheiding in Nederland op 15 september 1796.\nUit cijfers van het Centraal Bureau voor de Statistiek (CBS) blijkt dat één op de drie getrouwde stellen op den duur scheidt. Voor vFAS was dit de aanleiding om een speciale dag in het leven te roepen waarop landelijk aandacht wordt gevraagd voor het belang van deskundige begeleiding bij scheidingen: de ‘Dag van de Scheiding’. Het uiteindelijke doel is het verbeteren van het proces rondom echtscheidingen\, zodat (ex-)partners zorgvuldig en respectvol uit elkaar gaan. Op de ‘Dag van de Scheiding’ openen de vFAS-kantoren hun deuren om informatie te geven over scheiden. Belangstellenden kunnen dan informatie krijgen over o.a. alimentatie\, scheiden met kinderen\, boedelverdeling en scheiden met een eigen huis.[/vc_column_text][/vc_column][/vc_row][vc_row][vc_column][vc_single_image image=”61″ css_animation=”fadeInUp” alignment=”left”][/vc_column][/vc_row][vc_row][vc_column width=”1/2″]Issuekalender doorzoeken [/vc_column][vc_column width=”1/2″][/vc_column][/vc_row]
URL:https://issuekalender.nl/issue/dag-van-de-scheiding/2024-09-13/
CATEGORIES:Mens en maatschappij
END:VEVENT
BEGIN:VEVENT
DTSTART;VALUE=DATE:20240914
DTEND;VALUE=DATE:20240915
DTSTAMP:20260419T214256
CREATED:20241024T113639Z
LAST-MODIFIED:20241024T113639Z
UID:10008373-1726272000-1726358399@issuekalender.nl
SUMMARY:SEX WORKER PRIDE
DESCRIPTION:[vc_row][vc_column][vc_single_image image=”61″ css_animation=”fadeInUp” alignment=”left”][/vc_column][/vc_row][vc_row][vc_column][vc_column_text css_animation=”fadeIn” font_size=”45″ font_family=”Roboto” font_weight=”500″ color=”#57529e”]\nSEX WORKER PRIDE \n[/vc_column_text][vc_empty_space height=”10px”][vc_single_image image=”88″ img_size=”medium” css_animation=”fadeInUp” alignment=”left”][/vc_column][/vc_row][vc_row][vc_column][vc_column_text]\n\nSex Worker Pride begon in 2019 en is een gelegenheid om verhalen over zelfbeschikking van sekswerkers en de successen van de beweging voor de rechten van sekswerkers te vieren en te delen.\n\nSex Worker Pride strekt zich uit tot iedereen die gemarginaliseerd wordt door criminalisering\, discriminatie en stigmatisering binnen de sekswerkersbeweging en viert de diversiteit binnen onze gemeenschap tijdens International Sex Worker Pride.\n\nAshodaya Mandya optocht voor sekswerkers\nAshodaya Mandya Sex Worker Pride mars 2019\n\n\nSex Worker Pride voegt zich bij drie andere dagen – 3 maart\, 2 juni en 17 december\, die aandacht vragen voor de arbeidsrechten van sekswerkers\, toegang tot justitie en geweld tegen sekswerkers – om samen vier jaarlijkse internationale dagen voor de rechten van sekswerkers te vormen.\n\n\n[/vc_column_text][/vc_column][/vc_row][vc_row][vc_column][vc_single_image image=”61″ css_animation=”fadeInUp” alignment=”left”][/vc_column][/vc_row][vc_row][vc_column width=”1/2″]Issuekalender doorzoeken [/vc_column][vc_column width=”1/2″][/vc_column][/vc_row]
URL:https://issuekalender.nl/issue/sex-worker-pride/2024-09-14/
CATEGORIES:Mens en maatschappij
END:VEVENT
BEGIN:VEVENT
DTSTART;VALUE=DATE:20240914
DTEND;VALUE=DATE:20240916
DTSTAMP:20260419T214256
CREATED:20230712T113044Z
LAST-MODIFIED:20241007T124327Z
UID:10007592-1726272000-1726444799@issuekalender.nl
SUMMARY:OPEN MONUMENTENDAG
DESCRIPTION:[vc_row][vc_column][vc_single_image image=”61″ css_animation=”fadeInUp” alignment=”left”][/vc_column][/vc_row][vc_row][vc_column][vc_column_text css_animation=”fadeIn” font_size=”45″ font_family=”Roboto” font_weight=”500″ color=”#57529e”]\nOPEN MONUMENTENDAG \n[/vc_column_text][vc_empty_space height=”10px”][vc_single_image image=”88″ img_size=”medium” css_animation=”fadeInUp” alignment=”left”][/vc_column][/vc_row][vc_row][vc_column][vc_column_text]Elk jaar in het tweede weekend van september is het Open Monumentendag\, wat een onderdeel is van de European Heritage Days. Tijdens dit weekend openen duizenden monumenten hun deuren voor het publiek\, met als doel om mensen met de monumenten te verbinden en om de schoonheid en verhalen te laten zien. Met jaarlijks rond de één miljoen bezoekers is het een van de grootste culturele evenementen in Nederland en hét instrument om de bevolking op grote schaal in contact te brengen met ons monumentale erfgoed.[/vc_column_text][/vc_column][/vc_row][vc_row][vc_column][vc_single_image image=”61″ css_animation=”fadeInUp” alignment=”left”][/vc_column][/vc_row][vc_row][vc_column width=”1/2″]Issuekalender doorzoeken [/vc_column][vc_column width=”1/2″][/vc_column][/vc_row]
URL:https://issuekalender.nl/issue/open-monumentendag/2024-09-14/
CATEGORIES:Kunst en cultuur
ORGANIZER;CN="Stichting Open Monumentendag":MAILTO:info@openmonumentendag.nl
END:VEVENT
BEGIN:VEVENT
DTSTART;VALUE=DATE:20240915
DTEND;VALUE=DATE:20240916
DTSTAMP:20260419T214256
CREATED:20230713T124941Z
LAST-MODIFIED:20241007T124903Z
UID:10006504-1726358400-1726444799@issuekalender.nl
SUMMARY:INTERNATIONALE DAG VAN DE DEMOCRATIE (VN)
DESCRIPTION:[vc_row][vc_column][vc_single_image image=”61″ css_animation=”fadeInUp” alignment=”left”][/vc_column][/vc_row][vc_row][vc_column][vc_column_text css_animation=”fadeIn” font_size=”45″ font_family=”Roboto” font_weight=”500″ color=”#57529e”]\nINTERNATIONALE DAG VAN DE DEMOCRATIE (VN) \n[/vc_column_text][vc_empty_space height=”10px”][vc_single_image image=”88″ img_size=”medium” css_animation=”fadeInUp” alignment=”left”][/vc_column][/vc_row][vc_row][vc_column][vc_column_text]De Verenigde Naties heeft 15 september uitgeroepen tot de ‘Internationale Dag van de Democratie’. Met deze speciale dag willen zij aandacht vragen voor de toestand van de democratie in de wereld gebaseerd op vrijheid\, mensenrechten en algemeen kiesrecht. Alleen met volledige steun van de internationale gemeenschap kan dit een realiteit zijn voor iedereen.[/vc_column_text][/vc_column][/vc_row][vc_row][vc_column][vc_single_image image=”61″ css_animation=”fadeInUp” alignment=”left”][/vc_column][/vc_row][vc_row][vc_column width=”1/2″]Issuekalender doorzoeken [/vc_column][vc_column width=”1/2″][/vc_column][/vc_row]
URL:https://issuekalender.nl/issue/internationale-dag-van-de-democratie-vn/2024-09-15/
CATEGORIES:Mens en maatschappij
END:VEVENT
END:VCALENDAR