BEGIN:VCALENDAR
VERSION:2.0
PRODID:-//Issuekalender - ECPv6.9.0//NONSGML v1.0//EN
CALSCALE:GREGORIAN
METHOD:PUBLISH
X-WR-CALNAME:Issuekalender
X-ORIGINAL-URL:https://issuekalender.nl
X-WR-CALDESC:Evenementen voor Issuekalender
REFRESH-INTERVAL;VALUE=DURATION:PT1H
X-Robots-Tag:noindex
X-PUBLISHED-TTL:PT1H
BEGIN:VTIMEZONE
TZID:Europe/Amsterdam
BEGIN:DAYLIGHT
TZOFFSETFROM:+0100
TZOFFSETTO:+0200
TZNAME:CEST
DTSTART:20240331T010000
END:DAYLIGHT
BEGIN:STANDARD
TZOFFSETFROM:+0200
TZOFFSETTO:+0100
TZNAME:CET
DTSTART:20241027T010000
END:STANDARD
END:VTIMEZONE
BEGIN:VEVENT
DTSTART;VALUE=DATE:20240601
DTEND;VALUE=DATE:20240701
DTSTAMP:20260421T122803
CREATED:20240320T133928Z
LAST-MODIFIED:20241008T090046Z
UID:10006042-1717200000-1719791999@issuekalender.nl
SUMMARY:LIPOEDEEM AWARENESS MAAND
DESCRIPTION:[vc_row][vc_column][vc_single_image image=”61″ css_animation=”fadeInUp” alignment=”left”][/vc_column][/vc_row][vc_row][vc_column][vc_column_text css_animation=”fadeIn” font_size=”45″ font_family=”Roboto” font_weight=”500″ color=”#57529e”]\nLIPOEDEEM AWARENESS MAAND \n[/vc_column_text][vc_empty_space height=”10px”][vc_single_image image=”88″ img_size=”medium” css_animation=”fadeInUp” alignment=”left”][vc_column_text font_size=”20px” font_family=”Roboto” font_weight=”normal”]\n\n\n\n\n\n\n[/vc_column_text][/vc_column][/vc_row][vc_row][vc_column][vc_column_text]\nJuni is de maand waarin er aandacht wordt gevraagd voor lipoedeem. Lipoedeem is een aandoening die vooral voorkomt bij vrouwen. Het wordt veroorzaakt door ontstekingsreacties in de huid die leiden tot abnormale groei van de vetcellen. De oorzaak is eigenlijk nog niet bekend\, maar aangezien het vooral bij vrouwen voorkomt\, het in de pubertijd ontstaat\, rond zwangerschap en overgang\, en in die periodes ook ineens kan toenemen\, lijken hormonen een grote invloed te hebben. Ook lijkt er een familiaire component te zijn.\nMeestal zit lipoedeem in de benen\, billen en armen\, maar het kan ook op andere plekken voorkomen. \n[/vc_column_text][/vc_column][/vc_row][vc_row][vc_column][vc_single_image image=”61″ css_animation=”fadeInUp” alignment=”left”][/vc_column][/vc_row][vc_row][vc_column width=”1/2″]Issuekalender doorzoeken [/vc_column][vc_column width=”1/2″][/vc_column][/vc_row]
URL:https://issuekalender.nl/issue/lipoedeem-awareness-maand/2024-06-01/
CATEGORIES:Welzijn en gezondheid
END:VEVENT
BEGIN:VEVENT
DTSTART;VALUE=DATE:20240612
DTEND;VALUE=DATE:20240613
DTSTAMP:20260421T122803
CREATED:20230710T205018Z
LAST-MODIFIED:20241008T095457Z
UID:10007891-1718150400-1718236799@issuekalender.nl
SUMMARY:INTERNATIONALE DAG TEGEN KINDERARBEID (VN)
DESCRIPTION:[vc_row][vc_column][vc_column_text css_animation=”fadeIn” font_size=”35″ font_family=”Roboto” font_weight=”500″ color=”#57529e”]\nINTERNATIONALE DAG TEGEN KINDERARBEID (VN) \n[/vc_column_text][vc_empty_space height=”10px”][vc_single_image image=”88″ img_size=”medium” css_animation=”fadeInUp” alignment=”left”][/vc_column][/vc_row][vc_row][vc_column][vc_column_text]\n\n\n\nOver de hele wereld zijn nog steeds 218 miljoen kinderen gedwongen aan het werk. Om hier extra aandacht voor te vragen is de Dag tegen Kinderarbeid in het leven geroepen. Op deze dag\, die wordt georganiseerd door de Internationale Arbeidsorganisatie (International Labour Organisation ILO) en ondersteund door de VN\, wordt de actie tegen kinderarbeid gevoerd. Dit gebeurt door mensen beter te onderwijzen en mensen te motiveren om actie te ondernemen tegen kinderarbeid. \n\n\n\n[/vc_column_text][/vc_column][/vc_row][vc_row][vc_column][vc_single_image image=”61″ css_animation=”fadeInUp” alignment=”left”][/vc_column][/vc_row][vc_row][vc_column width=”1/2″]Issuekalender doorzoeken [/vc_column][vc_column width=”1/2″][/vc_column][/vc_row]
URL:https://issuekalender.nl/issue/internationale-dag-tegen-kinderarbeid-vn/2024-06-12/
CATEGORIES:Mens en maatschappij,Werk en welzijn
END:VEVENT
BEGIN:VEVENT
DTSTART;VALUE=DATE:20240613
DTEND;VALUE=DATE:20240614
DTSTAMP:20260421T122803
CREATED:20230710T213223Z
LAST-MODIFIED:20241008T122717Z
UID:10007897-1718236800-1718323199@issuekalender.nl
SUMMARY:INTERNATIONALE ALBINISMEDAG (VN)
DESCRIPTION:[vc_row][vc_column][vc_column_text css_animation=”fadeIn” font_size=”35″ font_family=”Roboto” font_weight=”500″ color=”#57529e”]\nINTERNATIONALE ALBINISMEDAG (VN) \n[/vc_column_text][vc_empty_space height=”10px”][vc_single_image image=”88″ img_size=”medium” css_animation=”fadeInUp” alignment=”left”][/vc_column][/vc_row][vc_row][vc_column][vc_column_text]\n\n\n\nEen internationale dag om aandacht te vragen voor Albinisme (Albinism Day). \n\n\n\n[/vc_column_text][/vc_column][/vc_row][vc_row][vc_column][vc_single_image image=”61″ css_animation=”fadeInUp” alignment=”left”][/vc_column][/vc_row][vc_row][vc_column width=”1/2″]Issuekalender doorzoeken [/vc_column][vc_column width=”1/2″][/vc_column][/vc_row]
URL:https://issuekalender.nl/issue/internationale-albinismedag-vn/2024-06-13/
CATEGORIES:Mens en maatschappij,Overige,Welzijn en gezondheid
END:VEVENT
BEGIN:VEVENT
DTSTART;VALUE=DATE:20240614
DTEND;VALUE=DATE:20240615
DTSTAMP:20260421T122803
CREATED:20230710T213345Z
LAST-MODIFIED:20241008T123008Z
UID:10007903-1718323200-1718409599@issuekalender.nl
SUMMARY:WERELD BLOEDDONORDAG (VN)
DESCRIPTION:[vc_row][vc_column][vc_column_text css_animation=”fadeIn” font_size=”35″ font_family=”Roboto” font_weight=”500″ color=”#57529e”]\nWERELD BLOEDDONORDAG (VN) \n[/vc_column_text][vc_empty_space height=”10px”][vc_single_image image=”88″ img_size=”medium” css_animation=”fadeInUp” alignment=”left”][/vc_column][/vc_row][vc_row][vc_column][vc_column_text]\n\n\n\nOp deze dag staat men stil bij alle ‘onzichtbare helden’. Jaarlijks hebben vele mensen hun leven te danken aan donoren die vrijwillig hun bloed geven. \n\n\n\n[/vc_column_text][/vc_column][/vc_row][vc_row][vc_column][vc_single_image image=”61″ css_animation=”fadeInUp” alignment=”left”][/vc_column][/vc_row][vc_row][vc_column width=”1/2″]Issuekalender doorzoeken [/vc_column][vc_column width=”1/2″][/vc_column][/vc_row]
URL:https://issuekalender.nl/issue/wereld-bloeddonordag-vn/2024-06-14/
CATEGORIES:Overige,Welzijn en gezondheid
ORGANIZER;CN="Sanquin":MAILTO:bloodsafety@who.int
END:VEVENT
BEGIN:VEVENT
DTSTART;VALUE=DATE:20240615
DTEND;VALUE=DATE:20240616
DTSTAMP:20260421T122803
CREATED:20230710T215621Z
LAST-MODIFIED:20241008T123842Z
UID:10007909-1718409600-1718495999@issuekalender.nl
SUMMARY:WERELDDAG VAN HET BEWUSTZIJN VAN OUDERENMISBRUIK (VN)
DESCRIPTION:[vc_row][vc_column][vc_column_text css_animation=”fadeIn” font_size=”35″ font_family=”Roboto” font_weight=”500″ color=”#57529e”]\nWERELDDAG VAN HET BEWUSTZIJN VAN OUDERENMISBRUIK (VN) \n[/vc_column_text][vc_empty_space height=”10px”][vc_single_image image=”88″ img_size=”medium” css_animation=”fadeInUp” alignment=”left”][/vc_column][/vc_row][vc_row][vc_column][vc_column_text]\n\n\n\nDe wereldbevolking van mensen van 60 jaar en ouder zal meer dan verdubbelen\, van 542 miljoen in 1995 tot ongeveer 1\,2 miljard in 2025. Ongeveer 4 tot 6% van de ouderen hebben thuis een of andere vorm van mishandeling meegemaakt. Mishandeling van ouderen kan leiden tot ernstig lichamelijk letsel en langdurige psychische gevolgen. Er wordt voorspeld dat het aantal gevallen van mishandeling van ouderen zal toenemen\, aangezien veel landen te maken hebben met een snel vergrijzende bevolking. \nOuderenmishandeling is een wereldwijde sociale kwestie die de gezondheid en de mensenrechten van miljoenen ouderen over de hele wereld beïnvloedt\, en een kwestie die de aandacht van de internationale gemeenschap verdient. \nDe Algemene Vergadering van de Verenigde Naties heeft in haar resolutie 66/127 15 juni uitgeroepen tot Werelddag van het Bewustzijn van Ouderenmisbruik (World Elder Abuse Awareness Day). Het is de enige dag in het jaar dat de hele wereld zich verzet tegen het misbruik en het leed dat sommige van onze oudere generaties wordt aangedaan. \n\n\n\n[/vc_column_text][/vc_column][/vc_row][vc_row][vc_column][vc_single_image image=”61″ css_animation=”fadeInUp” alignment=”left”][/vc_column][/vc_row][vc_row][vc_column width=”1/2″]Issuekalender doorzoeken [/vc_column][vc_column width=”1/2″][/vc_column][/vc_row]
URL:https://issuekalender.nl/issue/werelddag-van-het-bewustzijn-van-ouderenmisbruik-vn/2024-06-15/
CATEGORIES:Mens en maatschappij,Overige,Welzijn en gezondheid
END:VEVENT
BEGIN:VEVENT
DTSTART;VALUE=DATE:20240616
DTEND;VALUE=DATE:20240617
DTSTAMP:20260421T122803
CREATED:20230615T194618Z
LAST-MODIFIED:20241008T124517Z
UID:10007915-1718496000-1718582399@issuekalender.nl
SUMMARY:INTERNATIONALE DAG VAN HET AFRIKAANSE KIND
DESCRIPTION:[vc_row][vc_column][vc_column_text css_animation=”fadeIn” font_size=”35″ font_family=”Roboto” font_weight=”500″ color=”#57529e”]\nINTERNATIONALE DAG VAN HET AFRIKAANSE KIND \n[/vc_column_text][vc_empty_space height=”10px”][vc_single_image image=”88″ img_size=”medium” css_animation=”fadeInUp” alignment=”left”][/vc_column][/vc_row][vc_row][vc_column][vc_column_text]Op 16 juni 1976 gingen duizenden schoolkinderen in Zuid-Afrika de straat op om te protesteren tegen de slechte kwaliteit van het onderwijs. Die opstand werd met harde hand neergeslagen door de regering en er vielen meer dan 100 doden. Om deze opstand te herdenken\, en om Afrikaanse kinderen in het algemeen te helpen aan beter onderwijs en leefomstandigheden\, heeft de Centrale Afrikaanse Unie 16 juni uitgeroepen tot de Dag van het Afrikaanse Kind (International Day of the African Child.). Op deze dag wordt stilgestaan bij de benarde omstandigheden waarin kinderen in Afrika moeten opgroeien en wordt aandacht gevraagd voor verbetering van onderwijs\, gezondheidszorg en betere maatschappelijke kansen.[/vc_column_text][/vc_column][/vc_row][vc_row][vc_column][vc_single_image image=”61″ css_animation=”fadeInUp” alignment=”left”][/vc_column][/vc_row][vc_row][vc_column width=”1/2″]Issuekalender doorzoeken [/vc_column][vc_column width=”1/2″][/vc_column][/vc_row]
URL:https://issuekalender.nl/issue/internationale-dag-van-het-afrikaanse-kind/2024-06-16/
CATEGORIES:Mens en maatschappij,Overige,Sociale cohesie en integratie,Welzijn en gezondheid
END:VEVENT
BEGIN:VEVENT
DTSTART;VALUE=DATE:20240616
DTEND;VALUE=DATE:20240617
DTSTAMP:20260421T122803
CREATED:20230710T235316Z
LAST-MODIFIED:20241008T124639Z
UID:10007921-1718496000-1718582399@issuekalender.nl
SUMMARY:VADERDAG
DESCRIPTION:[vc_row][vc_column][vc_column_text css_animation=”fadeIn” font_size=”35″ font_family=”Roboto” font_weight=”500″ color=”#57529e”]\nVADERDAG \n[/vc_column_text][vc_empty_space height=”10px”][vc_single_image image=”88″ img_size=”medium” css_animation=”fadeInUp” alignment=”left”][/vc_column][/vc_row][vc_row][vc_column][vc_column_text]\n\n\n\nVaderdag is een feestdag ter ere van vaders\, waarbij hun vaderschap\, vaderlijke plichten en de invloed van vaders in de samenleving wordt gevierd. In Nederland wordt het gevierd op de derde zondag van juni. Op deze dag worden zij in het zonnetje gezet. Ze krijgen dan vaak ontbijt op bed\, knutselwerkjes van de kinderen en/of cadeautjes. \n\n\n\n[/vc_column_text][/vc_column][/vc_row][vc_row][vc_column][vc_single_image image=”61″ css_animation=”fadeInUp” alignment=”left”][/vc_column][/vc_row][vc_row][vc_column width=”1/2″]Issuekalender doorzoeken [/vc_column][vc_column width=”1/2″][/vc_column][/vc_row]
URL:https://issuekalender.nl/issue/vaderdag/2024-06-16/
CATEGORIES:Mens en maatschappij
END:VEVENT
END:VCALENDAR