BEGIN:VCALENDAR
VERSION:2.0
PRODID:-//Issuekalender - ECPv6.9.0//NONSGML v1.0//EN
CALSCALE:GREGORIAN
METHOD:PUBLISH
X-ORIGINAL-URL:https://issuekalender.nl
X-WR-CALDESC:Evenementen voor Issuekalender
REFRESH-INTERVAL;VALUE=DURATION:PT1H
X-Robots-Tag:noindex
X-PUBLISHED-TTL:PT1H
BEGIN:VTIMEZONE
TZID:Europe/Amsterdam
BEGIN:DAYLIGHT
TZOFFSETFROM:+0100
TZOFFSETTO:+0200
TZNAME:CEST
DTSTART:20240331T010000
END:DAYLIGHT
BEGIN:STANDARD
TZOFFSETFROM:+0200
TZOFFSETTO:+0100
TZNAME:CET
DTSTART:20241027T010000
END:STANDARD
END:VTIMEZONE
BEGIN:VEVENT
DTSTART;VALUE=DATE:20240301
DTEND;VALUE=DATE:20240401
DTSTAMP:20260422T231947
CREATED:20230714T124946Z
LAST-MODIFIED:20251111T111927Z
UID:10008572-1709251200-1711929599@issuekalender.nl
SUMMARY:ENDOMETRIOSE AWARENESS MAAND
DESCRIPTION:[vc_row][vc_column][vc_single_image image=”61″ css_animation=”fadeInUp” alignment=”left”][/vc_column][/vc_row][vc_row][vc_column][vc_column_text css_animation=”fadeIn” font_size=”45″ font_family=”Roboto” font_weight=”500″ color=”#57529e”]\nENDOMETRIOSE AWARENESS MAAND \n[/vc_column_text][vc_empty_space height=”10px”][vc_single_image image=”88″ img_size=”medium” css_animation=”fadeInUp” alignment=”left”][/vc_column][/vc_row][vc_row][vc_column][vc_column_text]De gehele maand maart is wereldwijd Endometriosis Awareness Month. \n\n[/vc_column_text][/vc_column][/vc_row][vc_row][vc_column][vc_single_image image=”61″ css_animation=”fadeInUp” alignment=”left”][/vc_column][/vc_row][vc_row][vc_column width=”1/2″]Issuekalender doorzoeken [/vc_column][vc_column width=”1/2″][/vc_column][/vc_row]
URL:https://issuekalender.nl/issue/endometriose-awareness-maand/2024-03-01/
CATEGORIES:Welzijn en gezondheid
END:VEVENT
BEGIN:VEVENT
DTSTART;VALUE=DATE:20240301
DTEND;VALUE=DATE:20240401
DTSTAMP:20260422T231947
CREATED:20230714T131149Z
LAST-MODIFIED:20251111T111937Z
UID:10008582-1709251200-1711929599@issuekalender.nl
SUMMARY:DARMKANKERMAAND
DESCRIPTION:[vc_row][vc_column][vc_single_image image=”61″ css_animation=”fadeInUp” alignment=”left”][/vc_column][/vc_row][vc_row][vc_column][vc_column_text css_animation=”fadeIn” font_size=”45″ font_family=”Roboto” font_weight=”500″ color=”#57529e”]\nDARMKANKERMAAND \n[/vc_column_text][vc_empty_space height=”10px”][vc_single_image image=”88″ img_size=”medium” css_animation=”fadeInUp” alignment=”left”][/vc_column][/vc_row][vc_row][vc_column][vc_column_text]Maart is internationaal uitgeroepen tot darmkankermaand. Tijdens de darmkankermaand geeft de Maag-\, Lever-\, Darm-Stichting extra aandacht aan de preventie van darmkanker en mensen die getroffen zijn door de ziekte. Jaarlijks krijgen meer dan 15.000 patiënten en hun naasten met darmkanker te maken.[/vc_column_text][/vc_column][/vc_row][vc_row][vc_column][vc_single_image image=”61″ css_animation=”fadeInUp” alignment=”left”][/vc_column][/vc_row][vc_row][vc_column width=”1/2″]Issuekalender doorzoeken [/vc_column][vc_column width=”1/2″][/vc_column][/vc_row]
URL:https://issuekalender.nl/issue/darmkankermaand/2024-03-01/
CATEGORIES:Welzijn en gezondheid
ORGANIZER;CN="Maag Lever Darm Stichting":MAILTO:info@mlds.nl
END:VEVENT
BEGIN:VEVENT
DTSTART;VALUE=DATE:20240313
DTEND;VALUE=DATE:20240314
DTSTAMP:20260422T231947
CREATED:20230714T140932Z
LAST-MODIFIED:20241028T131655Z
UID:10003391-1710288000-1710374399@issuekalender.nl
SUMMARY:DAG VAN DE INGENIEUR
DESCRIPTION:[vc_row][vc_column][vc_single_image image=”61″ css_animation=”fadeInUp” alignment=”left”][/vc_column][/vc_row][vc_row][vc_column][vc_column_text css_animation=”fadeIn” font_size=”45″ font_family=”Roboto” font_weight=”500″ color=”#57529e”]\nDAG VAN DE INGENIEUR \n[/vc_column_text][vc_empty_space height=”10px”][vc_single_image image=”88″ img_size=”medium” css_animation=”fadeInUp” alignment=”left”][/vc_column][/vc_row][vc_row][vc_column][vc_column_text]Jaarlijks vindt de Dag van de Ingenieur plaats. Op deze dag wordt op een belangrijke plaats voor technologie in Nederland de Ingenieur van het Jaar gekozen door het Koninklijk Instituut van Ingenieurs (KIVI). Hij of zij wint de Prins Friso Ingenieursprijs. \nIngenieurs die zich onderscheiden in expertise\, innoverend vermogen\, maatschappelijke impact en ondernemerschap komen in aanmerking voor de jaarlijkse Prins Friso Ingenieursprijs. Prins Friso was ingenieur lucht- en ruimtevaarttechniek en werktuigbouwkunde. Daarnaast was hij in het bezit van een diploma bedrijfseconomie. Deze door Prins Friso zo nadrukkelijk gekozen combinatie van competenties maakten hem als ingenieur uniek. Zijn inspirerende nalatenschap aan de ingenieurswereld maakt het bijzonder passend om de Ingenieur van het Jaar te eren met de Prins Friso Ingenieursprijs. Prins Friso was tevens zeer gewaardeerd lid van KIVI. \nNaast de Ingenieur van het Jaar wordt er op de Dag van de Ingenieur ook de KIVI Academic Society Award uitgereikt. Voor de KIVI Academic Society Award komen hoogleraren in aanmerking die zich onderscheiden door uitmuntend onderzoek en hun vermogen om op aansprekende wijze de verbinding tussen wetenschap en maatschappij te leggen.[/vc_column_text][/vc_column][/vc_row][vc_row][vc_column][vc_single_image image=”61″ css_animation=”fadeInUp” alignment=”left”][/vc_column][/vc_row][vc_row][vc_column width=”1/2″]Issuekalender doorzoeken [/vc_column][vc_column width=”1/2″][/vc_column][/vc_row]
URL:https://issuekalender.nl/issue/dag-van-de-ingenieur/2024-03-13/
CATEGORIES:Innovatie en technologie,Wetenschap
ORGANIZER;CN="Het Koninklijk Instituut Van Ingenieurs (KIVI)":MAILTO:info@kivi.nl
END:VEVENT
BEGIN:VEVENT
DTSTART;VALUE=DATE:20240314
DTEND;VALUE=DATE:20240315
DTSTAMP:20260422T231947
CREATED:20230714T134021Z
LAST-MODIFIED:20241023T115808Z
UID:10003358-1710374400-1710460799@issuekalender.nl
SUMMARY:WORLD KIDNEY DAY
DESCRIPTION:[vc_row][vc_column][vc_single_image image=”61″ css_animation=”fadeInUp” alignment=”left”][/vc_column][/vc_row][vc_row][vc_column][vc_column_text css_animation=”fadeIn” font_size=”45″ font_family=”Roboto” font_weight=”500″ color=”#57529e”]\nWORLD KIDNEY DAY \n[/vc_column_text][vc_empty_space height=”10px”][vc_single_image image=”88″ img_size=”medium” css_animation=”fadeInUp” alignment=”left”][/vc_column][/vc_row][vc_row][vc_column][vc_column_text]World Kidney Day heeft als doel bewustwording creëren over het belang van onze nieren en terugdringen van de frequentie en de impact van nierziekten (en bijbehorende gezondheidsproblemen). \nDe World Kidney Day is iedere tweede donderdag in maart.[/vc_column_text][/vc_column][/vc_row][vc_row][vc_column][vc_single_image image=”61″ css_animation=”fadeInUp” alignment=”left”][/vc_column][/vc_row][vc_row][vc_column width=”1/2″]Issuekalender doorzoeken [/vc_column][vc_column width=”1/2″][/vc_column][/vc_row]
URL:https://issuekalender.nl/issue/world-kidney-day/2024-03-14/
CATEGORIES:Onderwijs en educatie,Welzijn en gezondheid
END:VEVENT
BEGIN:VEVENT
DTSTART;VALUE=DATE:20240314
DTEND;VALUE=DATE:20240315
DTSTAMP:20260422T231947
CREATED:20230714T140711Z
LAST-MODIFIED:20251111T112713Z
UID:10006703-1710374400-1710460799@issuekalender.nl
SUMMARY:PI-DAG
DESCRIPTION:[vc_row][vc_column][vc_single_image image=”61″ css_animation=”fadeInUp” alignment=”left”][/vc_column][/vc_row][vc_row][vc_column][vc_column_text css_animation=”fadeIn” font_size=”45″ font_family=”Roboto” font_weight=”500″ color=”#57529e”]\nPI-DAG \n[/vc_column_text][vc_empty_space height=”10px”][vc_single_image image=”88″ img_size=”medium” css_animation=”fadeInUp” alignment=”left”][/vc_column][/vc_row][vc_row][vc_column][vc_column_text]Op π-dag\, 14 maart\, wordt wereldwijd op verschillende wiskundeafdelingen van universiteiten feestgevierd. π-dag wordt op 14 maart gevierd\, omdat in de Amerikaanse schrijfwijze voor data 14 maart geschreven wordt als 3/14 en de driecijferige benadering voor π 3\,14 is. Deze dag wordt op verschillende manieren gevierd. De viering begint gewoonlijk om 13:59 uur (1:59 PM)\, omdat de zescijferige benadering van π 3\,14159 is.[/vc_column_text][/vc_column][/vc_row][vc_row][vc_column][vc_single_image image=”61″ css_animation=”fadeInUp” alignment=”left”][/vc_column][/vc_row][vc_row][vc_column width=”1/2″]Issuekalender doorzoeken [/vc_column][vc_column width=”1/2″][/vc_column][/vc_row]
URL:https://issuekalender.nl/issue/pi-dag/2024-03-14/
CATEGORIES:Innovatie en technologie,Onderwijs en educatie,Wetenschap
END:VEVENT
BEGIN:VEVENT
DTSTART;VALUE=DATE:20240315
DTEND;VALUE=DATE:20240316
DTSTAMP:20260422T231947
CREATED:20230714T140815Z
LAST-MODIFIED:20251111T112724Z
UID:10006704-1710460800-1710547199@issuekalender.nl
SUMMARY:WERELDDAG VAN DE RECHTEN VAN DE CONSUMENT
DESCRIPTION:[vc_row][vc_column][vc_single_image image=”61″ css_animation=”fadeInUp” alignment=”left”][/vc_column][/vc_row][vc_row][vc_column][vc_column_text css_animation=”fadeIn” font_size=”45″ font_family=”Roboto” font_weight=”500″ color=”#57529e”]\nWERELDDAG VAN DE RECHTEN VAN DE CONSUMENT \n[/vc_column_text][vc_empty_space height=”10px”][vc_single_image image=”88″ img_size=”medium” css_animation=”fadeInUp” alignment=”left”][/vc_column][/vc_row][vc_row][vc_column][vc_column_text]De consumentenbeweging viert elk jaar op 15 maart de Werelddag van de Rechten van de Consument\, als middel om het wereldwijde bewustzijn over consumentenrechten en -behoeften te vergroten. Het vieren van de dag is een kans om te eisen dat de rechten van alle consumenten worden gerespecteerd en beschermd\, en om te protesteren tegen marktmisbruik en sociale onrechtvaardigheden die deze rechten ondermijnen. \nDe Wereldconsumentenrechtendag werd geïnspireerd door president John F. Kennedy\, die op 15 maart 1962 een speciale boodschap naar het Amerikaanse Congres stuurde\, waarin hij zich formeel over de kwestie van de consumentenrechten uitsprak. Hij was de eerste wereldleider die dat deed. De consumentenbeweging zette die datum voor het eerst in 1983 in het zonnetje en gebruikt die dag nu elk jaar om actie te ondernemen met betrekking tot belangrijke kwesties en campagnes.[/vc_column_text][/vc_column][/vc_row][vc_row][vc_column][vc_single_image image=”61″ css_animation=”fadeInUp” alignment=”left”][/vc_column][/vc_row][vc_row][vc_column width=”1/2″]Issuekalender doorzoeken [/vc_column][vc_column width=”1/2″][/vc_column][/vc_row]
URL:https://issuekalender.nl/issue/werelddag-van-de-rechten-van-de-consument/2024-03-15/
CATEGORIES:Economie en financiën
END:VEVENT
BEGIN:VEVENT
DTSTART;VALUE=DATE:20240315
DTEND;VALUE=DATE:20240316
DTSTAMP:20260422T231947
CREATED:20230714T144357Z
LAST-MODIFIED:20251111T112835Z
UID:10009146-1710460800-1710547199@issuekalender.nl
SUMMARY:WERELDVERTELDAG
DESCRIPTION:[vc_row][vc_column][vc_single_image image=”61″ css_animation=”fadeInUp” alignment=”left”][/vc_column][/vc_row][vc_row][vc_column][vc_column_text css_animation=”fadeIn” font_size=”45″ font_family=”Roboto” font_weight=”500″ color=”#57529e”]\nWERELDVERTELDAG \n[/vc_column_text][vc_empty_space height=”10px”][vc_single_image image=”88″ img_size=”medium” css_animation=”fadeInUp” alignment=”left”][/vc_column][/vc_row][vc_row][vc_column][vc_column_text]Op Wereldverteldag vieren vertellers uit de hele wereld de kunst van het vertellen: het overdragen van verhalen in de mondelinge traditie.[/vc_column_text][/vc_column][/vc_row][vc_row][vc_column][vc_single_image image=”61″ css_animation=”fadeInUp” alignment=”left”][/vc_column][/vc_row][vc_row][vc_column width=”1/2″]Issuekalender doorzoeken [/vc_column][vc_column width=”1/2″][/vc_column][/vc_row]
URL:https://issuekalender.nl/issue/wereldverteldag/2024-03-15/
CATEGORIES:Mens en maatschappij,Onderwijs en educatie
ORGANIZER;CN="Werkgroep Wereldverteldag":MAILTO:info@wereldverteldag.nl
END:VEVENT
BEGIN:VEVENT
DTSTART;VALUE=DATE:20240316
DTEND;VALUE=DATE:20240317
DTSTAMP:20260422T231947
CREATED:20230714T141900Z
LAST-MODIFIED:20251111T112744Z
UID:10006705-1710547200-1710633599@issuekalender.nl
SUMMARY:DAG VAN DE THUISWERKER
DESCRIPTION:[vc_row][vc_column][vc_single_image image=”61″ css_animation=”fadeInUp” alignment=”left”][/vc_column][/vc_row][vc_row][vc_column][vc_empty_space height=”10px”][vc_single_image image=”88″ img_size=”medium” css_animation=”fadeInUp” alignment=”left”][/vc_column][/vc_row][vc_row][vc_column][vc_column_text]Half Nederland ontdekte in 2020 noodgedwongen het thuiswerken. Als de coronamaatregelen straks versoepelen\, dan gaan velen weer opgelucht naar kantoor. Maar niet iedereen. Een groep mensen werkt altijd vanuit huis. Omdat ze dat willen óf omdat ze niet anders kunnen\, bijvoorbeeld omdat ze door een aandoening niet op kantoor kunnen werken. \nOp de Dag van de Thuiswerker\, op 16 maart\, zetten we deze mensen in het zonnetje. \nLange tijd werd thuiswerken gezien als een bijbaantje. Iets voor een veredelde huisvrouw. Doordat veel mensen afgelopen noodgedwongen ervaring opgedaan hebben met thuiswerken is het imago van thuiswerken gelukkig verbetert. Mensen beseffen dat thuiswerkers even hard werken als hun equivalenten op kantoor. \nMaar we willen met de Dag van de Thuiswerker nog een extra stap zetten. We willen mensen ervan bewust maken dat vanuit huis werken een langdurige oplossing kan zijn voor mensen met en zonder aandoening. Voor de mensen zelf\, die met thuiswerken een betere balans in hun leven krijgen\, en voor werkgevers die door de thuiswerkbaan te omarmen als serieuze mogelijkheid minder snel afscheid hoeft te nemen van medewerkers die langdurig ziek worden en moeite hebben met de reis naar of de drukte op kantoor. \nDe Dag van de Thuiswerker wordt georganiseerd door social enterprise Webmastery\, waar de medewerkers allen vanuit huis werken. Zij verzorgen social media en websites voor organisaties. \nWil je bijdragen aan ons doel? Laten zien welke thuiswerktopper jij kent. Zet ze in het zonnetje op je social media met hashtag #dagvandethuiswerker op 16 maart. En vergeet niet de organisatie te mentionen die deze thuiswerker de kans biedt om te shinen op afstand.[/vc_column_text][/vc_column][/vc_row][vc_row][vc_column][vc_single_image image=”61″ css_animation=”fadeInUp” alignment=”left”][/vc_column][/vc_row][vc_row][vc_column width=”1/2″]Issuekalender doorzoeken [/vc_column][vc_column width=”1/2″][/vc_column][/vc_row]
URL:https://issuekalender.nl/issue/dag-van-de-thuiswerker-2/2024-03-16/
CATEGORIES:Mens en maatschappij,Werk en welzijn
ORGANIZER;CN="Webmastery":MAILTO:margaret@webmastery.nl
END:VEVENT
BEGIN:VEVENT
DTSTART;VALUE=DATE:20240316
DTEND;VALUE=DATE:20240317
DTSTAMP:20260422T231947
CREATED:20230715T121914Z
LAST-MODIFIED:20251111T112918Z
UID:10009154-1710547200-1710633599@issuekalender.nl
SUMMARY:WERELD DOWNSYNDROOMDAG (VN)
DESCRIPTION:[vc_row][vc_column][vc_single_image image=”61″ css_animation=”fadeInUp” alignment=”left”][/vc_column][/vc_row][vc_row][vc_column][vc_column_text css_animation=”fadeIn” font_size=”45″ font_family=”Roboto” font_weight=”500″ color=”#57529e”]\nWERELD DOWNSYNDROOMDAG (VN) \n[/vc_column_text][vc_empty_space height=”10px”][vc_single_image image=”88″ img_size=”medium” css_animation=”fadeInUp” alignment=”left”][/vc_column][/vc_row][vc_row][vc_column][vc_column_text]Wereld Down Syndroom Dag is ervoor bedoeld mensen bewust te maken van het Syndroom van Down. Deze erfelijke (aangeboren) afwijking wordt ook wel trisomie 21 genoemd. Daarom wordt 21 maart de Wereld Downsyndroom dag georganiseerd. \nDown Syndrome International (DSI) wil graag meer aandacht voor de talenten en mogelijkheden die mensen met down hebben. Ook steunen zij onderzoek om wereldwijde zorg te verbeteren.[/vc_column_text][/vc_column][/vc_row][vc_row][vc_column][vc_single_image image=”61″ css_animation=”fadeInUp” alignment=”left”][/vc_column][/vc_row][vc_row][vc_column width=”1/2″]Issuekalender doorzoeken [/vc_column][vc_column width=”1/2″][/vc_column][/vc_row]
URL:https://issuekalender.nl/issue/wereld-downsyndroomdag-vn/2024-03-16/
CATEGORIES:Overige,Welzijn en gezondheid
ORGANIZER;CN="Down Syndrome International":MAILTO:contact@ds-int.org
END:VEVENT
BEGIN:VEVENT
DTSTART;VALUE=DATE:20240316
DTEND;VALUE=DATE:20240317
DTSTAMP:20260422T231947
CREATED:20230715T122627Z
LAST-MODIFIED:20251111T112941Z
UID:10009160-1710547200-1710633599@issuekalender.nl
SUMMARY:WERELD POËZIEDAG (VN)
DESCRIPTION:[vc_row][vc_column][vc_single_image image=”61″ css_animation=”fadeInUp” alignment=”left”][/vc_column][/vc_row][vc_row][vc_column][vc_column_text css_animation=”fadeIn” font_size=”45″ font_family=”Roboto” font_weight=”500″ color=”#57529e”]\nWERELD POËZIEDAG (VN) \n[/vc_column_text][vc_empty_space height=”10px”][vc_single_image image=”88″ img_size=”medium” css_animation=”fadeInUp” alignment=”left”][/vc_column][/vc_row][vc_row][vc_column][vc_column_text]De Wereld Poëziedag is in 1999 het leven geroepen door UNESCO om aandacht te vragen voor het lezen\, schrijven en publiceren van poëzie en vindt elk jaar plaats op 21 maart. Poëtische taal is een ander facet van de dialoog tussen culturen.[/vc_column_text][/vc_column][/vc_row][vc_row][vc_column][vc_single_image image=”61″ css_animation=”fadeInUp” alignment=”left”][/vc_column][/vc_row][vc_row][vc_column width=”1/2″]Issuekalender doorzoeken [/vc_column][vc_column width=”1/2″][/vc_column][/vc_row]
URL:https://issuekalender.nl/issue/wereld-poeziedag-vn/2024-03-16/
CATEGORIES:Kunst en cultuur,Overige
END:VEVENT
END:VCALENDAR