BEGIN:VCALENDAR
VERSION:2.0
PRODID:-//Issuekalender - ECPv6.9.0//NONSGML v1.0//EN
CALSCALE:GREGORIAN
METHOD:PUBLISH
X-ORIGINAL-URL:https://issuekalender.nl
X-WR-CALDESC:Evenementen voor Issuekalender
REFRESH-INTERVAL;VALUE=DURATION:PT1H
X-Robots-Tag:noindex
X-PUBLISHED-TTL:PT1H
BEGIN:VTIMEZONE
TZID:Europe/Amsterdam
BEGIN:DAYLIGHT
TZOFFSETFROM:+0100
TZOFFSETTO:+0200
TZNAME:CEST
DTSTART:20240331T010000
END:DAYLIGHT
BEGIN:STANDARD
TZOFFSETFROM:+0200
TZOFFSETTO:+0100
TZNAME:CET
DTSTART:20241027T010000
END:STANDARD
END:VTIMEZONE
BEGIN:VEVENT
DTSTART;VALUE=DATE:20240301
DTEND;VALUE=DATE:20240401
DTSTAMP:20260423T030427
CREATED:20230714T124946Z
LAST-MODIFIED:20251111T111927Z
UID:10008572-1709251200-1711929599@issuekalender.nl
SUMMARY:ENDOMETRIOSE AWARENESS MAAND
DESCRIPTION:[vc_row][vc_column][vc_single_image image=”61″ css_animation=”fadeInUp” alignment=”left”][/vc_column][/vc_row][vc_row][vc_column][vc_column_text css_animation=”fadeIn” font_size=”45″ font_family=”Roboto” font_weight=”500″ color=”#57529e”]\nENDOMETRIOSE AWARENESS MAAND \n[/vc_column_text][vc_empty_space height=”10px”][vc_single_image image=”88″ img_size=”medium” css_animation=”fadeInUp” alignment=”left”][/vc_column][/vc_row][vc_row][vc_column][vc_column_text]De gehele maand maart is wereldwijd Endometriosis Awareness Month. \n\n[/vc_column_text][/vc_column][/vc_row][vc_row][vc_column][vc_single_image image=”61″ css_animation=”fadeInUp” alignment=”left”][/vc_column][/vc_row][vc_row][vc_column width=”1/2″]Issuekalender doorzoeken [/vc_column][vc_column width=”1/2″][/vc_column][/vc_row]
URL:https://issuekalender.nl/issue/endometriose-awareness-maand/2024-03-01/
CATEGORIES:Welzijn en gezondheid
END:VEVENT
BEGIN:VEVENT
DTSTART;VALUE=DATE:20240301
DTEND;VALUE=DATE:20240401
DTSTAMP:20260423T030427
CREATED:20230714T131149Z
LAST-MODIFIED:20251111T111937Z
UID:10008582-1709251200-1711929599@issuekalender.nl
SUMMARY:DARMKANKERMAAND
DESCRIPTION:[vc_row][vc_column][vc_single_image image=”61″ css_animation=”fadeInUp” alignment=”left”][/vc_column][/vc_row][vc_row][vc_column][vc_column_text css_animation=”fadeIn” font_size=”45″ font_family=”Roboto” font_weight=”500″ color=”#57529e”]\nDARMKANKERMAAND \n[/vc_column_text][vc_empty_space height=”10px”][vc_single_image image=”88″ img_size=”medium” css_animation=”fadeInUp” alignment=”left”][/vc_column][/vc_row][vc_row][vc_column][vc_column_text]Maart is internationaal uitgeroepen tot darmkankermaand. Tijdens de darmkankermaand geeft de Maag-\, Lever-\, Darm-Stichting extra aandacht aan de preventie van darmkanker en mensen die getroffen zijn door de ziekte. Jaarlijks krijgen meer dan 15.000 patiënten en hun naasten met darmkanker te maken.[/vc_column_text][/vc_column][/vc_row][vc_row][vc_column][vc_single_image image=”61″ css_animation=”fadeInUp” alignment=”left”][/vc_column][/vc_row][vc_row][vc_column width=”1/2″]Issuekalender doorzoeken [/vc_column][vc_column width=”1/2″][/vc_column][/vc_row]
URL:https://issuekalender.nl/issue/darmkankermaand/2024-03-01/
CATEGORIES:Welzijn en gezondheid
ORGANIZER;CN="Maag Lever Darm Stichting":MAILTO:info@mlds.nl
END:VEVENT
BEGIN:VEVENT
DTSTART;VALUE=DATE:20240304
DTEND;VALUE=DATE:20240305
DTSTAMP:20260423T030427
CREATED:20230714T132248Z
LAST-MODIFIED:20251111T112542Z
UID:10006696-1709510400-1709596799@issuekalender.nl
SUMMARY:INTERNATIONAL HPV AWARENESS DAY
DESCRIPTION:[vc_row][vc_column][vc_single_image image=”61″ css_animation=”fadeInUp” alignment=”left”][/vc_column][/vc_row][vc_row][vc_column][vc_column_text css_animation=”fadeIn” font_size=”45″ font_family=”Roboto” font_weight=”500″ color=”#57529e”]\nINTERNATIONAL HPV AWARENESS DAY \n[/vc_column_text][vc_empty_space height=”10px”][vc_single_image image=”88″ img_size=”medium” css_animation=”fadeInUp” alignment=”left”][/vc_column][/vc_row][vc_row][vc_column][vc_column_text]Een dag waarop we aandacht vragen voor HPV (humaan papillomavirus).\nBijna alle mannen en vrouwen worden ooit met dit virus besmet.\nCondooms beschermen niet volledig tegen HPV. Ook door het aanraken van penis of vagina met je handen en door orale seks kun je HPV krijgen.\nMeer dan 98% van de gevallen van baarmoederhalskanker wordt veroorzaakt door HPV.\nHPV kan baarmoederhalskanker\, anuskanker\, vaginakanker\, schaamlipkanker\, mondkanker\, keelkanker\, slokdarmkanker en peniskanker veroorzaken.[/vc_column_text][/vc_column][/vc_row][vc_row][vc_column][vc_single_image image=”61″ css_animation=”fadeInUp” alignment=”left”][/vc_column][/vc_row][vc_row][vc_column width=”1/2″]Issuekalender doorzoeken [/vc_column][vc_column width=”1/2″][/vc_column][/vc_row]
URL:https://issuekalender.nl/issue/international-hpv-awareness-day/2024-03-04/
CATEGORIES:Welzijn en gezondheid
ORGANIZER;CN="Stichting Olijf":MAILTO:olijf@olijf.nl
END:VEVENT
BEGIN:VEVENT
DTSTART;VALUE=DATE:20240304
DTEND;VALUE=DATE:20240305
DTSTAMP:20260423T030427
CREATED:20231016T154524Z
LAST-MODIFIED:20240902T144515Z
UID:10003310-1709510400-1709596799@issuekalender.nl
SUMMARY:WERELD OBESITAS DAG
DESCRIPTION:[vc_row][vc_column][vc_single_image image=”61″ css_animation=”fadeInUp” alignment=”left”][/vc_column][/vc_row][vc_row][vc_column][vc_column_text css_animation=”fadeIn” font_size=”45″ font_family=”Roboto” font_weight=”500″ color=”#57529e”]\nWERELD OBESITAS DAG \n[/vc_column_text][vc_empty_space height=”10px”][vc_single_image image=”88″ img_size=”medium” css_animation=”fadeInUp” alignment=”left”][/vc_column][/vc_row][vc_row][vc_column][vc_column_text]Het is 4 maart Wereld Obesitas Dag (World Obesity Day). Op deze dag wordt wereldwijd stilgestaan bij obesitas (zwaarlijvigheid) om de bewustwording over deze chronische ziekte te vergroten\, alsook de oorzaken en noodzakelijke maatregelen om deze aan te pakken en te voorkomen. \nObesitas is een chronische ziekte die gekenmerkt wordt door overmatige vetopstapeling in het lichaam. De ziekte is een belangrijke risicofactor voor verschillende Niet-Overdraagbare Aandoeningen (NCD’s)\, zoals hart- en vaatziekten\, kanker\, hoge bloeddruk\, (lage) rugpijn\, spierpijn\, slaapstoornissen en suikerziekte (diabetes type 2)\, die weer kunnen leiden naar hart- en vaatziekten of klachten aan ogen\, nieren\, zenuwen en voeten.[/vc_column_text][/vc_column][/vc_row][vc_row][vc_column][vc_single_image image=”61″ css_animation=”fadeInUp” alignment=”left”][/vc_column][/vc_row][vc_row][vc_column width=”1/2″]Issuekalender doorzoeken [/vc_column][vc_column width=”1/2″][/vc_column][/vc_row]
URL:https://issuekalender.nl/issue/wereld-obesitas-dag/2024-03-04/
CATEGORIES:Welzijn en gezondheid
END:VEVENT
BEGIN:VEVENT
DTSTART;VALUE=DATE:20240306
DTEND;VALUE=DATE:20240307
DTSTAMP:20260423T030427
CREATED:20230714T132631Z
LAST-MODIFIED:20251111T112554Z
UID:10008398-1709683200-1709769599@issuekalender.nl
SUMMARY:EUROPESE DAG VAN DE LOGOPEDIE
DESCRIPTION:[vc_row][vc_column][vc_single_image image=”61″ css_animation=”fadeInUp” alignment=”left”][/vc_column][/vc_row][vc_row][vc_column][vc_column_text css_animation=”fadeIn” font_size=”45″ font_family=”Roboto” font_weight=”500″ color=”#57529e”]\nEUROPESE DAG VAN DE LOGOPEDIE \n[/vc_column_text][vc_empty_space height=”10px”][vc_single_image image=”88″ img_size=”medium” css_animation=”fadeInUp” alignment=”left”][/vc_column][/vc_row][vc_row][vc_column][vc_column_text]Met ondersteunde communicatie geeft de logopedist iedereen een stem \nNiet of nauwelijks kunnen spreken\, betekent niet dat je niets te zeggen hebt. Ook kinderen en volwassenen die niet goed kunnen spreken\, hebben behoefte aan communiceren. Door gebruik te maken van andere communicatievormen en -middelen\, kunnen zij zich toch uiten. De logopedist kan een belangrijke rol spelen bij deze ‘ondersteunde communicatie’.[/vc_column_text][/vc_column][/vc_row][vc_row][vc_column][vc_single_image image=”61″ css_animation=”fadeInUp” alignment=”left”][/vc_column][/vc_row][vc_row][vc_column width=”1/2″]Issuekalender doorzoeken [/vc_column][vc_column width=”1/2″][/vc_column][/vc_row]
URL:https://issuekalender.nl/issue/europese-dag-van-de-logopedie/2024-03-06/
CATEGORIES:Mens en maatschappij,Welzijn en gezondheid
END:VEVENT
BEGIN:VEVENT
DTSTART;VALUE=DATE:20240308
DTEND;VALUE=DATE:20240309
DTSTAMP:20260423T030427
CREATED:20230714T133253Z
LAST-MODIFIED:20251111T112607Z
UID:10006702-1709856000-1709942399@issuekalender.nl
SUMMARY:INTERNATIONALE VROUWENDAG (VN)
DESCRIPTION:[vc_row][vc_column][vc_single_image image=”61″ css_animation=”fadeInUp” alignment=”left”][/vc_column][/vc_row][vc_row][vc_column][vc_column_text css_animation=”fadeIn” font_size=”45″ font_family=”Roboto” font_weight=”500″ color=”#57529e”]\nINTERNATIONALE VROUWENDAG (VN) \n[/vc_column_text][vc_empty_space height=”10px”][vc_single_image image=”88″ img_size=”medium” css_animation=”fadeInUp” alignment=”left”][/vc_column][/vc_row][vc_row][vc_column][vc_column_text]Internationale Vrouwendag stond en staat voor het gevoel van solidariteit en strijdbaarheid van vrouwen overal ter wereld. In 1911 werd de Vrouwendag internationaal voor het eerst gevierd – in 1912 voor het eerst in Nederland. Aanvankelijk werd de Vrouwendag op verschillende data gehouden\, pas in 1922 werd 8 maart gekozen als vaste datum. \nVrijheid\nAl jarenlang strijden vrouwen voor zelfbeschikking\, individuele rechten en vrijheid. Vrijheid van vrouwen dient niet onderhandelbaar te zijn maar een vanzelfsprekendheid. \n[/vc_column_text][/vc_column][/vc_row][vc_row][vc_column][vc_single_image image=”61″ css_animation=”fadeInUp” alignment=”left”][/vc_column][/vc_row][vc_row][vc_column width=”1/2″]Issuekalender doorzoeken [/vc_column][vc_column width=”1/2″][/vc_column][/vc_row]
URL:https://issuekalender.nl/issue/internationale-vrouwendag-vn/2024-03-08/
CATEGORIES:Mens en maatschappij
ORGANIZER;CN="Internationale Vrouwendag":MAILTO:info@internationale-vrouwendag.nl
END:VEVENT
END:VCALENDAR