BEGIN:VCALENDAR
VERSION:2.0
PRODID:-//Issuekalender - ECPv6.9.0//NONSGML v1.0//EN
CALSCALE:GREGORIAN
METHOD:PUBLISH
X-ORIGINAL-URL:https://issuekalender.nl
X-WR-CALDESC:Evenementen voor Issuekalender
REFRESH-INTERVAL;VALUE=DURATION:PT1H
X-Robots-Tag:noindex
X-PUBLISHED-TTL:PT1H
BEGIN:VTIMEZONE
TZID:Europe/Amsterdam
BEGIN:DAYLIGHT
TZOFFSETFROM:+0100
TZOFFSETTO:+0200
TZNAME:CEST
DTSTART:20240331T010000
END:DAYLIGHT
BEGIN:STANDARD
TZOFFSETFROM:+0200
TZOFFSETTO:+0100
TZNAME:CET
DTSTART:20241027T010000
END:STANDARD
END:VTIMEZONE
BEGIN:VEVENT
DTSTART;VALUE=DATE:20240101
DTEND;VALUE=DATE:20240201
DTSTAMP:20260424T010241
CREATED:20231011T100111Z
LAST-MODIFIED:20240731T123221Z
UID:10002950-1704067200-1706745599@issuekalender.nl
SUMMARY:DRY JANUARY / IKPAS
DESCRIPTION:[vc_row][vc_column][vc_single_image image=”61″ css_animation=”fadeInUp” alignment=”left”][/vc_column][/vc_row][vc_row][vc_column][vc_column_text css_animation=”fadeIn” font_size=”45″ font_family=”Roboto” font_weight=”500″ color=”#57529e”]\nDRY JANUARY / IKPAS \n[/vc_column_text][vc_empty_space height=”10px”][vc_single_image image=”88″ img_size=”medium” css_animation=”fadeInUp” alignment=”left”][/vc_column][/vc_row][vc_row][vc_column][vc_column_text]Dry January is een Brits initiatief\, dat is overgewaaid naar Nederland. Tijdens Dry January is het de bedoeling dat je de hele maand januari geen alcohol drinkt. Een maand geen alcohol drinken heeft veel voordelen. Je slaapt beter\, verliest gewicht\, je hebt meer energie\, de kwaliteit van je huid verbetert\, het is goed voor je organen en je bespaart geld. In 2013 is de eerste Dry January-campagne in Engeland van start gegaan\, via de vrijwilligersorganisatie Alcohol Change UK. Hier deden toen nog maar een bescheiden 4000 mensen aan mee. Pas vanaf 2014 werd het een wijd bekend fenomeen\, waarbij in dat jaar al zo’n 17.000 Britten meededen. \nDry January is inmiddels overgewaaid naar andere landen\, waaronder Nederland. IkPas is de Nederlandse variant van Dry January. Als je meedoet aan Dry January van IkPas\, dan zet je je alcoholgebruik een maand op pauze. Dry January loopt van 1 januari tot en met 30 januari. De 40 dagen-challenge loopt van Aswoensdag tot en met de zondag voor Pasen\, tijdens de traditionele vastenperiode tussen carnaval en Pasen. Mocht je nu later in het jaar nog eens een maand of langer met de ondersteuning van IkPas geen alcohol willen drinken\, dan kun je meedoen met een van de andere vaste maandchallenges. Iedere eerste van de maand start er weer een nieuwe maandchallenge. Inschrijven kan op ieder moment van de maand. Binnen een paar muisklikken heb je je aangemeld. Je kunt rekenen op ondersteuning in de vorm van laagdrempelige nieuwsbrieven\, een dashboard\, forum\, dagboekfunctie en een IkPas-coach voor al je vragen. \nIkPas is een paraplucampagne. Dat wil zeggen dat veel organisaties aanhaken bij het organiseren van deze actie. Allereerst doen alle 26 GGD’s en 10 verslavingszorginstellingen in Nederland mee aan de organisatie van IkPas. Ook het KBO/PCOB is een samenwerkingspartner als het gaat om het organiseren van IkPas voor senioren. Daarnaast heeft IkPas ook een internationale samenwerking met Alcohol Change UK\, omdat IkPas de Nederlandse variant is van Dry January.[/vc_column_text][/vc_column][/vc_row][vc_row][vc_column][vc_single_image image=”61″ css_animation=”fadeInUp” alignment=”left”][/vc_column][/vc_row][vc_row][vc_column width=”1/2″]Issuekalender doorzoeken [/vc_column][vc_column width=”1/2″][/vc_column][/vc_row]
URL:https://issuekalender.nl/issue/dry-january-ikpas-2/2024-01-01/
CATEGORIES:Welzijn en gezondheid
END:VEVENT
BEGIN:VEVENT
DTSTART;VALUE=DATE:20240101
DTEND;VALUE=DATE:20240201
DTSTAMP:20260424T010241
CREATED:20231011T135903Z
LAST-MODIFIED:20240731T124812Z
UID:10002967-1704067200-1706745599@issuekalender.nl
SUMMARY:VEGANUARY
DESCRIPTION:[vc_row][vc_column][vc_single_image image=”61″ css_animation=”fadeInUp” alignment=”left”][/vc_column][/vc_row][vc_row][vc_column][vc_column_text css_animation=”fadeIn” font_size=”45″ font_family=”Roboto” font_weight=”500″ color=”#57529e”]\nVEGANUARY \n[/vc_column_text][vc_empty_space height=”10px”][vc_single_image image=”88″ img_size=”medium” css_animation=”fadeInUp” alignment=”left”][/vc_column][/vc_row][vc_row][vc_column][vc_column_text]Volgens onderzoek van Thuisbezorgd.nl* en iVox blijkt dat de interesse van Nederlanders voor vegan maaltijden blijft groeien. Toch twijfelt één op de drie fijnproevers of ze met plantaardige maaltijden wel voldoende essentiële voedingsstoffen binnenkrijgen. \nThuisbezorgd.nl sluit zich daarom aan bij het wereldwijde initiatief Veganuary om iedereen te inspireren in januari vegan eten te proberen. Samen met experts en restaurants helpt Thuisbezorgd.nl de hele maand om de stap voor Nederlanders naar vegan zo makkelijk mogelijk te maken. \n– 40% van alle Nederlanders en ruim de helft van de jongeren eet minstens een keer per maand vegan \n – Bijna 30% heeft in de afgelopen 5 jaar voor het eerst bewust een vegan maaltijd geprobeerd \n – 32% van de Nederlanders die wel eens vegan eten geeft aan niet altijd goed te weten hoe ze voldoende essentiële voedingsstoffen kunnen binnenkrijgen \nDe Veganuary-beweging\, waarbij honderdduizenden mensen wereldwijd het jaar beginnen met een vegan voedingspatroon\, bestaat sinds 2014 en won de afgelopen jaren sterk aan populariteit. Ook Thuisbezorgd.nl ziet dat steeds meer mensen de stap naar vegan willen maken. Zo’n één op de vijf Nederlanders (21%) overweegt om vaker vegan te bestellen dan vijf jaar geleden. Die houding is terug te zien bij de grootste eten bestelsite van Nederland. In 2020 zag Thuisbezorgd.nl het aantal bestellingen van vegan maaltijden bijna verdubbelen. Het aantal vegan maaltijden aangeboden door restaurants is daarbij ook met 40% toegenomen. \nWAAROM VEGAN ETEN?\nVoor de meeste Nederlanders is dierenwelzijn (1 op de 5) de belangrijkste reden om vegan te eten\, gevolgd door het klimaat en hun gezondheid. Vrouwen (21%) geven vaker dan mannen (11%) aan dat ze voornamelijk vanwege het welzijn van dieren vegan zouden eten. \nLisa Stel\, (vegan kookboeken auteur en adviseur)\, die samenwerkt met Thuisbezorgd.nl tijdens Veganuary: “Er zijn genoeg redenen om (vaker) plantaardig te eten. Zo draag je bij aan een gezondere planeet en leefomgeving\, minder dierenleed\, een goede gezondheid en het is ontzettend lekker. Toch kan de overstap naar een uitgebalanceerd plantaardig voedingspatroon als een uitdaging klinken. Gelukkig is het makkelijker dan je denkt en zijn er tal van mogelijkheden waarbij je niets hoeft in te leveren qua smaak. Daarom ben ik blij dat grotere bedrijven zoals Thuisbezorgd.nl dit initiatief supporten en op deze manier een groter publiek inspireren om vaker te kiezen voor een lekker vegan gerecht. Ik draag hier graag aan bij\, want elke stap telt.” \nVEGANUARY ZO MAKKELIJK EN LEUK MOGELIJK MAKEN\nThuisbezorgd.nl wil Nederlanders inspireren om in januari vegan te eten. Dat kan zijn voor een volledige maand of bijvoorbeeld voor één dag in de week. Hoe dan ook helpt Thuisbezorgd.nl iedereen die deelneemt aan Veganuary met een aantal initiatieven. Zo deelt het bedrijf de hele maand tips en adviezen met hulp van experts zoals Lisa Stel\, auteur van twee vegan kookboeken en het populaire Lisa goes Vegan platform. Daarnaast worden tips voor maaltijden en restaurants gedeeld\, maar worden er ook speciale kortingen en samenwerkingen met restaurants geïntroduceerd om de stap naar een vegan voedingspatroon zo eenvoudig mogelijk te maken. \n“Veganuary inspireert elk jaar mensen wereldwijd om plantaardige maaltijden uit te proberen en zo bij te dragen aan een betere wereld”\, zegt Thomas van den Hof van Thuisbezorgd.nl. “We zien ook dat steeds meer Nederlanders op zoek zijn naar vegan maaltijden. We nemen dan ook graag deel aan Veganuary en hopen zo een steentje bij te dragen om plantaardig eten aantrekkelijker en toegankelijker te maken.”[/vc_column_text][/vc_column][/vc_row][vc_row][vc_column][vc_single_image image=”61″ css_animation=”fadeInUp” alignment=”left”][/vc_column][/vc_row][vc_row][vc_column width=”1/2″]Issuekalender doorzoeken [/vc_column][vc_column width=”1/2″][/vc_column][/vc_row]
URL:https://issuekalender.nl/issue/veganuary-2/2024-01-01/
CATEGORIES:Milieu en duurzaamheid,Welzijn en gezondheid
END:VEVENT
BEGIN:VEVENT
DTSTART;VALUE=DATE:20240129
DTEND;VALUE=DATE:20240205
DTSTAMP:20260424T010241
CREATED:20231012T093300Z
LAST-MODIFIED:20240731T125407Z
UID:10003069-1706486400-1707091199@issuekalender.nl
SUMMARY:WEEK VAN HET VERGETEN KIND
DESCRIPTION:[vc_row][vc_column][vc_single_image image=”61″ css_animation=”fadeInUp” alignment=”left”][/vc_column][/vc_row][vc_row][vc_column][vc_column_text css_animation=”fadeIn” font_size=”45″ font_family=”Roboto” font_weight=”500″ color=”#57529e”]\nWEEK VAN HET VERGETEN KIND \n[/vc_column_text][vc_empty_space height=”10px”][vc_single_image image=”88″ img_size=”medium” css_animation=”fadeInUp” alignment=”left”][/vc_column][/vc_row][vc_row][vc_column][vc_column_text]Tijdens de Week van het Vergeten Kind vragen we speciale aandacht voor een thema rondom kwetsbare kinderen in Nederland. We geven ze een stem en laten ze zelf hun verhaal vertellen. We organiseren verschillende activiteiten door het hele land zoals een eigen filmfestival en we reiken de Hartenhuis Award uit. De week vindt sinds 2014 plaats en is altijd van 29 januari tot en met 4 februari.[/vc_column_text][/vc_column][/vc_row][vc_row][vc_column][vc_single_image image=”61″ css_animation=”fadeInUp” alignment=”left”][/vc_column][/vc_row][vc_row][vc_column width=”1/2″]Issuekalender doorzoeken [/vc_column][vc_column width=”1/2″][/vc_column][/vc_row]
URL:https://issuekalender.nl/issue/week-van-het-vergeten-kind-2/2024-01-29/
CATEGORIES:Mens en maatschappij
ORGANIZER;CN="Het Vergeten Kind":MAILTO:info@hetvergetenkind.nl
END:VEVENT
BEGIN:VEVENT
DTSTART;VALUE=DATE:20240130
DTEND;VALUE=DATE:20240131
DTSTAMP:20260424T010241
CREATED:20231012T094318Z
LAST-MODIFIED:20240821T095800Z
UID:10004983-1706572800-1706659199@issuekalender.nl
SUMMARY:DAG VAN HET WERKPLEZIER IN DE ZORG
DESCRIPTION:[vc_row][vc_column][vc_single_image image=”61″ css_animation=”fadeInUp” alignment=”left”][/vc_column][/vc_row][vc_row][vc_column][vc_column_text css_animation=”fadeIn” font_size=”45″ font_family=”Roboto” font_weight=”500″ color=”#57529e”]\nDAG VAN HET WERKPLEZIER IN DE ZORG \n[/vc_column_text][vc_empty_space height=”10px”][vc_single_image image=”88″ img_size=”medium” css_animation=”fadeInUp” alignment=”left”][/vc_column][/vc_row][vc_row][vc_column][vc_column_text]Dag van het werkplezier in de zorg \nVoor alle mensen die werken in de zorg! Vandaag staat jullie werkplezier bij elke zorgorganisatie in Nederland centraal. Het is dé dag om\, samen met je collega’s\, stil te staan bij het schitterende zorgvak. En een dag om in gesprek te gaan over manieren om werkplezier te vergroten. Wij gaan voor 1 miljoen gelukkige medewerkers in de zorg! \nMeer info: www.werkplezierindezorg.nl \nAchtergrond: \nOud-politicus (en verpleegkundige) Sabine Uitslag zet zich samen met FWG Progressional People in om werkplezier op de agenda’s van alle zorgbestuurders in Nederland te krijgen. Met de beweging Werkplezier in de zorg willen we een positieve impuls geven aan het imago en de arbeidsmarktpositie van de zorg in Nederland. Doel is om het werkplezier van medewerkers in de zorg te vergroten en de kwaliteit van dienstverlening aan cliënten en patiënten verder te verbeteren. \nWij hebben een missie: 1 miljoen gelukkige medewerkers in de zorg! Op elke laatste dinsdag van januari\, de ‘Dag van het werkplezier in de zorg’ wordt het werkplezier van zorgprofessionals bij elke zorgorganisatie in Nederland extra onder de aandacht gebracht. We staan deze dag stil bij het schitterende vak dat zorgprofessionals hebben. En hoe we samen kunnen zorgen voor meer werkplezier in de zorg\, zodat medewerkers blijven én de zorg aantrekkelijker wordt voor nieuwe en jonge mensen.[/vc_column_text][/vc_column][/vc_row][vc_row][vc_column][vc_single_image image=”61″ css_animation=”fadeInUp” alignment=”left”][/vc_column][/vc_row][vc_row][vc_column width=”1/2″]Issuekalender doorzoeken [/vc_column][vc_column width=”1/2″][/vc_column][/vc_row]
URL:https://issuekalender.nl/issue/dag-van-het-werkplezier-in-de-zorg-2/2024-01-30/
CATEGORIES:Welzijn en gezondheid
ORGANIZER;CN="FWG Progressional People i.s.m. Sabine Uitslag":MAILTO:communicatie@fwg.nl
END:VEVENT
BEGIN:VEVENT
DTSTART;VALUE=DATE:20240201
DTEND;VALUE=DATE:20240229
DTSTAMP:20260424T010241
CREATED:20240716T142503Z
LAST-MODIFIED:20241024T125839Z
UID:10006029-1706745600-1709164799@issuekalender.nl
SUMMARY:BLACK HISTORY MONTH
DESCRIPTION:[vc_row][vc_column][vc_single_image image=”61″ css_animation=”fadeInUp” alignment=”left”][/vc_column][/vc_row][vc_row][vc_column][vc_column_text css_animation=”fadeIn” font_size=”45″ font_family=”Roboto” font_weight=”500″ color=”#57529e”]\nBLACK HISTORY MONTH \n[/vc_column_text][vc_empty_space height=”10px”][vc_single_image image=”88″ img_size=”medium” css_animation=”fadeInUp” alignment=”left”][/vc_column][/vc_row][vc_row][vc_column][vc_column_text]\nBlack History Month in februari is een maand waarin verhalen van mensen van kleur in de spotlights staan. En dat is hard nodig: de verhalen zijn een belangrijk onderdeel van Nederlandse geschiedenis en toekomst. \nBlack History Month is een jaarlijkse viering van de prestaties van Afro-Amerikanen en een moment om hun centrale rol in de Amerikaanse geschiedenis te erkennen. Het evenement\, dat ook bekend staat als African American History Month\, is voortgekomen uit de “Negro History Week”\, het geesteskind van de bekende historicus Carter G. Woodson en andere prominente Afro-Amerikanen. Sinds 1976 heeft elke Amerikaanse president de maand februari officieel uitgeroepen tot Black History Month. Andere landen over de hele wereld\, waaronder Canada en het Verenigd Koninkrijk\, wijden ook een maand aan het vieren van de zwarte geschiedenis. \n[/vc_column_text][/vc_column][/vc_row][vc_row][vc_column][vc_single_image image=”61″ css_animation=”fadeInUp” alignment=”left”][/vc_column][/vc_row][vc_row][vc_column width=”1/2″]Issuekalender doorzoeken [/vc_column][vc_column width=”1/2″][/vc_column][/vc_row]
URL:https://issuekalender.nl/issue/black-history-month-2/2024-02-01/
CATEGORIES:Kunst en cultuur,Mens en maatschappij,Sociale cohesie en integratie
END:VEVENT
BEGIN:VEVENT
DTSTART;VALUE=DATE:20240202
DTEND;VALUE=DATE:20240203
DTSTAMP:20260424T010241
CREATED:20241023T114507Z
LAST-MODIFIED:20241024T130126Z
UID:10008096-1706832000-1706918399@issuekalender.nl
SUMMARY:WERELD WETLANDSDAG
DESCRIPTION:[vc_row][vc_column][vc_single_image image=”61″ css_animation=”fadeInUp” alignment=”left”][/vc_column][/vc_row][vc_row][vc_column][vc_column_text css_animation=”fadeIn” font_size=”45″ font_family=”Roboto” font_weight=”500″ color=”#57529e”]\nWERELD WETLANDSDAG \n[/vc_column_text][vc_empty_space height=”10px”][vc_single_image image=”88″ img_size=”medium” css_animation=”fadeInUp” alignment=”left”][/vc_column][/vc_row][vc_row][vc_column][vc_column_text]In 1972 werd de wetlandsconventie ondertekend in Iran en sindsdien wordt op 2 februari aandacht gevraagd voor het belang van de wetlands (waterlijke gebieden zoals moerassen\, rivieren en ondiepe open wateren). Op Wereld Wetlandsdag organiseren deelnemende landen acties gericht op het publiekelijk bekendmaken van de waarde van wetlands. Bijvoorbeeld door wandelingen in wetlands\, lezingen\, tekenwedstrijden voor kinderen en schoonmaakacties in de wetlands.[/vc_column_text][/vc_column][/vc_row][vc_row][vc_column][vc_single_image image=”61″ css_animation=”fadeInUp” alignment=”left”][/vc_column][/vc_row][vc_row][vc_column width=”1/2″]Issuekalender doorzoeken [/vc_column][vc_column width=”1/2″][/vc_column][/vc_row]
URL:https://issuekalender.nl/issue/wereld-wetlandsdag-check/2024-02-02/
CATEGORIES:Milieu en duurzaamheid
END:VEVENT
BEGIN:VEVENT
DTSTART;VALUE=DATE:20240204
DTEND;VALUE=DATE:20240205
DTSTAMP:20260424T010241
CREATED:20240723T140507Z
LAST-MODIFIED:20240826T075152Z
UID:10003104-1707004800-1707091199@issuekalender.nl
SUMMARY:WERELDKANKERDAG
DESCRIPTION:[vc_row][vc_column][vc_single_image image=”61″ css_animation=”fadeInUp” alignment=”left”][/vc_column][/vc_row][vc_row][vc_column][vc_column_text css_animation=”fadeIn” font_size=”45″ font_family=”Roboto” font_weight=”500″ color=”#57529e”]\nWERELDKANKERDAG \n[/vc_column_text][vc_empty_space height=”10px”][vc_single_image image=”88″ img_size=”medium” css_animation=”fadeInUp” alignment=”left”][/vc_column][/vc_row][vc_row][vc_column][vc_column_text]Wereldkankerdag (4 februari) is door de Union for International Cancer Control (UICC) uitgeroepen tot internationale bewustwordingsdag\, waarop mensen in de hele wereld stilstaan bij kanker. Deze dag is officieel gemarkeerd om het bewustzijn rondom kanker te vergroten en om preventie\, detectie en behandelingen aan te moedigen. \nOp Wereldkankerdag stelt een groot aantal instellingen in de oncologische zorgketen de deuren open voor het publiek. IPSO\, de branche-organisatie van Nederlandse inloophuizen en psycho-oncologische centra\, initieert in de aanloop naar 4 februari een publiekscampagne om de aandacht van mensen met kanker en hun naasten\, alsmede die van verwijzers en zorgverleners\, te vestigen op de mogelijkheden van psychosociale (na)zorg bij kanker. \nOp en rondom Wereldkankerdag worden door vrijwel alle bij IPSO aangesloten inloophuizen en psycho-oncologische centra open dagen en bijzondere activiteiten georganiseerd.[/vc_column_text][/vc_column][/vc_row][vc_row][vc_column][vc_single_image image=”61″ css_animation=”fadeInUp” alignment=”left”][/vc_column][/vc_row][vc_row][vc_column width=”1/2″]Issuekalender doorzoeken [/vc_column][vc_column width=”1/2″][/vc_column][/vc_row]
URL:https://issuekalender.nl/issue/wereldkankerdag-2/2024-02-04/
CATEGORIES:Welzijn en gezondheid
END:VEVENT
BEGIN:VEVENT
DTSTART;VALUE=DATE:20240204
DTEND;VALUE=DATE:20240205
DTSTAMP:20260424T010241
CREATED:20231030T085440Z
LAST-MODIFIED:20251112T092144Z
UID:10009249-1707033600-1707066000@issuekalender.nl
SUMMARY:WANDEL TIJDENS JE WERK DAG
DESCRIPTION:[vc_row][vc_column][vc_single_image image=”61″ css_animation=”fadeInUp” alignment=”left”][/vc_column][/vc_row][vc_row][vc_column][vc_column_text css_animation=”fadeIn” font_size=”45″ font_family=”Roboto” font_weight=”500″ color=”#57529e”]\nWANDEL TIJDENS JE WERK DAG \n[/vc_column_text][vc_empty_space height=”10px”][vc_single_image image=”88″ img_size=”medium” css_animation=”fadeInUp” alignment=”left”][/vc_column][/vc_row][vc_row][vc_column][vc_column_text]\nWandelen op een werkdag\n\nWist je dat… De helft van werkend Nederland een zittend beroep heeft. Bijna 4 miljoen Nederlanders zitten veel te lang op een normale dag. Uit onderzoek blijkt dat werknemers met een zittend beroep gemiddeld 9\,1 uur per dag zitten. Hoogste tijd voor verandering! Wandelnet en de provincie Utrecht vinden dat wandelen een vast onderdeel moet worden van een werkdag. Door middel van de 5 pijlers van de Wandel Tijdens Je Werkdag-campagne hebben Wandelnet en Provincie Utrecht in april ’23 aandacht gevraagd voor meer beweging op de werkvloer\, door extra te wandelen op een werkdag. Een succesvolle campagne\, bekijk de aftermovie! \n\n[/vc_column_text][/vc_column][/vc_row][vc_row][vc_column][vc_single_image image=”61″ css_animation=”fadeInUp” alignment=”left”][/vc_column][/vc_row][vc_row][vc_column width=”1/2″]Issuekalender doorzoeken [/vc_column][vc_column width=”1/2″][/vc_column][/vc_row]
URL:https://issuekalender.nl/issue/wandel-tijdens-je-werk-dag/2024-02-04/
CATEGORIES:Welzijn en gezondheid,Werk en welzijn
ORGANIZER;CN="Stichting Wandelnet":MAILTO:info@wandelnet.nl
END:VEVENT
END:VCALENDAR