BEGIN:VCALENDAR
VERSION:2.0
PRODID:-//Issuekalender - ECPv6.9.0//NONSGML v1.0//EN
CALSCALE:GREGORIAN
METHOD:PUBLISH
X-ORIGINAL-URL:https://issuekalender.nl
X-WR-CALDESC:Evenementen voor Issuekalender
REFRESH-INTERVAL;VALUE=DURATION:PT1H
X-Robots-Tag:noindex
X-PUBLISHED-TTL:PT1H
BEGIN:VTIMEZONE
TZID:Europe/Amsterdam
BEGIN:DAYLIGHT
TZOFFSETFROM:+0100
TZOFFSETTO:+0200
TZNAME:CEST
DTSTART:20290325T010000
END:DAYLIGHT
BEGIN:STANDARD
TZOFFSETFROM:+0200
TZOFFSETTO:+0100
TZNAME:CET
DTSTART:20291028T010000
END:STANDARD
END:VTIMEZONE
BEGIN:VEVENT
DTSTART;VALUE=DATE:20290701
DTEND;VALUE=DATE:20290702
DTSTAMP:20260424T023727
CREATED:20230710T103347Z
LAST-MODIFIED:20240731T135800Z
UID:10006586-1877558400-1877644799@issuekalender.nl
SUMMARY:KETI KOTI (DAG VAN DE VRIJHEDEN)
DESCRIPTION:[vc_row][vc_column][vc_column_text css_animation=”fadeIn” font_size=”35″ font_family=”Roboto” font_weight=”500″ color=”#57529e”]\nKETI KOTI (DAG VAN DE VRIJHEDEN) \n[/vc_column_text][vc_empty_space height=”10px”][vc_single_image image=”88″ img_size=”medium” css_animation=”fadeInUp” alignment=”left”][/vc_column][/vc_row][vc_row][vc_column][vc_column_text]Keti Koti\, ook bekend als de Dag van de Vrijheden is een jaarlijkse viering waarbij de afschaffing van de slavernij\, op 1 juli 1863 in Suriname en de Nederlandse Antillen\, wordt herdacht. Op deze dag wordt de vrijheid gevierd en de herinnering aan de slavernij actief gehouden met evenementen\, ceremonies en culturele activiteiten.[/vc_column_text][/vc_column][/vc_row][vc_row][vc_column][vc_single_image image=”61″ css_animation=”fadeInUp” alignment=”left”][/vc_column][/vc_row][vc_row][vc_column width=”1/2″]Issuekalender doorzoeken [/vc_column][vc_column width=”1/2″][/vc_column][/vc_row]
URL:https://issuekalender.nl/issue/keti-koti-dag-van-de-vrijheden/2029-07-01/
CATEGORIES:Mens en maatschappij,Sociale cohesie en integratie
ORGANIZER;CN="Het Nationaal Instituut Nederlands Slavernijverleden en Erfenis (NiNsee)":MAILTO:info@ketikotiamsterdam.nl
END:VEVENT
BEGIN:VEVENT
DTSTART;VALUE=DATE:20290706
DTEND;VALUE=DATE:20290707
DTSTAMP:20260424T023727
CREATED:20230710T104104Z
LAST-MODIFIED:20241008T084309Z
UID:10007505-1877990400-1878076799@issuekalender.nl
SUMMARY:WERELD KUSDAG
DESCRIPTION:[vc_row][vc_column][vc_column_text css_animation=”fadeIn” font_size=”35″ font_family=”Roboto” font_weight=”500″ color=”#57529e”]\nWERELD KUSDAG \n[/vc_column_text][vc_empty_space height=”10px”][vc_single_image image=”88″ img_size=”medium” css_animation=”fadeInUp” alignment=”left”][/vc_column][/vc_row][vc_row][vc_column][vc_column_text]\n\n\n\nIn Nederland wordt de Wereld Kusdag nog niet/niet meer georganiseerd. Kijk voor meer informatie over het neerzetten van een issuemoment op www.issuemakers.nl. \nInternational Kissing Day of World Kiss Day wordt ieder jaar op 6 juli gevierd. De dag komt oorspronkelijk uit Groot Brittannië. \nHet concept achter de Internationale Kusdag is dat veel mensen de eenvoudige geneugten van zoenen om te zoenen misschien vergeten zijn\, in tegenstelling tot zoenen als louter sociale formaliteit. \n\n\n\n[/vc_column_text][/vc_column][/vc_row][vc_row][vc_column][vc_single_image image=”61″ css_animation=”fadeInUp” alignment=”left”][/vc_column][/vc_row][vc_row][vc_column width=”1/2″]Issuekalender doorzoeken [/vc_column][vc_column width=”1/2″][/vc_column][/vc_row]
URL:https://issuekalender.nl/issue/wereld-kusdag/2029-07-06/
CATEGORIES:Mens en maatschappij,Ontspanning en plezier,Welzijn en gezondheid
END:VEVENT
BEGIN:VEVENT
DTSTART;VALUE=DATE:20290707
DTEND;VALUE=DATE:20290708
DTSTAMP:20260424T023727
CREATED:20230705T224548Z
LAST-MODIFIED:20241006T143748Z
UID:10007499-1878076800-1878163199@issuekalender.nl
SUMMARY:INTERNATIONALE DAG VAN DE COÖPERATIEVEN (VN)
DESCRIPTION:[vc_row][vc_column][vc_column_text css_animation=”fadeIn” font_size=”35″ font_family=”Roboto” font_weight=”500″ color=”#57529e”]\nINTERNATIONALE DAG VAN DE COÖPERATIEVEN (VN) \n[/vc_column_text][vc_empty_space height=”10px”][vc_single_image image=”88″ img_size=”medium” css_animation=”fadeInUp” alignment=”left”][/vc_column][/vc_row][vc_row][vc_column][vc_column_text]Ieder jaar wordt op deze dag internationaal stilgestaan bij het belang van samenwerking\, zowel in het overheidswezen als in het bedrijfsleven. Iedere eerste zaterdag van juli is het de Internationale Dag van de Coöperatieven\, een dag die is opgericht door de International Co-operative Alliance (ICA) in 1923. In 1994 is deze Dag een officiële VN-Dag geworden. Coöperaties zijn overal nodig. Op economisch gebied\, op regeringsvlak\, in de internationale politiek. En dat is precies waar de International Co-operative Alliance voor gaat: Meer samenwerking tussen mensen\, landen en bedrijven\, omdat op die manier alles efficiënter zal kunnen verlopen.[/vc_column_text][/vc_column][/vc_row][vc_row][vc_column][vc_single_image image=”61″ css_animation=”fadeInUp” alignment=”left”][/vc_column][/vc_row][vc_row][vc_column width=”1/2″]Issuekalender doorzoeken [/vc_column][vc_column width=”1/2″][/vc_column][/vc_row]
URL:https://issuekalender.nl/issue/internationale-dag-van-de-cooperatieven-vn/2029-07-07/
CATEGORIES:Mens en maatschappij
END:VEVENT
BEGIN:VEVENT
DTSTART;VALUE=DATE:20290711
DTEND;VALUE=DATE:20290712
DTSTAMP:20260424T023727
CREATED:20230705T224528Z
LAST-MODIFIED:20241008T084547Z
UID:10007512-1878422400-1878508799@issuekalender.nl
SUMMARY:WERELD POPULATIEDAG (VN)
DESCRIPTION:[vc_row][vc_column][vc_column_text css_animation=”fadeIn” font_size=”35″ font_family=”Roboto” font_weight=”500″ color=”#57529e”]\nWERELD POPULATIEDAG (VN) \n[/vc_column_text][vc_empty_space height=”10px”][vc_single_image image=”88″ img_size=”medium” css_animation=”fadeInUp” alignment=”left”][/vc_column][/vc_row][vc_row][vc_column][vc_column_text]De wereldbevolkingsdag – in het Engels: World Population Day – is op 11 juli 1989 door het UNFPA (bevolkingsfonds van de VN) uitgeroepen om de aandacht te vestigen op de bevolkingsgroei van mensen op aarde en het belang om te blijven investeren in vrouwen\, als sleutel tot de bevordering van het welzijn in ontwikkelingslanden en economisch herstel.[/vc_column_text][/vc_column][/vc_row][vc_row][vc_column][vc_single_image image=”61″ css_animation=”fadeInUp” alignment=”left”][/vc_column][/vc_row][vc_row][vc_column width=”1/2″]Issuekalender doorzoeken [/vc_column][vc_column width=”1/2″][/vc_column][/vc_row]
URL:https://issuekalender.nl/issue/wereld-populatiedag-vn/2029-07-11/
CATEGORIES:Mens en maatschappij,Overige
END:VEVENT
BEGIN:VEVENT
DTSTART;VALUE=DATE:20290714
DTEND;VALUE=DATE:20290715
DTSTAMP:20260424T023728
CREATED:20230710T095351Z
LAST-MODIFIED:20241008T084646Z
UID:10007518-1878681600-1878767999@issuekalender.nl
SUMMARY:INTERNATIONALE DAG VOOR NON-BINAIRE MENSEN
DESCRIPTION:[vc_row][vc_column][vc_column_text css_animation=”fadeIn” font_size=”35″ font_family=”Roboto” font_weight=”500″ color=”#57529e”]\nINTERNATIONALE DAG VOOR NON-BINAIRE MENSEN \n[/vc_column_text][vc_empty_space height=”10px”][vc_single_image image=”88″ img_size=”medium” css_animation=”fadeInUp” alignment=”left”][/vc_column][/vc_row][vc_row][vc_column][vc_column_text]\n\n\n\nInternationale Dag voor Non-binaire Mensen wordt elk jaar op 14 juli gehouden en is bedoeld om het bewustzijn te vergroten en zich te organiseren rond de problemen waarmee niet-binaire mensen over de hele wereld worden geconfronteerd. \n\n\n\n[/vc_column_text][/vc_column][/vc_row][vc_row][vc_column][vc_single_image image=”61″ css_animation=”fadeInUp” alignment=”left”][/vc_column][/vc_row][vc_row][vc_column width=”1/2″]Issuekalender doorzoeken [/vc_column][vc_column width=”1/2″][/vc_column][/vc_row]
URL:https://issuekalender.nl/issue/internationale-dag-voor-non-binaire-mensen/2029-07-14/
CATEGORIES:Mens en maatschappij
END:VEVENT
BEGIN:VEVENT
DTSTART;VALUE=DATE:20290715
DTEND;VALUE=DATE:20290716
DTSTAMP:20260424T023728
CREATED:20230710T095552Z
LAST-MODIFIED:20241008T084851Z
UID:10007523-1878768000-1878854399@issuekalender.nl
SUMMARY:WERELDDAG VAN DE VAARDIGHEDEN VAN JONGEREN (VN)
DESCRIPTION:[vc_row][vc_column][vc_column_text css_animation=”fadeIn” font_size=”35″ font_family=”Roboto” font_weight=”500″ color=”#57529e”]\nWERELDDAG VAN DE VAARDIGHEDEN VAN JONGEREN (VN) \n[/vc_column_text][vc_empty_space height=”10px”][vc_single_image image=”88″ img_size=”medium” css_animation=”fadeInUp” alignment=”left”][/vc_column][/vc_row][vc_row][vc_column][vc_column_text]\nWorld Youth Skills Day | United Nations \n\n\n\nDe talenten van jongeren worden nog niet genoeg benut. Onder jongeren heerst een hogere werkloosheid dan bij ouderen. Op deze dag worden evenement georganiseerd om het bewustzijn van het belang om talenten te ontwikkelen te verhogen. \n\n\n\n[/vc_column_text][/vc_column][/vc_row][vc_row][vc_column][vc_single_image image=”61″ css_animation=”fadeInUp” alignment=”left”][/vc_column][/vc_row][vc_row][vc_column width=”1/2″]Issuekalender doorzoeken [/vc_column][vc_column width=”1/2″][/vc_column][/vc_row]
URL:https://issuekalender.nl/issue/werelddag-van-de-vaardigheden-van-jongeren-vn/2029-07-15/
CATEGORIES:Mens en maatschappij,Overige,Werk en welzijn
END:VEVENT
BEGIN:VEVENT
DTSTART;VALUE=DATE:20290717
DTEND;VALUE=DATE:20290719
DTSTAMP:20260424T023728
CREATED:20251117T113935Z
LAST-MODIFIED:20251117T113935Z
UID:10009411-1878940800-1879113599@issuekalender.nl
SUMMARY:NATIONALE NACHTVLINDERNACHT
DESCRIPTION:[vc_row][vc_column][vc_single_image image=”61″ css_animation=”fadeInUp” alignment=”left”][/vc_column][/vc_row][vc_row][vc_column][vc_column_text css_animation=”fadeIn” font_size=”45″ font_family=”Roboto” font_weight=”500″ color=”#57529e”]\nNATIONALE NACHTVLINDERNACHT \n[/vc_column_text][vc_empty_space height=”10px”][vc_single_image image=”88″ img_size=”medium” css_animation=”fadeInUp” alignment=”left”][/vc_column][/vc_row][vc_row][vc_column][vc_column_text]Tijdens de Nationale Nachtvlindernacht gaan we in heel Nederland naar nachtvlinders kijken. Nachtvlinders zijn normaal gesproken niet zo gemakkelijk te zien en dus moeten ze gelokt worden. Dat gebeurt met speciale lampen. Dan wordt opeens zichtbaar hoeveel verschillende nachtvlinders er voorkomen. In Nederland zijn dat er meer dan 2000![/vc_column_text][/vc_column][/vc_row][vc_row][vc_column][vc_single_image image=”61″ css_animation=”fadeInUp” alignment=”left”][/vc_column][/vc_row][vc_row][vc_column width=”1/2″]Issuekalender doorzoeken [/vc_column][vc_column width=”1/2″][/vc_column][/vc_row]
URL:https://issuekalender.nl/issue/nationale-nachtvlindernacht-2/2029-07-17/
CATEGORIES:Dierenwelzijn,Milieu en duurzaamheid
END:VEVENT
BEGIN:VEVENT
DTSTART;VALUE=DATE:20290718
DTEND;VALUE=DATE:20290719
DTSTAMP:20260424T023728
CREATED:20230710T095954Z
LAST-MODIFIED:20241008T084949Z
UID:10007529-1879027200-1879113599@issuekalender.nl
SUMMARY:MANDELA DAY
DESCRIPTION:[vc_row][vc_column][vc_column_text css_animation=”fadeIn” font_size=”35″ font_family=”Roboto” font_weight=”500″ color=”#57529e”]\nMANDELA DAY \n[/vc_column_text][vc_empty_space height=”10px”][vc_single_image image=”88″ img_size=”medium” css_animation=”fadeInUp” alignment=”left”][/vc_column][/vc_row][vc_row][vc_column][vc_column_text]\n\n\n\nOp Nelson Mandela International Day herdenken we de inzet die Nelson Mandela in zijn leven heeft getoond voor South Africa en de van de wereld. Elk jaar staat 18 juli\, de verjaardag van Mandela in het teken van zijn verdiensten. \n\n\n\n[/vc_column_text][/vc_column][/vc_row][vc_row][vc_column][vc_single_image image=”61″ css_animation=”fadeInUp” alignment=”left”][/vc_column][/vc_row][vc_row][vc_column width=”1/2″]Issuekalender doorzoeken [/vc_column][vc_column width=”1/2″][/vc_column][/vc_row]
URL:https://issuekalender.nl/issue/mandela-day/2029-07-18/
CATEGORIES:Mens en maatschappij,Overige
END:VEVENT
BEGIN:VEVENT
DTSTART;VALUE=DATE:20290721
DTEND;VALUE=DATE:20290722
DTSTAMP:20260424T023728
CREATED:20251112T095131Z
LAST-MODIFIED:20251112T095132Z
UID:10009270-1879286400-1879372799@issuekalender.nl
SUMMARY:INTERNATIONALE DAG VAN HET LUISTEREN
DESCRIPTION:[vc_row][vc_column][vc_single_image image=”61″ css_animation=”fadeInUp” alignment=”left”][/vc_column][/vc_row][vc_row][vc_column][vc_column_text css_animation=”fadeIn” font_size=”45″ font_family=”Roboto” font_weight=”500″ color=”#57529e”]\nINTERNATIONALE DAG VAN HET LUISTEREN \n[/vc_column_text][vc_empty_space height=”10px”][vc_single_image image=”88″ img_size=”medium” css_animation=”fadeInUp” alignment=”left”][/vc_column][/vc_row][vc_row][vc_column][vc_column_text css=””]Op 18 juli wordt er in meer dan 20 landen de International Day of Listening gevierd. Wij doen in Nederland mee met diverse activiteiten\, maar vooral met Free Listening sessies.[/vc_column_text][/vc_column][/vc_row][vc_row][vc_column][vc_single_image image=”61″ css_animation=”fadeInUp” alignment=”left”][/vc_column][/vc_row][vc_row][vc_column width=”1/2″]Issuekalender doorzoeken [/vc_column][vc_column width=”1/2″][/vc_column][/vc_row]
URL:https://issuekalender.nl/issue/internationale-dag-van-het-luisteren-2/2029-07-21/
CATEGORIES:Mens en maatschappij,Overige
ORGANIZER;CN="Irene Gottgens en Corine Jansen":MAILTO:corine@corinejansen.com
END:VEVENT
BEGIN:VEVENT
DTSTART;VALUE=DATE:20290725
DTEND;VALUE=DATE:20290726
DTSTAMP:20260424T023728
CREATED:20230710T100201Z
LAST-MODIFIED:20241030T165317Z
UID:10008710-1879632000-1879718399@issuekalender.nl
SUMMARY:WORLD DROWNING PREVENTION DAY (WHO)
DESCRIPTION:[vc_row][vc_column][vc_column_text css_animation=”fadeIn” font_size=”35″ font_family=”Roboto” font_weight=”500″ color=”#57529e”]\nWORLD DROWNING PREVENTION DAY (WHO) \n[/vc_column_text][vc_empty_space height=”10px”][vc_single_image image=”88″ img_size=”medium” css_animation=”fadeInUp” alignment=”left”][/vc_column][/vc_row][vc_row][vc_column][vc_column_text]\n\n\n\nDe WHO heeft in april 2021 25 juli uitgeroepen tot World Drowning Prevention Day (WDPD). \nIn Nederland verdrinken er jaarlijks rond de 100 personen (cijfers CBS\, zelfmoorden en verkeersongevallen uitgezonderd). Een nog groter aantal mensen komt in het water in de problemen\, maar wordt gered door lifeguards. Een groot deel van die (dodelijke) ongevallen had voorkomen kunnen worden door mensen meer bewust te maken van de risico’s van het zwemmen in open water (zee\, rivieren\, kanalen\, meren\, grachten). Deze dag is erop gericht om dat bewustzijn te vergroten. \n\n\n\n[/vc_column_text][/vc_column][/vc_row][vc_row][vc_column][vc_single_image image=”61″ css_animation=”fadeInUp” alignment=”left”][/vc_column][/vc_row][vc_row][vc_column width=”1/2″]Issuekalender doorzoeken [/vc_column][vc_column width=”1/2″][/vc_column][/vc_row]
URL:https://issuekalender.nl/issue/world-drowning-prevention-day-vn/2029-07-25/
CATEGORIES:Mens en maatschappij,Overige
END:VEVENT
BEGIN:VEVENT
DTSTART;VALUE=DATE:20290728
DTEND;VALUE=DATE:20290729
DTSTAMP:20260424T023728
CREATED:20230710T101103Z
LAST-MODIFIED:20241008T085150Z
UID:10007535-1879891200-1879977599@issuekalender.nl
SUMMARY:WERELD HEPATITISDAG (VN)
DESCRIPTION:[vc_row][vc_column][vc_column_text css_animation=”fadeIn” font_size=”35″ font_family=”Roboto” font_weight=”500″ color=”#57529e”]\nWERELD HEPATITISDAG (VN) \n[/vc_column_text][vc_empty_space height=”10px”][vc_single_image image=”88″ img_size=”medium” css_animation=”fadeInUp” alignment=”left”][/vc_column][/vc_row][vc_row][vc_column][vc_column_text]\n\n\n\nWereldwijd hebben 350 miljoen mensen chronische hepatitis B en 130 miljoen mensen chronische hepatitis C. In Europa hebben 14 miljoen mensen chronische\nhepatitis B en 9 miljoen mensen chronische hepatitis C en sterven er jaarlijks 122.000 mensen aan chronische hepatitis B of hepatitis C (WHO HBV\,\nHCV factsheet). Ook in Nederland wordt aandacht gevraagd voor de ernst van hepatitis. In Nederland hebben 100.000-120.000 mensen chronische hepatitis B\nof C en sterven er jaarlijks 400 mensen aan de gevolgen van chronische hepatitis B of C. De meesten weten niet dat zij deze ziekte hebben omdat\nklachten pas optreden als de lever ernstig is beschadigd. Door tijdige behandeling kan ernstige leverbeschadiging voorkomen worden. Door vaccinatie\nkan hepatitis B voorkomen worden. \nInternationale initiatiefnemer:\nWHO \n\n\n\n[/vc_column_text][/vc_column][/vc_row][vc_row][vc_column][vc_single_image image=”61″ css_animation=”fadeInUp” alignment=”left”][/vc_column][/vc_row][vc_row][vc_column width=”1/2″]Issuekalender doorzoeken [/vc_column][vc_column width=”1/2″][/vc_column][/vc_row]
URL:https://issuekalender.nl/issue/wereld-hepatitisdag-vn/2029-07-28/
CATEGORIES:Overige,Welzijn en gezondheid
END:VEVENT
BEGIN:VEVENT
DTSTART;VALUE=DATE:20290730
DTEND;VALUE=DATE:20290731
DTSTAMP:20260424T023728
CREATED:20230710T104312Z
LAST-MODIFIED:20241008T085850Z
UID:10007803-1880064000-1880150399@issuekalender.nl
SUMMARY:INTERNATIONALE DAG VAN DE VRIENDSCHAP (VN)
DESCRIPTION:[vc_row][vc_column][vc_column_text css_animation=”fadeIn” font_size=”35″ font_family=”Roboto” font_weight=”500″ color=”#57529e”]\nINTERNATIONALE DAG VAN DE VRIENDSCHAP (VN) \n[/vc_column_text][vc_empty_space height=”10px”][vc_single_image image=”88″ img_size=”medium” css_animation=”fadeInUp” alignment=”left”][/vc_column][/vc_row][vc_row][vc_column][vc_column_text]\n\n\n\nDe Internationale Dag van de Vriendschap is een initiatief van de Verenigde Naties. De dag is in het leven geroepen om de rol te benadrukken die vriendschap speelt in het bevorderen van vrede in verschillende culturen. De dag wordt jaarlijks op 30 juli gehouden. Met name in Zuid-Amerika en Zuid-Oost Azië is het vieren van deze dag populair. \n\n\n\n[/vc_column_text][/vc_column][/vc_row][vc_row][vc_column][vc_single_image image=”61″ css_animation=”fadeInUp” alignment=”left”][/vc_column][/vc_row][vc_row][vc_column width=”1/2″]Issuekalender doorzoeken [/vc_column][vc_column width=”1/2″][/vc_column][/vc_row]
URL:https://issuekalender.nl/issue/internationale-dag-van-de-vriendschap-vn/2029-07-30/
CATEGORIES:Mens en maatschappij,Overige
END:VEVENT
BEGIN:VEVENT
DTSTART;VALUE=DATE:20290730
DTEND;VALUE=DATE:20290731
DTSTAMP:20260424T023728
CREATED:20230710T104357Z
LAST-MODIFIED:20241008T085412Z
UID:10007802-1880064000-1880150399@issuekalender.nl
SUMMARY:WERELDDAG TEGEN MENSENHANDEL (VN)
DESCRIPTION:[vc_row][vc_column][vc_column_text css_animation=”fadeIn” font_size=”35″ font_family=”Roboto” font_weight=”500″ color=”#57529e”]\nWERELDDAG TEGEN MENSENHANDEL (VN) \n[/vc_column_text][vc_empty_space height=”10px”][vc_single_image image=”88″ img_size=”medium” css_animation=”fadeInUp” alignment=”left”][/vc_column][/vc_row][vc_row][vc_column][vc_column_text]\n\n\n\nMensenhandel is een ernstige misdaad en een ernstige schending van de mensenrechten. Op de Werelddag tegen mensenhandel tracht de Verenigde Naties het publiek bewust te maken om deze mondiale probleem aan te pakken. Bijna elk land in de wereld wordt getroffen door mensenhandel\, ongeacht of het gaat om een herkomst-\, doorvoer- of bestemmingsland voor slachtoffers. \n\n\n\n[/vc_column_text][/vc_column][/vc_row][vc_row][vc_column][vc_single_image image=”61″ css_animation=”fadeInUp” alignment=”left”][/vc_column][/vc_row][vc_row][vc_column width=”1/2″]Issuekalender doorzoeken [/vc_column][vc_column width=”1/2″][/vc_column][/vc_row]
URL:https://issuekalender.nl/issue/werelddag-tegen-mensenhandel-vn/2029-07-30/
CATEGORIES:Mens en maatschappij,Overige
END:VEVENT
END:VCALENDAR