BEGIN:VCALENDAR
VERSION:2.0
PRODID:-//Issuekalender - ECPv6.9.0//NONSGML v1.0//EN
CALSCALE:GREGORIAN
METHOD:PUBLISH
X-WR-CALNAME:Issuekalender
X-ORIGINAL-URL:https://issuekalender.nl
X-WR-CALDESC:Evenementen voor Issuekalender
REFRESH-INTERVAL;VALUE=DURATION:PT1H
X-Robots-Tag:noindex
X-PUBLISHED-TTL:PT1H
BEGIN:VTIMEZONE
TZID:Europe/Amsterdam
BEGIN:DAYLIGHT
TZOFFSETFROM:+0100
TZOFFSETTO:+0200
TZNAME:CEST
DTSTART:20250330T010000
END:DAYLIGHT
BEGIN:STANDARD
TZOFFSETFROM:+0200
TZOFFSETTO:+0100
TZNAME:CET
DTSTART:20251026T010000
END:STANDARD
END:VTIMEZONE
BEGIN:VEVENT
DTSTART;VALUE=DATE:20250313
DTEND;VALUE=DATE:20250314
DTSTAMP:20260419T213353
CREATED:20230714T140932Z
LAST-MODIFIED:20241028T131655Z
UID:10008743-1741824000-1741910399@issuekalender.nl
SUMMARY:DAG VAN DE INGENIEUR
DESCRIPTION:[vc_row][vc_column][vc_single_image image=”61″ css_animation=”fadeInUp” alignment=”left”][/vc_column][/vc_row][vc_row][vc_column][vc_column_text css_animation=”fadeIn” font_size=”45″ font_family=”Roboto” font_weight=”500″ color=”#57529e”]\nDAG VAN DE INGENIEUR \n[/vc_column_text][vc_empty_space height=”10px”][vc_single_image image=”88″ img_size=”medium” css_animation=”fadeInUp” alignment=”left”][/vc_column][/vc_row][vc_row][vc_column][vc_column_text]Jaarlijks vindt de Dag van de Ingenieur plaats. Op deze dag wordt op een belangrijke plaats voor technologie in Nederland de Ingenieur van het Jaar gekozen door het Koninklijk Instituut van Ingenieurs (KIVI). Hij of zij wint de Prins Friso Ingenieursprijs. \nIngenieurs die zich onderscheiden in expertise\, innoverend vermogen\, maatschappelijke impact en ondernemerschap komen in aanmerking voor de jaarlijkse Prins Friso Ingenieursprijs. Prins Friso was ingenieur lucht- en ruimtevaarttechniek en werktuigbouwkunde. Daarnaast was hij in het bezit van een diploma bedrijfseconomie. Deze door Prins Friso zo nadrukkelijk gekozen combinatie van competenties maakten hem als ingenieur uniek. Zijn inspirerende nalatenschap aan de ingenieurswereld maakt het bijzonder passend om de Ingenieur van het Jaar te eren met de Prins Friso Ingenieursprijs. Prins Friso was tevens zeer gewaardeerd lid van KIVI. \nNaast de Ingenieur van het Jaar wordt er op de Dag van de Ingenieur ook de KIVI Academic Society Award uitgereikt. Voor de KIVI Academic Society Award komen hoogleraren in aanmerking die zich onderscheiden door uitmuntend onderzoek en hun vermogen om op aansprekende wijze de verbinding tussen wetenschap en maatschappij te leggen.[/vc_column_text][/vc_column][/vc_row][vc_row][vc_column][vc_single_image image=”61″ css_animation=”fadeInUp” alignment=”left”][/vc_column][/vc_row][vc_row][vc_column width=”1/2″]Issuekalender doorzoeken [/vc_column][vc_column width=”1/2″][/vc_column][/vc_row]
URL:https://issuekalender.nl/issue/dag-van-de-ingenieur/2025-03-13/
CATEGORIES:Innovatie en technologie,Wetenschap
ORGANIZER;CN="Het Koninklijk Instituut Van Ingenieurs (KIVI)":MAILTO:info@kivi.nl
END:VEVENT
BEGIN:VEVENT
DTSTART;VALUE=DATE:20250314
DTEND;VALUE=DATE:20250315
DTSTAMP:20260419T213353
CREATED:20230714T140711Z
LAST-MODIFIED:20251111T112713Z
UID:10008633-1741910400-1741996799@issuekalender.nl
SUMMARY:PI-DAG
DESCRIPTION:[vc_row][vc_column][vc_single_image image=”61″ css_animation=”fadeInUp” alignment=”left”][/vc_column][/vc_row][vc_row][vc_column][vc_column_text css_animation=”fadeIn” font_size=”45″ font_family=”Roboto” font_weight=”500″ color=”#57529e”]\nPI-DAG \n[/vc_column_text][vc_empty_space height=”10px”][vc_single_image image=”88″ img_size=”medium” css_animation=”fadeInUp” alignment=”left”][/vc_column][/vc_row][vc_row][vc_column][vc_column_text]Op π-dag\, 14 maart\, wordt wereldwijd op verschillende wiskundeafdelingen van universiteiten feestgevierd. π-dag wordt op 14 maart gevierd\, omdat in de Amerikaanse schrijfwijze voor data 14 maart geschreven wordt als 3/14 en de driecijferige benadering voor π 3\,14 is. Deze dag wordt op verschillende manieren gevierd. De viering begint gewoonlijk om 13:59 uur (1:59 PM)\, omdat de zescijferige benadering van π 3\,14159 is.[/vc_column_text][/vc_column][/vc_row][vc_row][vc_column][vc_single_image image=”61″ css_animation=”fadeInUp” alignment=”left”][/vc_column][/vc_row][vc_row][vc_column width=”1/2″]Issuekalender doorzoeken [/vc_column][vc_column width=”1/2″][/vc_column][/vc_row]
URL:https://issuekalender.nl/issue/pi-dag/2025-03-14/
CATEGORIES:Innovatie en technologie,Onderwijs en educatie,Wetenschap
END:VEVENT
END:VCALENDAR