BEGIN:VCALENDAR
VERSION:2.0
PRODID:-//Issuekalender - ECPv6.9.0//NONSGML v1.0//EN
CALSCALE:GREGORIAN
METHOD:PUBLISH
X-ORIGINAL-URL:https://issuekalender.nl
X-WR-CALDESC:Evenementen voor Issuekalender
REFRESH-INTERVAL;VALUE=DURATION:PT1H
X-Robots-Tag:noindex
X-PUBLISHED-TTL:PT1H
BEGIN:VTIMEZONE
TZID:Europe/Amsterdam
BEGIN:DAYLIGHT
TZOFFSETFROM:+0100
TZOFFSETTO:+0200
TZNAME:CEST
DTSTART:20300331T010000
END:DAYLIGHT
BEGIN:STANDARD
TZOFFSETFROM:+0200
TZOFFSETTO:+0100
TZNAME:CET
DTSTART:20301027T010000
END:STANDARD
BEGIN:DAYLIGHT
TZOFFSETFROM:+0100
TZOFFSETTO:+0200
TZNAME:CEST
DTSTART:20310330T010000
END:DAYLIGHT
BEGIN:STANDARD
TZOFFSETFROM:+0200
TZOFFSETTO:+0100
TZNAME:CET
DTSTART:20311026T010000
END:STANDARD
END:VTIMEZONE
BEGIN:VEVENT
DTSTART;VALUE=DATE:20301117
DTEND;VALUE=DATE:20301122
DTSTAMP:20260423T000018
CREATED:20230717T100806Z
LAST-MODIFIED:20251117T115249Z
UID:10009470-1921104000-1921535999@issuekalender.nl
SUMMARY:WEEK VAN HET COUVEUSEKIND
DESCRIPTION:[vc_row][vc_column][vc_single_image image=”61″ css_animation=”fadeInUp” alignment=”left”][/vc_column][/vc_row][vc_row][vc_column][vc_column_text css_animation=”fadeIn” font_size=”45″ font_family=”Roboto” font_weight=”500″ color=”#57529e”]\nWEEK VAN HET COUVEUSEKIND \n[/vc_column_text][vc_empty_space height=”10px”][vc_single_image image=”88″ img_size=”medium” css_animation=”fadeInUp” alignment=”left”][/vc_column][/vc_row][vc_row][vc_column][vc_column_text]\n\nCare4Neo (voorheen Vereniging van Ouders van Couveusekinderen – VOC) behartigt de belangen van ouders waarvan het kind direct na de geboorte wordt opgenomen in een ziekenhuis. Ouders met een prematuur zijn\, in een nieuwe en spannende fase van hun leven\, erg geholpen met heldere en toegankelijke informatie en steun. Onze vrijwilligers staan daarom klaar voor ouders met te vroeg\, te licht (dysmatuur) of ziek geboren baby’s. Dit doen we al meer dan 40 jaar op verschillende manieren. Bijvoorbeeld door te lobbyen in de politiek\, samen te werken met zorgprofessionals en onderzoekers\, vrijwilligers in te zetten in ziekenhuizen\, vertegenwoordigd te zijn in de EFCNI\, en met onze eigen activiteiten diensten zoals het gratis couveusedagboek en ons jaarlijkse Week van het Couveusekind rondom Wereld Prematuren Dag. \nCare4Neo is de oudste neonatologie-patiëntenvereniging van Europa. Wij hebben als doel ouders van couveusekinderen een steuntje in de rug te geven en aandacht te vragen voor de problematiek die hier rondom plaatsvindt. Onder couveusekinderen worden verstaan te vroeggeboren (prematuur) te licht geboren (dysmatuur) en ziek geboren kinderen. \n\nDe Week van het Couveusekind wordt ieder jaar rondom de Wereld Prematurendag (17 november) georganiseerd. \n[/vc_column_text][/vc_column][/vc_row][vc_row][vc_column][vc_single_image image=”61″ css_animation=”fadeInUp” alignment=”left”][/vc_column][/vc_row][vc_row][vc_column width=”1/2″]Issuekalender doorzoeken [/vc_column][vc_column width=”1/2″][/vc_column][/vc_row]
URL:https://issuekalender.nl/issue/week-van-het-couveusekind/2030-11-17/
CATEGORIES:Welzijn en gezondheid
END:VEVENT
BEGIN:VEVENT
DTSTART;VALUE=DATE:20310210
DTEND;VALUE=DATE:20310211
DTSTAMP:20260423T000018
CREATED:20230714T080529Z
LAST-MODIFIED:20260211T094712Z
UID:10009625-1928448000-1928534399@issuekalender.nl
SUMMARY:DAG VAN VOLWASSEN KINDEREN VAN PSYCHISCH KWETSBARE OUDERS (KOPP/KOV)
DESCRIPTION:[vc_row][vc_column][vc_single_image image=”61″ css_animation=”fadeInUp” alignment=”left”][/vc_column][/vc_row][vc_row][vc_column][vc_column_text css_animation=”fadeIn” font_size=”45″ font_family=”Roboto” font_weight=”500″ color=”#57529e”]\nDAG VAN VOLWASSEN KINDEREN VAN PSYCHISCH KWETSBARE OUDERS (KOPP/KOV) \n[/vc_column_text][vc_empty_space height=”10px”][vc_single_image image=”88″ img_size=”medium” css_animation=”fadeInUp” alignment=”left”][/vc_column][/vc_row][vc_row][vc_column][vc_column_text]Meer dan 600.000 kinderen groeien op bij een ouder met een psychisch kwetsbaarheid of verslavingsprobleem. Deze kinderen worden KOPP/KOV (Kind van Ouders met Psychische Problematiek/ Kind van Ouders met Verslavingsproblematiek) genoemd. Zo opgroeien heeft invloed op hoe kinderen zich ontwikkelen. Vaak is er weinig of geen aandacht of erkenning voor hun gevoelens; soms is er zelfs sprake van een onveilige situatie thuis. Onterecht wordt vaak gedacht dat de problemen weg zijn zodra het kind uit huis gaat en een eigen leven gaat leiden. Door deze misvatting is er nauwelijks passende ondersteuning te vinden voor volwassen kinderen-van. Dit terwijl minstens één op de zes volwassenen opgroeide in zo’n gezin en dat de impact een leven lang invloed houdt op alle levensgebieden. We willen met deze Dag van Volwassen Kinderen van Psychisch Kwetsbare Ouders (KOPP/KOV) aandacht vragen voor deze groep volwassenen en daarmee bijdragen aan meer begrip\, kennis\, ondersteuning en het bespreekbaar maken van de gevolgen van het opgroeien bij een (of twee) ouder(s) met psychische of verslavingsproblematiek. \nNB: MIND Naasten Centraal heeft gespreksgroepen en organiseert elk jaar op de eerste zaterdag van november een themadag voor volwassen kinderen-van (18+ jaar)\, zie https://www.naastencentraal.nl/voor-wie/kind-van/inleiding/.[/vc_column_text][/vc_column][/vc_row][vc_row][vc_column][vc_single_image image=”61″ css_animation=”fadeInUp” alignment=”left”][/vc_column][/vc_row][vc_row][vc_column width=”1/2″]Issuekalender doorzoeken [/vc_column][vc_column width=”1/2″][/vc_column][/vc_row]
URL:https://issuekalender.nl/issue/dag-van-volwassen-kinderen-van-psychisch-kwetsbare-ouders-kopp-kov/2031-02-10/
CATEGORIES:Welzijn en gezondheid
ORGANIZER;CN="MIND Naasten Centraal":MAILTO:info@naastencentraal.nl
END:VEVENT
END:VCALENDAR