BEGIN:VCALENDAR
VERSION:2.0
PRODID:-//Issuekalender - ECPv6.9.0//NONSGML v1.0//EN
CALSCALE:GREGORIAN
METHOD:PUBLISH
X-ORIGINAL-URL:https://issuekalender.nl
X-WR-CALDESC:Evenementen voor Issuekalender
REFRESH-INTERVAL;VALUE=DURATION:PT1H
X-Robots-Tag:noindex
X-PUBLISHED-TTL:PT1H
BEGIN:VTIMEZONE
TZID:Europe/Amsterdam
BEGIN:DAYLIGHT
TZOFFSETFROM:+0100
TZOFFSETTO:+0200
TZNAME:CEST
DTSTART:20290325T010000
END:DAYLIGHT
BEGIN:STANDARD
TZOFFSETFROM:+0200
TZOFFSETTO:+0100
TZNAME:CET
DTSTART:20291028T010000
END:STANDARD
END:VTIMEZONE
BEGIN:VEVENT
DTSTART;VALUE=DATE:20291101
DTEND;VALUE=DATE:20291201
DTSTAMP:20260422T020055
CREATED:20251112T134808Z
LAST-MODIFIED:20251112T134808Z
UID:10009298-1888185600-1890777599@issuekalender.nl
SUMMARY:MAAND VAN HMB (HEVIG MENSTRUEEL BLOEDVERLIES)
DESCRIPTION:[vc_row][vc_column][vc_single_image image=”61″ css_animation=”fadeInUp” alignment=”left”][/vc_column][/vc_row][vc_row][vc_column][vc_column_text css_animation=”fadeIn” font_size=”45″ font_family=”Roboto” font_weight=”500″ color=”#57529e”]\nMAAND VAN HMB (HEVIG MENSTRUEEL BLOEDVERLIES) \n[/vc_column_text][vc_empty_space height=”10px”][vc_single_image image=”88″ img_size=”medium” css_animation=”fadeInUp” alignment=”left”][/vc_column][/vc_row][vc_row][vc_column][vc_column_text]November = campagnemaand Bloedserieus. De voorlichtingscampagne Bloedserieus informeert over de oorzaken en behandelopties bij hevig menstrueel bloedverlies (HMB). Ongeveer 1 op de 5 vrouwen tussen de 35 en 55 jaar heeft HMB. Te veel vrouwen lopen door met deze medisch erkende aandoening\, met onnodige gezondheidsrisco’s als gevolg. Aan HMB kan namelijk ook een ander medisch probleem ten grondslag liggen\, zoals een stollingsstoornis\, endometriose\, PCOS\, een infectie of gynaecologische kanker. Daarbij heeft HMB nadelige invloed op de kwaliteit van leven\, lichamelijk (ijzertekort)\, psychisch (angst voor doorlekken) en sociaal (afspraken afzeggen\, verzuim van werk).[/vc_column_text][/vc_column][/vc_row][vc_row][vc_column][vc_single_image image=”61″ css_animation=”fadeInUp” alignment=”left”][/vc_column][/vc_row][vc_row][vc_column width=”1/2″]Issuekalender doorzoeken [/vc_column][vc_column width=”1/2″][/vc_column][/vc_row]
URL:https://issuekalender.nl/issue/maand-van-hmb-hevig-menstrueel-bloedverlies-2/2029-11-01/
CATEGORIES:Overige,Welzijn en gezondheid
ORGANIZER;CN="Hologic Benelux":MAILTO:info@period.media
END:VEVENT
BEGIN:VEVENT
DTSTART;VALUE=DATE:20291118
DTEND;VALUE=DATE:20291123
DTSTAMP:20260422T020055
CREATED:20230717T100806Z
LAST-MODIFIED:20251117T115249Z
UID:10009469-1889654400-1890086399@issuekalender.nl
SUMMARY:WEEK VAN HET COUVEUSEKIND
DESCRIPTION:[vc_row][vc_column][vc_single_image image=”61″ css_animation=”fadeInUp” alignment=”left”][/vc_column][/vc_row][vc_row][vc_column][vc_column_text css_animation=”fadeIn” font_size=”45″ font_family=”Roboto” font_weight=”500″ color=”#57529e”]\nWEEK VAN HET COUVEUSEKIND \n[/vc_column_text][vc_empty_space height=”10px”][vc_single_image image=”88″ img_size=”medium” css_animation=”fadeInUp” alignment=”left”][/vc_column][/vc_row][vc_row][vc_column][vc_column_text]\n\nCare4Neo (voorheen Vereniging van Ouders van Couveusekinderen – VOC) behartigt de belangen van ouders waarvan het kind direct na de geboorte wordt opgenomen in een ziekenhuis. Ouders met een prematuur zijn\, in een nieuwe en spannende fase van hun leven\, erg geholpen met heldere en toegankelijke informatie en steun. Onze vrijwilligers staan daarom klaar voor ouders met te vroeg\, te licht (dysmatuur) of ziek geboren baby’s. Dit doen we al meer dan 40 jaar op verschillende manieren. Bijvoorbeeld door te lobbyen in de politiek\, samen te werken met zorgprofessionals en onderzoekers\, vrijwilligers in te zetten in ziekenhuizen\, vertegenwoordigd te zijn in de EFCNI\, en met onze eigen activiteiten diensten zoals het gratis couveusedagboek en ons jaarlijkse Week van het Couveusekind rondom Wereld Prematuren Dag. \nCare4Neo is de oudste neonatologie-patiëntenvereniging van Europa. Wij hebben als doel ouders van couveusekinderen een steuntje in de rug te geven en aandacht te vragen voor de problematiek die hier rondom plaatsvindt. Onder couveusekinderen worden verstaan te vroeggeboren (prematuur) te licht geboren (dysmatuur) en ziek geboren kinderen. \n\nDe Week van het Couveusekind wordt ieder jaar rondom de Wereld Prematurendag (17 november) georganiseerd. \n[/vc_column_text][/vc_column][/vc_row][vc_row][vc_column][vc_single_image image=”61″ css_animation=”fadeInUp” alignment=”left”][/vc_column][/vc_row][vc_row][vc_column width=”1/2″]Issuekalender doorzoeken [/vc_column][vc_column width=”1/2″][/vc_column][/vc_row]
URL:https://issuekalender.nl/issue/week-van-het-couveusekind/2029-11-18/
CATEGORIES:Welzijn en gezondheid
END:VEVENT
BEGIN:VEVENT
DTSTART;VALUE=DATE:20291119
DTEND;VALUE=DATE:20291124
DTSTAMP:20260422T020055
CREATED:20251112T135754Z
LAST-MODIFIED:20251112T135754Z
UID:10009322-1889740800-1890172799@issuekalender.nl
SUMMARY:WEEK VAN DE PATIËNTVEILIGHEID
DESCRIPTION:[vc_row][vc_column][vc_single_image image=”61″ css_animation=”fadeInUp” alignment=”left”][/vc_column][/vc_row][vc_row][vc_column][vc_column_text css_animation=”fadeIn” font_size=”45″ font_family=”Roboto” font_weight=”500″ color=”#57529e”]\nWEEK VAN DE PATIËNTVEILIGHEID \n[/vc_column_text][vc_empty_space height=”10px”][vc_single_image image=”88″ img_size=”medium” css_animation=”fadeInUp” alignment=”left”][/vc_column][/vc_row][vc_row][vc_column][vc_column_text]Elk jaar in de derde week van november is de Week van de Patiëntveiligheid. Dit is een week die is bedoeld voor de zorg en gericht is op het voorkomen van vermijdbare schade en sterfte. De Week van de Patiëntveiligheid bestaat inmiddels meer dan tien jaar en is destijds gestart door het VMS Veiligheidsprogramma. Tijd voor Verbinding is de opvolger van het VMS-programma en is in 2021 van start gegaan. Vanuit de bottom-up beweging die het programma beoogt\, willen we graag de volgende stap in kwaliteit van zorg en patiëntveiligheid zetten door dicht aan te sluiten bij wat er in de praktijk speelt en onderlinge uitwisseling te stimuleren. Diverse ziekenhuizen\, UMC’s en zelfstandige klinieken staan stil bij de Week van de Patiëntveiligheid. Tijd voor Verbinding wil deze activiteit stimuleren en het thema patiëntveiligheid tijdens deze week nog eens extra onder de aandacht brengen.[/vc_column_text][/vc_column][/vc_row][vc_row][vc_column][vc_single_image image=”61″ css_animation=”fadeInUp” alignment=”left”][/vc_column][/vc_row][vc_row][vc_column width=”1/2″]Issuekalender doorzoeken [/vc_column][vc_column width=”1/2″][/vc_column][/vc_row]
URL:https://issuekalender.nl/issue/week-van-de-patientveiligheid-2/2029-11-19/
CATEGORIES:Welzijn en gezondheid
ORGANIZER;CN="Programma Tijd voor Verbinding":MAILTO:info@programmatvv.nl
END:VEVENT
BEGIN:VEVENT
DTSTART;VALUE=DATE:20291121
DTEND;VALUE=DATE:20291122
DTSTAMP:20260422T020055
CREATED:20251112T135720Z
LAST-MODIFIED:20251112T135720Z
UID:10009318-1889913600-1889999999@issuekalender.nl
SUMMARY:EUROPESE ANTIBIOTICADAG
DESCRIPTION:[vc_row][vc_column][vc_single_image image=”61″ css_animation=”fadeInUp” alignment=”left”][/vc_column][/vc_row][vc_row][vc_column][vc_column_text css_animation=”fadeIn” font_size=”45″ font_family=”Roboto” font_weight=”500″ color=”#57529e”]\nEUROPESE ANTIBIOTICADAG \n[/vc_column_text][vc_empty_space height=”10px”][vc_single_image image=”88″ img_size=”medium” css_animation=”fadeInUp” alignment=”left”][/vc_column][/vc_row][vc_row][vc_column][vc_column_text]Ieder jaar op 18 november is het de Europese Antibioticadag. Op deze dag wordt in heel Europa aandacht gevraagd voor het verantwoord gebruik van antibiotica bij mens en dier. Door verkeerd en teveel gebruik van antibiotica zijn steeds meer bacteriën resistent tegen (ongevoelig voor) de werking ervan. Het risico daarvan is dat ziektes\, zoals longontsteking of blaasontsteking moeilijker of zelfs niet meer behandeld kunnen worden. In Nederland besteden we ook aandacht aan het voorkómen van verspreiding van resistente bacteriën. Als bacteriën zich niet verspreiden\, kunnen ze ook minder vaak infecties veroorzaken.[/vc_column_text][/vc_column][/vc_row][vc_row][vc_column][vc_single_image image=”61″ css_animation=”fadeInUp” alignment=”left”][/vc_column][/vc_row][vc_row][vc_column width=”1/2″]Issuekalender doorzoeken [/vc_column][vc_column width=”1/2″][/vc_column][/vc_row]
URL:https://issuekalender.nl/issue/europese-antibioticadag-2/2029-11-21/
CATEGORIES:Welzijn en gezondheid
END:VEVENT
BEGIN:VEVENT
DTSTART;VALUE=DATE:20291121
DTEND;VALUE=DATE:20291122
DTSTAMP:20260422T020055
CREATED:20251112T135735Z
LAST-MODIFIED:20251112T135735Z
UID:10009321-1889913600-1889999999@issuekalender.nl
SUMMARY:DAG VAN DE THERAPIETROUW
DESCRIPTION:[vc_row][vc_column][vc_single_image image=”61″ css_animation=”fadeInUp” alignment=”left”][/vc_column][/vc_row][vc_row][vc_column][vc_column_text css_animation=”fadeIn” font_size=”45″ font_family=”Roboto” font_weight=”500″ color=”#57529e”]\nDAG VAN DE THERAPIETROUW \n[/vc_column_text][vc_empty_space height=”10px”][vc_single_image image=”88″ img_size=”medium” css_animation=”fadeInUp” alignment=”left”][/vc_column][/vc_row][vc_row][vc_column][vc_column_text]\n\n\n\n\n\n\n\nOp initiatief van het UMCG is 18 november de komende jaren uitgeroepen tot nationale Dag van de Therapietrouw; het is dan nu ook terug te vinden in de jaarlijkse Issuekalender. Vandaag start het UMCG met het expertisecentrum dat therapietrouw gaat bevorderen\, het ‘Medication Adherence Expertise Center of the Northern Netherlands’ (MAECON). Er is vandaag tevens een symposium over therapietrouw in het UMCG.\n\n\n\n\n\n\n\n\n\n\n\n\n\n\n\n\n\n\n\n\n\n\n\n\n\n\nTherapietrouw wil zeggen dat patiënten op de juiste wijze\, op de juiste tijd en in de juiste hoeveelheid hun medicijnen innemen zoals afgesproken met hun zorgverlener. Een verminderde mate van therapietrouw zorgt voor een verhoogd risico op nieuwe ziekte en sterfte; het leidt ook tot hogere kosten voor de maatschappij.  Trouw zijn en blijven aan je medicatie gebeurt wereldwijd maar door 50% van de mensen die medicijnen voorgeschreven krijgen. \nTherapieontrouw heeft\, volgens schattingen van de OECD\, in Europa al zo’n 200.000 doden en 125 miljard euro per jaar aan te voorkomen zorgkosten gekost. Bovendien is het correct en trouw gebruiken van medicatie essentieel voor gezond oud worden en voor succesvolle nieuwe medicatie-trials. \n\n\n\n\n\n\n\n\n[/vc_column_text][/vc_column][/vc_row][vc_row][vc_column][vc_single_image image=”61″ css_animation=”fadeInUp” alignment=”left”][/vc_column][/vc_row][vc_row][vc_column width=”1/2″]Issuekalender doorzoeken [/vc_column][vc_column width=”1/2″][/vc_column][/vc_row]
URL:https://issuekalender.nl/issue/dag-van-de-therapietrouw-2/2029-11-21/
CATEGORIES:Nationale feestdag,Welzijn en gezondheid
END:VEVENT
END:VCALENDAR