BEGIN:VCALENDAR
VERSION:2.0
PRODID:-//Issuekalender - ECPv6.9.0//NONSGML v1.0//EN
CALSCALE:GREGORIAN
METHOD:PUBLISH
X-ORIGINAL-URL:https://issuekalender.nl
X-WR-CALDESC:Evenementen voor Issuekalender
REFRESH-INTERVAL;VALUE=DURATION:PT1H
X-Robots-Tag:noindex
X-PUBLISHED-TTL:PT1H
BEGIN:VTIMEZONE
TZID:Europe/Amsterdam
BEGIN:DAYLIGHT
TZOFFSETFROM:+0100
TZOFFSETTO:+0200
TZNAME:CEST
DTSTART:20290325T010000
END:DAYLIGHT
BEGIN:STANDARD
TZOFFSETFROM:+0200
TZOFFSETTO:+0100
TZNAME:CET
DTSTART:20291028T010000
END:STANDARD
END:VTIMEZONE
BEGIN:VEVENT
DTSTART;VALUE=DATE:20290328
DTEND;VALUE=DATE:20290405
DTSTAMP:20260421T171405
CREATED:20251117T092419Z
LAST-MODIFIED:20251117T092420Z
UID:10009355-1869350400-1870037999@issuekalender.nl
SUMMARY:AUTISMEWEEK
DESCRIPTION:[vc_row][vc_column][vc_single_image image=”61″ css_animation=”fadeInUp” alignment=”left”][/vc_column][/vc_row][vc_row][vc_column][vc_column_text css_animation=”fadeIn” font_size=”45″ font_family=”Roboto” font_weight=”500″ color=”#57529e”]\nAUTISMEWEEK \n[/vc_column_text][vc_empty_space height=”10px”][vc_single_image image=”88″ img_size=”medium” css_animation=”fadeInUp” alignment=”left”][/vc_column][/vc_row][vc_row][vc_column][vc_column_text]In deze week vraagt de Nederlandse Vereniging voor Autisme (NVA) aandacht voor de ongeveer 190.000 mensen met autisme in ons land. De NVA Autismeweek wordt ieder jaar georganiseerd rond 2 april. Deze dag is door de Verenigde Naties uitgeroepen tot Wereld Autisme Dag (World Autism Awareness Day) en geldt als dé dag waarop autisme wereldwijd in de schijnwerpers staat. \nVeel mensen met autisme beschikken over positieve eigenschappen\, zoals oog voor detail\, eerlijkheid\, loyaliteit en het vermogen om systemen te analyseren. Ook hebben zij vaak waardevolle ‘speciale interesses’\, onderwerpen waar zij álles van weten. Toch staan veel mensen met autisme werkloos aan de kant\, met desastreuze gevolgen voor hun psychische gezondheid. Dit moet en kan anders![/vc_column_text][/vc_column][/vc_row][vc_row][vc_column][vc_single_image image=”61″ css_animation=”fadeInUp” alignment=”left”][/vc_column][/vc_row][vc_row][vc_column width=”1/2″]Issuekalender doorzoeken [/vc_column][vc_column width=”1/2″][/vc_column][/vc_row]
URL:https://issuekalender.nl/issue/autismeweek-2/2029-03-28/
CATEGORIES:Welzijn en gezondheid
ORGANIZER;CN="Nederlandse Vereniging voor Autisme":MAILTO:info@autismeweek.nl
END:VEVENT
BEGIN:VEVENT
DTSTART;VALUE=DATE:20290402
DTEND;VALUE=DATE:20290403
DTSTAMP:20260421T171405
CREATED:20230715T144756Z
LAST-MODIFIED:20251111T125055Z
UID:10008666-1869782400-1869868799@issuekalender.nl
SUMMARY:WERELD AUTISMEDAG (VN)
DESCRIPTION:[vc_row][vc_column][vc_single_image image=”61″ css_animation=”fadeInUp” alignment=”left”][/vc_column][/vc_row][vc_row][vc_column][vc_column_text css_animation=”fadeIn” font_size=”45″ font_family=”Roboto” font_weight=”500″ color=”#57529e”]\nWERELD AUTISMEDAG (VN) \n[/vc_column_text][vc_empty_space height=”10px”][vc_single_image image=”88″ img_size=”medium” css_animation=”fadeInUp” alignment=”left”][/vc_column][/vc_row][vc_row][vc_column][vc_column_text]Organisatoren van de Wereld Autismedag in Nederland zijn het Autismefonds en de Nederlandse Vereniging voor Autisme. De VN riep op 2 april 2008 Wereld Autismedag in het leven. Ook vindt er een Autismeweek plaats\, waarin activiteiten worden georganiseerd die de aandoening autisme onder de aandacht brengen. Autisme is namelijk vaak een onzichtbare handicap die invloed heeft op alle levensgebieden in alle levensfasen. Ruim één procent van de Nederlanders kampt met een vorm van autisme.[/vc_column_text][/vc_column][/vc_row][vc_row][vc_column][vc_single_image image=”61″ css_animation=”fadeInUp” alignment=”left”][/vc_column][/vc_row][vc_row][vc_column width=”1/2″]Issuekalender doorzoeken [/vc_column][vc_column width=”1/2″][/vc_column][/vc_row]
URL:https://issuekalender.nl/issue/wereld-autismedag-vn/2029-04-02/
CATEGORIES:Welzijn en gezondheid
END:VEVENT
BEGIN:VEVENT
DTSTART;VALUE=DATE:20290402
DTEND;VALUE=DATE:20290407
DTSTAMP:20260421T171405
CREATED:20241028T105755Z
LAST-MODIFIED:20241028T105756Z
UID:10009030-1869782400-1870214399@issuekalender.nl
SUMMARY:WEEK VAN DE OVERGANG
DESCRIPTION:[vc_row][vc_column][vc_single_image image=”61″ css_animation=”fadeInUp” alignment=”left”][/vc_column][/vc_row][vc_row][vc_column][vc_column_text css_animation=”fadeIn” font_size=”45″ font_family=”Roboto” font_weight=”500″ color=”#57529e”]\nWEEK VAN DE OVERGANG \n[/vc_column_text][vc_empty_space height=”10px”][vc_single_image image=”88″ img_size=”medium” css_animation=”fadeInUp” alignment=”left”][/vc_column][/vc_row][vc_row][vc_column][vc_column_text]De overgang begint zo rond het 45e levensjaar en kan wel meer dan 10 jaar duren. Elke vrouw – de helft van de bevolking dus – maakt het in haar leven mee. Toch is de overgang nog steeds een taboe\, er wordt weinig over gesproken. Zowel door vrouwen zelf als door zorgprofessionals waar vrouwen komen met klachten. Het patroon van klachten wordt vaak niet herkend als (begin van) de overgang. De landelijke week van de overgang heeft als doel de overgang beter bespreekbaar te maken en de zorg en begeleiding te verbeteren\, zodat vrouwen gezonder ouder worden.[/vc_column_text][/vc_column][/vc_row][vc_row][vc_column][vc_single_image image=”61″ css_animation=”fadeInUp” alignment=”left”][/vc_column][/vc_row][vc_row][vc_column width=”1/2″]Issuekalender doorzoeken [/vc_column][vc_column width=”1/2″][/vc_column][/vc_row]
URL:https://issuekalender.nl/issue/week-van-de-overgang-2/2029-04-02/
CATEGORIES:Mens en maatschappij,Welzijn en gezondheid
ORGANIZER;CN="Kenniscentrum Overgang":MAILTO:info@overgangsproof.nl
END:VEVENT
END:VCALENDAR