BEGIN:VCALENDAR
VERSION:2.0
PRODID:-//Issuekalender - ECPv6.9.0//NONSGML v1.0//EN
CALSCALE:GREGORIAN
METHOD:PUBLISH
X-WR-CALNAME:Issuekalender
X-ORIGINAL-URL:https://issuekalender.nl
X-WR-CALDESC:Evenementen voor Issuekalender
REFRESH-INTERVAL;VALUE=DURATION:PT1H
X-Robots-Tag:noindex
X-PUBLISHED-TTL:PT1H
BEGIN:VTIMEZONE
TZID:Europe/Amsterdam
BEGIN:DAYLIGHT
TZOFFSETFROM:+0100
TZOFFSETTO:+0200
TZNAME:CEST
DTSTART:20280326T010000
END:DAYLIGHT
BEGIN:STANDARD
TZOFFSETFROM:+0200
TZOFFSETTO:+0100
TZNAME:CET
DTSTART:20281029T010000
END:STANDARD
END:VTIMEZONE
BEGIN:VEVENT
DTSTART;VALUE=DATE:20281001
DTEND;VALUE=DATE:20281101
DTSTAMP:20260421T042331
CREATED:20230716T112619Z
LAST-MODIFIED:20241002T112825Z
UID:10005139-1853971200-1856649599@issuekalender.nl
SUMMARY:STOPTOBER
DESCRIPTION:[vc_row][vc_column][vc_single_image image=”61″ css_animation=”fadeInUp” alignment=”left”][/vc_column][/vc_row][vc_row][vc_column][vc_column_text css_animation=”fadeIn” font_size=”45″ font_family=”Roboto” font_weight=”500″ color=”#57529e”]\nSTOPTOBER \n[/vc_column_text][vc_empty_space height=”10px”][vc_single_image image=”88″ img_size=”medium” css_animation=”fadeInUp” alignment=”left”][/vc_column][/vc_row][vc_row][vc_column][vc_column_text]Stoptober is een nationale niet-roken maand in Oktober. Stoptober helpt rokers 28 dagen lang niet te roken.[/vc_column_text][/vc_column][/vc_row][vc_row][vc_column][vc_single_image image=”61″ css_animation=”fadeInUp” alignment=”left”][/vc_column][/vc_row][vc_row][vc_column width=”1/2″]Issuekalender doorzoeken [/vc_column][vc_column width=”1/2″][/vc_column][/vc_row]
URL:https://issuekalender.nl/issue/stoptober/2028-10-01/
CATEGORIES:Welzijn en gezondheid
END:VEVENT
BEGIN:VEVENT
DTSTART;VALUE=DATE:20281001
DTEND;VALUE=DATE:20281101
DTSTAMP:20260421T042331
CREATED:20230716T113340Z
LAST-MODIFIED:20241002T110840Z
UID:10005134-1853971200-1856649599@issuekalender.nl
SUMMARY:BORSTKANKERMAAND
DESCRIPTION:[vc_row][vc_column][vc_single_image image=”61″ css_animation=”fadeInUp” alignment=”left”][/vc_column][/vc_row][vc_row][vc_column][vc_column_text css_animation=”fadeIn” font_size=”45″ font_family=”Roboto” font_weight=”500″ color=”#57529e”]\nBORSTKANKERMAAND \n[/vc_column_text][vc_empty_space height=”10px”][vc_single_image image=”88″ img_size=”medium” css_animation=”fadeInUp” alignment=”left”][/vc_column][/vc_row][vc_row][vc_column][vc_column_text]1 op de 7 vrouwen in Nederland krijgt borstkanker. \nPink Ribbon financiert projecten en onderzoeken op het gebied van behandeling\, nazorg en langetermijneffecten van borstkanker. Met als doel een beter en langer leven voor de (ex) borstkankerpatiënt.[/vc_column_text][/vc_column][/vc_row][vc_row][vc_column][vc_single_image image=”61″ css_animation=”fadeInUp” alignment=”left”][/vc_column][/vc_row][vc_row][vc_column width=”1/2″]Issuekalender doorzoeken [/vc_column][vc_column width=”1/2″][/vc_column][/vc_row]
URL:https://issuekalender.nl/issue/borstkankermaand/2028-10-01/
CATEGORIES:Welzijn en gezondheid
ORGANIZER;CN="Stichting Pink Ribbon":MAILTO:info@pinkribbon.nl
END:VEVENT
BEGIN:VEVENT
DTSTART;VALUE=DATE:20281007
DTEND;VALUE=DATE:20281015
DTSTAMP:20260421T042331
CREATED:20231027T132014Z
LAST-MODIFIED:20241024T143429Z
UID:10008816-1854489600-1855180799@issuekalender.nl
SUMMARY:DE WEEK VAN ONS ETEN
DESCRIPTION:[vc_row][vc_column][vc_single_image image=”61″ css_animation=”fadeInUp” alignment=”left”][/vc_column][/vc_row][vc_row][/vc_row][vc_column][/vc_column][vc_column_text css_animation=”fadeIn” font_size=”45″ font_family=”Roboto” font_weight=”500″ color=”#57529e”]\nDE WEEK VAN ONS ETEN \n[/vc_column_text][vc_empty_space height=”10px”][vc_single_image image=”88″ img_size=”medium” css_animation=”fadeInUp” alignment=”left”][vc_row][vc_column][vc_column_text css=””]\nDe Week van Ons Eten\nDe Week van Ons Eten was een heerlijke week met heel veel mooie activiteiten waarin we de waarde van ons eten onder de aandacht gebracht hebben.[/vc_column_text][/vc_column][/vc_row]
URL:https://issuekalender.nl/issue/de-week-van-ons-eten/2028-10-07/
CATEGORIES:Welzijn en gezondheid
END:VEVENT
BEGIN:VEVENT
DTSTART;VALUE=DATE:20281009
DTEND;VALUE=DATE:20281016
DTSTAMP:20260421T042331
CREATED:20240320T140549Z
LAST-MODIFIED:20241024T151022Z
UID:10008949-1854662400-1855267199@issuekalender.nl
SUMMARY:WEEK VAN HET DONORGESPREK
DESCRIPTION:[vc_row][vc_column][vc_single_image image=”61″ css_animation=”fadeInUp” alignment=”left”][/vc_column][/vc_row][vc_row][vc_column][vc_column_text css_animation=”fadeIn” font_size=”45″ font_family=”Roboto” font_weight=”500″ color=”#57529e”]\nWEEK VAN HET DONORGESPREK \n[/vc_column_text][vc_empty_space height=”10px”][vc_single_image image=”88″ img_size=”medium” css_animation=”fadeInUp” alignment=”left”][vc_column_text font_size=”20px” font_family=”Roboto” font_weight=”normal”]\n\n\n\n\n\n\n\n\n\n[/vc_column_text][/vc_column][/vc_row][vc_row][vc_column][vc_column_text]\nTijdens de Week van het Donorgesprek stimuleren we iedereen in Nederland om met hun dierbaren in gesprek te gaan over orgaandonatie. Met één gesprek voorkom je onverwacht nieuws en moeilijke keuzes op een verdrietig moment. \nwww.donorgesprek.nl
URL:https://issuekalender.nl/issue/week-van-het-donorgesprek/2028-10-09/
CATEGORIES:Welzijn en gezondheid
END:VEVENT
BEGIN:VEVENT
DTSTART;VALUE=DATE:20281014
DTEND;VALUE=DATE:20281015
DTSTAMP:20260421T042331
CREATED:20231025T123901Z
LAST-MODIFIED:20241002T140736Z
UID:10007164-1855094400-1855180799@issuekalender.nl
SUMMARY:INTERNATIONALE DAG VAN DE PALLIATIEVE ZORG
DESCRIPTION:[vc_row][vc_column][vc_single_image image=”61″ css_animation=”fadeInUp” alignment=”left”][/vc_column][/vc_row][vc_row][vc_column][vc_column_text css_animation=”fadeIn” font_size=”45″ font_family=”Roboto” font_weight=”500″ color=”#57529e”]\nINTERNATIONALE DAG VAN DE PALLIATIEVE ZORG \n[/vc_column_text][vc_empty_space height=”10px”][vc_single_image image=”88″ img_size=”medium” css_animation=”fadeInUp” alignment=”left”][/vc_column][/vc_row][vc_row][vc_column][vc_column_text]De Internationale Dag van de Palliatieve Zorg (World Hospice and Palliative Care Day) is ieder jaar op de tweede zaterdag in oktober. \nDoor middel van landelijke en regionale activiteiten rondom de Internationale Dag van de Palliatieve Zorg willen de samenwerkende organisaties mensen in het hele land bewust maken van de mogelijkheden binnen de palliatieve zorg. Veel mensen kennen namelijk niet de juiste wegen en moeten hierdoor onnodig lang zoeken naar geschikte hulpverlening.[/vc_column_text][/vc_column][/vc_row][vc_row][vc_column][vc_single_image image=”61″ css_animation=”fadeInUp” alignment=”left”][/vc_column][/vc_row][vc_row][vc_column width=”1/2″]Issuekalender doorzoeken [/vc_column][vc_column width=”1/2″][/vc_column][/vc_row]
URL:https://issuekalender.nl/issue/internationale-dag-van-de-palliatieve-zorg/2028-10-14/
CATEGORIES:Welzijn en gezondheid
ORGANIZER;CN="WHPCA":MAILTO:info@thewhpca.org
END:VEVENT
END:VCALENDAR