BEGIN:VCALENDAR
VERSION:2.0
PRODID:-//Issuekalender - ECPv6.9.0//NONSGML v1.0//EN
CALSCALE:GREGORIAN
METHOD:PUBLISH
X-ORIGINAL-URL:https://issuekalender.nl
X-WR-CALDESC:Evenementen voor Issuekalender
REFRESH-INTERVAL;VALUE=DURATION:PT1H
X-Robots-Tag:noindex
X-PUBLISHED-TTL:PT1H
BEGIN:VTIMEZONE
TZID:Europe/Amsterdam
BEGIN:DAYLIGHT
TZOFFSETFROM:+0100
TZOFFSETTO:+0200
TZNAME:CEST
DTSTART:20280326T010000
END:DAYLIGHT
BEGIN:STANDARD
TZOFFSETFROM:+0200
TZOFFSETTO:+0100
TZNAME:CET
DTSTART:20281029T010000
END:STANDARD
END:VTIMEZONE
BEGIN:VEVENT
DTSTART;VALUE=DATE:20280925
DTEND;VALUE=DATE:20281002
DTSTAMP:20260421T042612
CREATED:20241023T140001Z
LAST-MODIFIED:20241023T140032Z
UID:10008189-1853452800-1854057599@issuekalender.nl
SUMMARY:LANDELIJKE BORSTVOEDINGSWEEK
DESCRIPTION:[vc_row][vc_column][vc_single_image image=”61″ css_animation=”fadeInUp” alignment=”left”][/vc_column][/vc_row][vc_row][vc_column][vc_column_text css_animation=”fadeIn” font_size=”45″ font_family=”Roboto” font_weight=”500″ color=”#57529e”]\nLANDELIJKE BORSTVOEDINGSWEEK \n[/vc_column_text][vc_empty_space height=”10px”][vc_single_image image=”88″ img_size=”medium” css_animation=”fadeInUp” alignment=”left”][/vc_column][/vc_row][vc_row][vc_column][vc_column_text]De Landelijke Borstvoedingsraad zet zich in voor een omgeving waar borstvoeding geven de norm is. Daarom organiseert de Landelijke Borstvoedingsraad in samenwerking met het Voedingscentrum de borstvoedingsweek. \nIeder jaar wordt de Landelijke Borstvoedingsweek georganiseerd in week 40.[/vc_column_text][/vc_column][/vc_row][vc_row][vc_column][vc_single_image image=”61″ css_animation=”fadeInUp” alignment=”left”][/vc_column][/vc_row][vc_row][vc_column width=”1/2″]Issuekalender doorzoeken [/vc_column][vc_column width=”1/2″][/vc_column][/vc_row]
URL:https://issuekalender.nl/issue/landelijke-borstvoedingsweek-check/2028-09-25/
CATEGORIES:Welzijn en gezondheid
END:VEVENT
BEGIN:VEVENT
DTSTART;VALUE=DATE:20280926
DTEND;VALUE=DATE:20280927
DTSTAMP:20260421T042612
CREATED:20230713T132444Z
LAST-MODIFIED:20241007T142427Z
UID:10007691-1853539200-1853625599@issuekalender.nl
SUMMARY:WERELD ANTICONCEPTIEDAG
DESCRIPTION:[vc_row][vc_column][vc_single_image image=”61″ css_animation=”fadeInUp” alignment=”left”][/vc_column][/vc_row][vc_row][vc_column][vc_column_text css_animation=”fadeIn” font_size=”45″ font_family=”Roboto” font_weight=”500″ color=”#57529e”]\nWERELD ANTICONCEPTIEDAG \n[/vc_column_text][vc_empty_space height=”10px”][vc_single_image image=”88″ img_size=”medium” css_animation=”fadeInUp” alignment=”left”][/vc_column][/vc_row][vc_row][vc_column][vc_column_text]De ‘Wereld Anticonceptie Dag’ (World Contraception Day) vindt sinds 2007 jaarlijks plaats op 26 september en is een initiatief van een internationaal gezelschap van organisaties op het gebied van gezinsplanning. Dit is geen dag voor geboortebeperking. Tijdens ‘Wereld Anticonceptie Dag’ wordt het belang van anticonceptie vooral benadrukt om ongewenste zwangerschap te voorkomen en wereldwijd veilige seks te promoten. 85% van de tienerzwangerschappen blijkt ongepland en jaarlijks raken miljoenen mensen besmet met SOA`s omdat ze niet weten hoe zij zich moeten beschermen. Tijdens Wereld Anticonceptiedag word het belang van anticonceptie benadrukt.[/vc_column_text][/vc_column][/vc_row][vc_row][vc_column][vc_single_image image=”61″ css_animation=”fadeInUp” alignment=”left”][/vc_column][/vc_row][vc_row][vc_column width=”1/2″]Issuekalender doorzoeken [/vc_column][vc_column width=”1/2″][/vc_column][/vc_row]
URL:https://issuekalender.nl/issue/wereld-anticonceptiedag/2028-09-26/
CATEGORIES:Welzijn en gezondheid
ORGANIZER;CN="Ketchumpleon":MAILTO:hannah.morris@ketchumpleon.com
END:VEVENT
BEGIN:VEVENT
DTSTART;VALUE=DATE:20280926
DTEND;VALUE=DATE:20280927
DTSTAMP:20260421T042612
CREATED:20231024T093002Z
LAST-MODIFIED:20241024T142638Z
UID:10008796-1853539200-1853625599@issuekalender.nl
SUMMARY:DAG VAN DE APOTHEKERSASSISTENT
DESCRIPTION:[vc_row][vc_column][vc_single_image image=”61″ css_animation=”fadeInUp” alignment=”left”][/vc_column][/vc_row][vc_row][vc_column][vc_column_text css_animation=”fadeIn” font_size=”45″ font_family=”Roboto” font_weight=”500″ color=”#57529e”]\nDAG VAN DE APOTHEKERSASSISTENT \n[/vc_column_text][vc_empty_space height=”10px”][vc_single_image image=”88″ img_size=”medium” css_animation=”fadeInUp” alignment=”left”][/vc_column][/vc_row][vc_row][vc_column][vc_column_text]De Dag van de Apothekersassistent vindt elk jaar op de vierde dinsdag van september plaats – in 2024 op dinsdag 24 september – een gelegenheid om waardering uit te spreken voor het apotheekteam.[/vc_column_text][/vc_column][/vc_row][vc_row][vc_column][vc_single_image image=”61″ css_animation=”fadeInUp” alignment=”left”][/vc_column][/vc_row][vc_row][vc_column width=”1/2″]Issuekalender doorzoeken [/vc_column][vc_column width=”1/2″][/vc_column][/vc_row]
URL:https://issuekalender.nl/issue/dag-van-de-apothekersassistent/2028-09-26/
CATEGORIES:Mens en maatschappij,Welzijn en gezondheid,Werk en welzijn
ORGANIZER;CN="KNMP":MAILTO:communicatie@knmp.nl
END:VEVENT
BEGIN:VEVENT
DTSTART;VALUE=DATE:20280926
DTEND;VALUE=DATE:20280927
DTSTAMP:20260421T042612
CREATED:20241007T141836Z
LAST-MODIFIED:20241028T094924Z
UID:10007688-1853539200-1853625599@issuekalender.nl
SUMMARY:DAG VAN DE APOTHEKERSASSISTENT
DESCRIPTION:[vc_row][vc_column][vc_single_image image=”61″ css_animation=”fadeInUp” alignment=”left”][/vc_column][/vc_row][vc_row][vc_column][vc_column_text css_animation=”fadeIn” font_size=”45″ font_family=”Roboto” font_weight=”500″ color=”#57529e”]\nDAG VAN DE APOTHEKERSASSISTENT \n[/vc_column_text][vc_empty_space height=”10px”][vc_single_image image=”88″ img_size=”medium” css_animation=”fadeInUp” alignment=”left”][/vc_column][/vc_row][vc_row][vc_column][vc_column_text css=””]De Dag van de Apothekersassistent vindt elk jaar op de vierde dinsdag van september plaats. Een gelegenheid om waardering uit te spreken voor het apotheekteam.[/vc_column_text][/vc_column][/vc_row][vc_row][vc_column][vc_single_image image=”61″ css_animation=”fadeInUp” alignment=”left”][/vc_column][/vc_row][vc_row][vc_column width=”1/2″]Issuekalender doorzoeken [/vc_column][vc_column width=”1/2″][/vc_column][/vc_row]
URL:https://issuekalender.nl/issue/dag-van-de-apothekersassistent-2/2028-09-26/
CATEGORIES:Mens en maatschappij,Welzijn en gezondheid,Werk en welzijn
ORGANIZER;CN="KNMP":MAILTO:communicatie@knmp.nl
END:VEVENT
END:VCALENDAR