BEGIN:VCALENDAR
VERSION:2.0
PRODID:-//Issuekalender - ECPv6.9.0//NONSGML v1.0//EN
CALSCALE:GREGORIAN
METHOD:PUBLISH
X-ORIGINAL-URL:https://issuekalender.nl
X-WR-CALDESC:Evenementen voor Issuekalender
REFRESH-INTERVAL;VALUE=DURATION:PT1H
X-Robots-Tag:noindex
X-PUBLISHED-TTL:PT1H
BEGIN:VTIMEZONE
TZID:Europe/Amsterdam
BEGIN:DAYLIGHT
TZOFFSETFROM:+0100
TZOFFSETTO:+0200
TZNAME:CEST
DTSTART:20280326T010000
END:DAYLIGHT
BEGIN:STANDARD
TZOFFSETFROM:+0200
TZOFFSETTO:+0100
TZNAME:CET
DTSTART:20281029T010000
END:STANDARD
END:VTIMEZONE
BEGIN:VEVENT
DTSTART;VALUE=DATE:20280501
DTEND;VALUE=DATE:20280601
DTSTAMP:20260420T203201
CREATED:20241003T100805Z
LAST-MODIFIED:20241023T122124Z
UID:10008139-1840752000-1843430399@issuekalender.nl
SUMMARY:LYME AWARENESS MAAND
DESCRIPTION:[vc_row][vc_column][vc_single_image image=”61″ css_animation=”fadeInUp” alignment=”left”][/vc_column][/vc_row][vc_row][vc_column][vc_column_text css_animation=”fadeIn” font_size=”45″ font_family=”Roboto” font_weight=”500″ color=”#57529e”]\nLYME AWARENESS MAAND \n[/vc_column_text][vc_empty_space height=”10px”][vc_single_image image=”88″ img_size=”medium” css_animation=”fadeInUp” alignment=”left”][/vc_column][/vc_row][vc_row][vc_column][vc_column_text]De ziekte van Lyme\, ook wel Lymeziekte of Borreliose genoemd\, is een aandoening die veroorzaakt wordt door de Borrelia bacterie. U kunt de ziekte oplopen door een beet van een besmette teek. \nIn de maand mei wordt er stilgestaan bij het gevaar van tekenbeten en wat het betekent om de ziekte van Lyme te hebben.[/vc_column_text][/vc_column][/vc_row][vc_row][vc_column][vc_single_image image=”61″ css_animation=”fadeInUp” alignment=”left”][/vc_column][/vc_row][vc_row][vc_column width=”1/2″]Issuekalender doorzoeken [/vc_column][vc_column width=”1/2″][/vc_column][/vc_row]
URL:https://issuekalender.nl/issue/lyme-awareness-maand-2/2028-05-01/
CATEGORIES:Overige,Welzijn en gezondheid
END:VEVENT
BEGIN:VEVENT
DTSTART;VALUE=DATE:20280516
DTEND;VALUE=DATE:20280517
DTSTAMP:20260420T203201
CREATED:20251112T092330Z
LAST-MODIFIED:20251112T092330Z
UID:10009251-1842048000-1842134399@issuekalender.nl
SUMMARY:INTERNATIONALE DAG VAN HET SAMENLEVEN IN VREDE
DESCRIPTION:[vc_row][vc_column][vc_single_image image=”61″ css_animation=”fadeInUp” alignment=”left”][/vc_column][/vc_row][vc_row][vc_column][vc_column_text css_animation=”fadeIn” font_size=”45″ font_family=”Roboto” font_weight=”500″ color=”#57529e”]\nINTERNATIONALE DAG VAN HET SAMENLEVEN IN VREDE \n[/vc_column_text][vc_empty_space height=”10px”][vc_single_image image=”88″ img_size=”medium” css_animation=”fadeInUp” alignment=”left”][/vc_column][/vc_row][vc_row][vc_column][vc_column_text]Op vrijdag 8 december 2017 hebben alle 193 VN-lidstaten met consensus besloten om de 17 mei tot Internationale Dag van het Samenleven in Vrede uit te roepen. Klik hier voor de resolutie http://www.un.org.[/vc_column_text][/vc_column][/vc_row][vc_row][vc_column][vc_single_image image=”61″ css_animation=”fadeInUp” alignment=”left”][/vc_column][/vc_row][vc_row][vc_column width=”1/2″]Issuekalender doorzoeken [/vc_column][vc_column width=”1/2″][/vc_column][/vc_row]
URL:https://issuekalender.nl/issue/internationale-dag-van-het-samen-leven-in-vrede-2/2028-05-16/
CATEGORIES:Mens en maatschappij,Sociale cohesie en integratie,Welzijn en gezondheid
END:VEVENT
END:VCALENDAR