BEGIN:VCALENDAR
VERSION:2.0
PRODID:-//Issuekalender - ECPv6.9.0//NONSGML v1.0//EN
CALSCALE:GREGORIAN
METHOD:PUBLISH
X-ORIGINAL-URL:https://issuekalender.nl
X-WR-CALDESC:Evenementen voor Issuekalender
REFRESH-INTERVAL;VALUE=DURATION:PT1H
X-Robots-Tag:noindex
X-PUBLISHED-TTL:PT1H
BEGIN:VTIMEZONE
TZID:Europe/Amsterdam
BEGIN:DAYLIGHT
TZOFFSETFROM:+0100
TZOFFSETTO:+0200
TZNAME:CEST
DTSTART:20280326T010000
END:DAYLIGHT
BEGIN:STANDARD
TZOFFSETFROM:+0200
TZOFFSETTO:+0100
TZNAME:CET
DTSTART:20281029T010000
END:STANDARD
END:VTIMEZONE
BEGIN:VEVENT
DTSTART;VALUE=DATE:20280206
DTEND;VALUE=DATE:20280207
DTSTAMP:20260420T134458
CREATED:20230714T075907Z
LAST-MODIFIED:20241024T141209Z
UID:10008325-1833408000-1833494399@issuekalender.nl
SUMMARY:INTERNATIONALE DAG TEGEN VROUWELIJKE GENITALE VERMINKING (VN)
DESCRIPTION:[vc_row][vc_column][vc_single_image image=”61″ css_animation=”fadeInUp” alignment=”left”][/vc_column][/vc_row][vc_row][vc_column][vc_column_text css_animation=”fadeIn” css=”” font_size=”45″ font_family=”Roboto” font_weight=”500″ color=”#57529e”]\nINTERNATIONALE DAG TEGEN VROUWELIJKE GENITALE VERMINKING (VN) – ZERO TOLERANCE DAY \n [/vc_column_text][vc_empty_space height=”10px”][vc_empty_space height=”10px”][vc_single_image image=”88″ img_size=”medium” css_animation=”fadeInUp” alignment=”left”][/vc_column][/vc_row][vc_row][vc_column][vc_column_text]International Day of Zero Tolerance for Female Genital Mutilation is door de VN op de kaart gezet. \nOok Nederland wordt begin jaren negentig van de vorige eeuw geconfronteerd met Vrouwelijke Genitale Verminking (vgv)\, ook wel meisjesbesnijdenis genoemd. Dit komt door immigratie van vrouwen uit landen waar vgv een gangbaar gebruik is. Pharos zet zich sinds 1993 in als kennis- en adviescentrum voor de strijd tegen vgv. De bestrijding van meisjesbesnijdenis is complex en vraagt om een brede\, gerichte en interculturele aanpak. Pharos is door de Nederlandse overheid aangewezen als landelijk kenniscentrum vgv.[/vc_column_text][/vc_column][/vc_row][vc_row][vc_column][vc_single_image image=”61″ css_animation=”fadeInUp” alignment=”left”][/vc_column][/vc_row][vc_row][vc_column width=”1/2″]Issuekalender doorzoeken [/vc_column][vc_column width=”1/2″][/vc_column][/vc_row]
URL:https://issuekalender.nl/issue/internationale-dag-tegen-vrouwelijke-genitale-verminking-vn/2028-02-06/
CATEGORIES:Mens en maatschappij,Welzijn en gezondheid
END:VEVENT
END:VCALENDAR