BEGIN:VCALENDAR
VERSION:2.0
PRODID:-//Issuekalender - ECPv6.9.0//NONSGML v1.0//EN
CALSCALE:GREGORIAN
METHOD:PUBLISH
X-ORIGINAL-URL:https://issuekalender.nl
X-WR-CALDESC:Evenementen voor Issuekalender
REFRESH-INTERVAL;VALUE=DURATION:PT1H
X-Robots-Tag:noindex
X-PUBLISHED-TTL:PT1H
BEGIN:VTIMEZONE
TZID:Europe/Amsterdam
BEGIN:DAYLIGHT
TZOFFSETFROM:+0100
TZOFFSETTO:+0200
TZNAME:CEST
DTSTART:20280326T010000
END:DAYLIGHT
BEGIN:STANDARD
TZOFFSETFROM:+0200
TZOFFSETTO:+0100
TZNAME:CET
DTSTART:20281029T010000
END:STANDARD
END:VTIMEZONE
BEGIN:VEVENT
DTSTART;VALUE=DATE:20280131
DTEND;VALUE=DATE:20280206
DTSTAMP:20260420T134425
CREATED:20251117T091555Z
LAST-MODIFIED:20251117T091555Z
UID:10009329-1832889600-1833407999@issuekalender.nl
SUMMARY:COLLECTE HERSENSTICHTING
DESCRIPTION:[vc_row][vc_column][vc_single_image image=”61″ css_animation=”fadeInUp” alignment=”left”][/vc_column][/vc_row][vc_row][vc_column][vc_column_text css_animation=”fadeIn” font_size=”45″ font_family=”Roboto” font_weight=”500″ color=”#57529e”]\nCOLLECTE HERSENSTICHTING \n[/vc_column_text][vc_empty_space height=”10px”][vc_single_image image=”88″ img_size=”medium” css_animation=”fadeInUp” alignment=”left”][/vc_column][/vc_row][vc_row][vc_column][vc_column_text css=””]Gezonde hersenen zijn van levensbelang. Door een hersenaandoening raak je vaak jezelf kwijt. Lopen\, praten en denken\, alles wat zo vanzelfsprekend lijkt\, kan zomaar voorbij zijn. Vrijwel iedereen krijgt ooit in zijn leven te maken met een hersenaandoening. Dat moet stoppen. \nDe Hersenstichting zet alles op alles om hersenen gezond te houden\, hersenaandoeningen te genezen en patiëntenzorg te verbeteren. Om dit te bereiken laten we onderzoek doen\, geven we voorlichting en voeren we vernieuwende projecten uit. \nTijdens de collecteweek zal geld verzameld worden dat bestemd is voor wetenschappelijk onderzoek\, voorlichting en samenwerkingsprojecten. Dit om de vier miljoen mensen die in ons land kampen met een hersenaandoening te helpen.[/vc_column_text][/vc_column][/vc_row][vc_row][vc_column][vc_single_image image=”61″ css_animation=”fadeInUp” alignment=”left”][/vc_column][/vc_row][vc_row][vc_column width=”1/2″]Issuekalender doorzoeken [/vc_column][vc_column width=”1/2″][/vc_column][/vc_row]
URL:https://issuekalender.nl/issue/collecte-hersenstichting-2/2028-01-31/
CATEGORIES:Welzijn en gezondheid
ORGANIZER;CN="Hersenstichting":MAILTO:info@hersenstichting.nl
END:VEVENT
BEGIN:VEVENT
DTSTART;VALUE=DATE:20280204
DTEND;VALUE=DATE:20280205
DTSTAMP:20260420T134425
CREATED:20240723T140507Z
LAST-MODIFIED:20240826T075152Z
UID:10006661-1833235200-1833321599@issuekalender.nl
SUMMARY:WERELDKANKERDAG
DESCRIPTION:[vc_row][vc_column][vc_single_image image=”61″ css_animation=”fadeInUp” alignment=”left”][/vc_column][/vc_row][vc_row][vc_column][vc_column_text css_animation=”fadeIn” font_size=”45″ font_family=”Roboto” font_weight=”500″ color=”#57529e”]\nWERELDKANKERDAG \n[/vc_column_text][vc_empty_space height=”10px”][vc_single_image image=”88″ img_size=”medium” css_animation=”fadeInUp” alignment=”left”][/vc_column][/vc_row][vc_row][vc_column][vc_column_text]Wereldkankerdag (4 februari) is door de Union for International Cancer Control (UICC) uitgeroepen tot internationale bewustwordingsdag\, waarop mensen in de hele wereld stilstaan bij kanker. Deze dag is officieel gemarkeerd om het bewustzijn rondom kanker te vergroten en om preventie\, detectie en behandelingen aan te moedigen. \nOp Wereldkankerdag stelt een groot aantal instellingen in de oncologische zorgketen de deuren open voor het publiek. IPSO\, de branche-organisatie van Nederlandse inloophuizen en psycho-oncologische centra\, initieert in de aanloop naar 4 februari een publiekscampagne om de aandacht van mensen met kanker en hun naasten\, alsmede die van verwijzers en zorgverleners\, te vestigen op de mogelijkheden van psychosociale (na)zorg bij kanker. \nOp en rondom Wereldkankerdag worden door vrijwel alle bij IPSO aangesloten inloophuizen en psycho-oncologische centra open dagen en bijzondere activiteiten georganiseerd.[/vc_column_text][/vc_column][/vc_row][vc_row][vc_column][vc_single_image image=”61″ css_animation=”fadeInUp” alignment=”left”][/vc_column][/vc_row][vc_row][vc_column width=”1/2″]Issuekalender doorzoeken [/vc_column][vc_column width=”1/2″][/vc_column][/vc_row]
URL:https://issuekalender.nl/issue/wereldkankerdag-2/2028-02-04/
CATEGORIES:Welzijn en gezondheid
END:VEVENT
END:VCALENDAR