BEGIN:VCALENDAR
VERSION:2.0
PRODID:-//Issuekalender - ECPv6.9.0//NONSGML v1.0//EN
CALSCALE:GREGORIAN
METHOD:PUBLISH
X-ORIGINAL-URL:https://issuekalender.nl
X-WR-CALDESC:Evenementen voor Issuekalender
REFRESH-INTERVAL;VALUE=DURATION:PT1H
X-Robots-Tag:noindex
X-PUBLISHED-TTL:PT1H
BEGIN:VTIMEZONE
TZID:Europe/Amsterdam
BEGIN:DAYLIGHT
TZOFFSETFROM:+0100
TZOFFSETTO:+0200
TZNAME:CEST
DTSTART:20270328T010000
END:DAYLIGHT
BEGIN:STANDARD
TZOFFSETFROM:+0200
TZOFFSETTO:+0100
TZNAME:CET
DTSTART:20271031T010000
END:STANDARD
END:VTIMEZONE
BEGIN:VEVENT
DTSTART;VALUE=DATE:20271001
DTEND;VALUE=DATE:20271101
DTSTAMP:20260420T025609
CREATED:20230716T112619Z
LAST-MODIFIED:20241002T112825Z
UID:10004177-1822348800-1825027199@issuekalender.nl
SUMMARY:STOPTOBER
DESCRIPTION:[vc_row][vc_column][vc_single_image image=”61″ css_animation=”fadeInUp” alignment=”left”][/vc_column][/vc_row][vc_row][vc_column][vc_column_text css_animation=”fadeIn” font_size=”45″ font_family=”Roboto” font_weight=”500″ color=”#57529e”]\nSTOPTOBER \n[/vc_column_text][vc_empty_space height=”10px”][vc_single_image image=”88″ img_size=”medium” css_animation=”fadeInUp” alignment=”left”][/vc_column][/vc_row][vc_row][vc_column][vc_column_text]Stoptober is een nationale niet-roken maand in Oktober. Stoptober helpt rokers 28 dagen lang niet te roken.[/vc_column_text][/vc_column][/vc_row][vc_row][vc_column][vc_single_image image=”61″ css_animation=”fadeInUp” alignment=”left”][/vc_column][/vc_row][vc_row][vc_column width=”1/2″]Issuekalender doorzoeken [/vc_column][vc_column width=”1/2″][/vc_column][/vc_row]
URL:https://issuekalender.nl/issue/stoptober/2027-10-01/
CATEGORIES:Welzijn en gezondheid
END:VEVENT
BEGIN:VEVENT
DTSTART;VALUE=DATE:20271001
DTEND;VALUE=DATE:20271101
DTSTAMP:20260420T025609
CREATED:20230716T113340Z
LAST-MODIFIED:20241002T110840Z
UID:10004212-1822348800-1825027199@issuekalender.nl
SUMMARY:BORSTKANKERMAAND
DESCRIPTION:[vc_row][vc_column][vc_single_image image=”61″ css_animation=”fadeInUp” alignment=”left”][/vc_column][/vc_row][vc_row][vc_column][vc_column_text css_animation=”fadeIn” font_size=”45″ font_family=”Roboto” font_weight=”500″ color=”#57529e”]\nBORSTKANKERMAAND \n[/vc_column_text][vc_empty_space height=”10px”][vc_single_image image=”88″ img_size=”medium” css_animation=”fadeInUp” alignment=”left”][/vc_column][/vc_row][vc_row][vc_column][vc_column_text]1 op de 7 vrouwen in Nederland krijgt borstkanker. \nPink Ribbon financiert projecten en onderzoeken op het gebied van behandeling\, nazorg en langetermijneffecten van borstkanker. Met als doel een beter en langer leven voor de (ex) borstkankerpatiënt.[/vc_column_text][/vc_column][/vc_row][vc_row][vc_column][vc_single_image image=”61″ css_animation=”fadeInUp” alignment=”left”][/vc_column][/vc_row][vc_row][vc_column width=”1/2″]Issuekalender doorzoeken [/vc_column][vc_column width=”1/2″][/vc_column][/vc_row]
URL:https://issuekalender.nl/issue/borstkankermaand/2027-10-01/
CATEGORIES:Welzijn en gezondheid
ORGANIZER;CN="Stichting Pink Ribbon":MAILTO:info@pinkribbon.nl
END:VEVENT
BEGIN:VEVENT
DTSTART;VALUE=DATE:20271011
DTEND;VALUE=DATE:20271018
DTSTAMP:20260420T025609
CREATED:20240320T140549Z
LAST-MODIFIED:20241024T151022Z
UID:10008948-1823212800-1823817599@issuekalender.nl
SUMMARY:WEEK VAN HET DONORGESPREK
DESCRIPTION:[vc_row][vc_column][vc_single_image image=”61″ css_animation=”fadeInUp” alignment=”left”][/vc_column][/vc_row][vc_row][vc_column][vc_column_text css_animation=”fadeIn” font_size=”45″ font_family=”Roboto” font_weight=”500″ color=”#57529e”]\nWEEK VAN HET DONORGESPREK \n[/vc_column_text][vc_empty_space height=”10px”][vc_single_image image=”88″ img_size=”medium” css_animation=”fadeInUp” alignment=”left”][vc_column_text font_size=”20px” font_family=”Roboto” font_weight=”normal”]\n\n\n\n\n\n\n\n\n\n[/vc_column_text][/vc_column][/vc_row][vc_row][vc_column][vc_column_text]\nTijdens de Week van het Donorgesprek stimuleren we iedereen in Nederland om met hun dierbaren in gesprek te gaan over orgaandonatie. Met één gesprek voorkom je onverwacht nieuws en moeilijke keuzes op een verdrietig moment. \nwww.donorgesprek.nl
URL:https://issuekalender.nl/issue/week-van-het-donorgesprek/2027-10-11/
CATEGORIES:Welzijn en gezondheid
END:VEVENT
BEGIN:VEVENT
DTSTART;VALUE=DATE:20271014
DTEND;VALUE=DATE:20271015
DTSTAMP:20260420T025609
CREATED:20231207T090640Z
LAST-MODIFIED:20251112T111315Z
UID:10007137-1823472000-1823558399@issuekalender.nl
SUMMARY:WORLD SIGHT DAY
DESCRIPTION:[vc_row][vc_column][vc_single_image image=”61″ css_animation=”fadeInUp” alignment=”left”][/vc_column][/vc_row][vc_row][vc_column][vc_column_text css_animation=”fadeIn” font_size=”45″ font_family=”Roboto” font_weight=”500″ color=”#57529e”]\nWORLD SIGHT DAY \n[/vc_column_text][vc_empty_space height=”10px”][vc_single_image image=”88″ img_size=”medium” css_animation=”fadeInUp” alignment=”left”][/vc_column][/vc_row][vc_row][vc_column][vc_column_text]The Right to Sight’ is de naam van het Global Initiative dat in 1999 is opgezet door de Wereldgezondheidsorganisatie (WHO) en de International Agency for the Prevention of Blindness (IAPB). Het doel van dit initiatief is het elimineren van alle gevallen van vermijdbare slechtziendheid en blindheid\, omdat iedereen recht heeft op een goed gezichtsvermogen. De World Sight Day is iedere tweede donderdag van oktober.[/vc_column_text][/vc_column][/vc_row][vc_row][vc_column][vc_single_image image=”61″ css_animation=”fadeInUp” alignment=”left”][/vc_column][/vc_row][vc_row][vc_column width=”1/2″]Issuekalender doorzoeken [/vc_column][vc_column width=”1/2″][/vc_column][/vc_row]
URL:https://issuekalender.nl/issue/world-sight-day/2027-10-14/
CATEGORIES:Overige,Veiligheid,Welzijn en gezondheid
END:VEVENT
END:VCALENDAR