BEGIN:VCALENDAR
VERSION:2.0
PRODID:-//Issuekalender - ECPv6.9.0//NONSGML v1.0//EN
CALSCALE:GREGORIAN
METHOD:PUBLISH
X-ORIGINAL-URL:https://issuekalender.nl
X-WR-CALDESC:Evenementen voor Issuekalender
REFRESH-INTERVAL;VALUE=DURATION:PT1H
X-Robots-Tag:noindex
X-PUBLISHED-TTL:PT1H
BEGIN:VTIMEZONE
TZID:Europe/Amsterdam
BEGIN:DAYLIGHT
TZOFFSETFROM:+0100
TZOFFSETTO:+0200
TZNAME:CEST
DTSTART:20270328T010000
END:DAYLIGHT
BEGIN:STANDARD
TZOFFSETFROM:+0200
TZOFFSETTO:+0100
TZNAME:CET
DTSTART:20271031T010000
END:STANDARD
END:VTIMEZONE
BEGIN:VEVENT
DTSTART;VALUE=DATE:20270927
DTEND;VALUE=DATE:20271004
DTSTAMP:20260419T214811
CREATED:20241023T140001Z
LAST-MODIFIED:20241023T140032Z
UID:10008188-1822003200-1822607999@issuekalender.nl
SUMMARY:LANDELIJKE BORSTVOEDINGSWEEK
DESCRIPTION:[vc_row][vc_column][vc_single_image image=”61″ css_animation=”fadeInUp” alignment=”left”][/vc_column][/vc_row][vc_row][vc_column][vc_column_text css_animation=”fadeIn” font_size=”45″ font_family=”Roboto” font_weight=”500″ color=”#57529e”]\nLANDELIJKE BORSTVOEDINGSWEEK \n[/vc_column_text][vc_empty_space height=”10px”][vc_single_image image=”88″ img_size=”medium” css_animation=”fadeInUp” alignment=”left”][/vc_column][/vc_row][vc_row][vc_column][vc_column_text]De Landelijke Borstvoedingsraad zet zich in voor een omgeving waar borstvoeding geven de norm is. Daarom organiseert de Landelijke Borstvoedingsraad in samenwerking met het Voedingscentrum de borstvoedingsweek. \nIeder jaar wordt de Landelijke Borstvoedingsweek georganiseerd in week 40.[/vc_column_text][/vc_column][/vc_row][vc_row][vc_column][vc_single_image image=”61″ css_animation=”fadeInUp” alignment=”left”][/vc_column][/vc_row][vc_row][vc_column width=”1/2″]Issuekalender doorzoeken [/vc_column][vc_column width=”1/2″][/vc_column][/vc_row]
URL:https://issuekalender.nl/issue/landelijke-borstvoedingsweek-check/2027-09-27/
CATEGORIES:Welzijn en gezondheid
END:VEVENT
BEGIN:VEVENT
DTSTART;VALUE=DATE:20271001
DTEND;VALUE=DATE:20271101
DTSTAMP:20260419T214811
CREATED:20230716T112619Z
LAST-MODIFIED:20241002T112825Z
UID:10004177-1822348800-1825027199@issuekalender.nl
SUMMARY:STOPTOBER
DESCRIPTION:[vc_row][vc_column][vc_single_image image=”61″ css_animation=”fadeInUp” alignment=”left”][/vc_column][/vc_row][vc_row][vc_column][vc_column_text css_animation=”fadeIn” font_size=”45″ font_family=”Roboto” font_weight=”500″ color=”#57529e”]\nSTOPTOBER \n[/vc_column_text][vc_empty_space height=”10px”][vc_single_image image=”88″ img_size=”medium” css_animation=”fadeInUp” alignment=”left”][/vc_column][/vc_row][vc_row][vc_column][vc_column_text]Stoptober is een nationale niet-roken maand in Oktober. Stoptober helpt rokers 28 dagen lang niet te roken.[/vc_column_text][/vc_column][/vc_row][vc_row][vc_column][vc_single_image image=”61″ css_animation=”fadeInUp” alignment=”left”][/vc_column][/vc_row][vc_row][vc_column width=”1/2″]Issuekalender doorzoeken [/vc_column][vc_column width=”1/2″][/vc_column][/vc_row]
URL:https://issuekalender.nl/issue/stoptober/2027-10-01/
CATEGORIES:Welzijn en gezondheid
END:VEVENT
BEGIN:VEVENT
DTSTART;VALUE=DATE:20271001
DTEND;VALUE=DATE:20271101
DTSTAMP:20260419T214811
CREATED:20230716T113340Z
LAST-MODIFIED:20241002T110840Z
UID:10004212-1822348800-1825027199@issuekalender.nl
SUMMARY:BORSTKANKERMAAND
DESCRIPTION:[vc_row][vc_column][vc_single_image image=”61″ css_animation=”fadeInUp” alignment=”left”][/vc_column][/vc_row][vc_row][vc_column][vc_column_text css_animation=”fadeIn” font_size=”45″ font_family=”Roboto” font_weight=”500″ color=”#57529e”]\nBORSTKANKERMAAND \n[/vc_column_text][vc_empty_space height=”10px”][vc_single_image image=”88″ img_size=”medium” css_animation=”fadeInUp” alignment=”left”][/vc_column][/vc_row][vc_row][vc_column][vc_column_text]1 op de 7 vrouwen in Nederland krijgt borstkanker. \nPink Ribbon financiert projecten en onderzoeken op het gebied van behandeling\, nazorg en langetermijneffecten van borstkanker. Met als doel een beter en langer leven voor de (ex) borstkankerpatiënt.[/vc_column_text][/vc_column][/vc_row][vc_row][vc_column][vc_single_image image=”61″ css_animation=”fadeInUp” alignment=”left”][/vc_column][/vc_row][vc_row][vc_column width=”1/2″]Issuekalender doorzoeken [/vc_column][vc_column width=”1/2″][/vc_column][/vc_row]
URL:https://issuekalender.nl/issue/borstkankermaand/2027-10-01/
CATEGORIES:Welzijn en gezondheid
ORGANIZER;CN="Stichting Pink Ribbon":MAILTO:info@pinkribbon.nl
END:VEVENT
BEGIN:VEVENT
DTSTART;VALUE=DATE:20271002
DTEND;VALUE=DATE:20271003
DTSTAMP:20260419T214811
CREATED:20230716T112240Z
LAST-MODIFIED:20241002T114221Z
UID:10004157-1822435200-1822521599@issuekalender.nl
SUMMARY:INTERNATIONALE DAG VAN DE GEWELDLOOSHEID (VN)
DESCRIPTION:[vc_row][vc_column][vc_single_image image=”61″ css_animation=”fadeInUp” alignment=”left”][/vc_column][/vc_row][vc_row][vc_column][vc_column_text css_animation=”fadeIn” font_size=”45″ font_family=”Roboto” font_weight=”500″ color=”#57529e”]\nINTERNATIONALE DAG VAN DE GEWELDLOOSHEID (VN) \n[/vc_column_text][vc_empty_space height=”10px”][vc_single_image image=”88″ img_size=”medium” css_animation=”fadeInUp” alignment=”left”][/vc_column][/vc_row][vc_row][vc_column][vc_column_text]Internationale Dag van de Geweldloosheid/International Day of Non-Violence \nElk jaar worden lidlanden opgeroepen om 2 oktober op gepaste wijze te herdenken en de boodschap van geweldloosheid uit te dragen. Willekeurig geweld\, tolerantie\, het volledige respect voor alle mensenrechten en fundamentele vrijheden van allen\, democratie en begrip voor elkaars waarden en normen.[/vc_column_text][/vc_column][/vc_row][vc_row][vc_column][vc_single_image image=”61″ css_animation=”fadeInUp” alignment=”left”][/vc_column][/vc_row][vc_row][vc_column width=”1/2″]Issuekalender doorzoeken [/vc_column][vc_column width=”1/2″][/vc_column][/vc_row]
URL:https://issuekalender.nl/issue/internationale-dag-van-de-geweldloosheid-vn/2027-10-02/
CATEGORIES:Mens en maatschappij,Overige,Veiligheid,Welzijn en gezondheid
END:VEVENT
BEGIN:VEVENT
DTSTART;VALUE=DATE:20271002
DTEND;VALUE=DATE:20271010
DTSTAMP:20260419T214811
CREATED:20231027T132014Z
LAST-MODIFIED:20241024T143429Z
UID:10008815-1822435200-1823126399@issuekalender.nl
SUMMARY:DE WEEK VAN ONS ETEN
DESCRIPTION:[vc_row][vc_column][vc_single_image image=”61″ css_animation=”fadeInUp” alignment=”left”][/vc_column][/vc_row][vc_row][/vc_row][vc_column][/vc_column][vc_column_text css_animation=”fadeIn” font_size=”45″ font_family=”Roboto” font_weight=”500″ color=”#57529e”]\nDE WEEK VAN ONS ETEN \n[/vc_column_text][vc_empty_space height=”10px”][vc_single_image image=”88″ img_size=”medium” css_animation=”fadeInUp” alignment=”left”][vc_row][vc_column][vc_column_text css=””]\nDe Week van Ons Eten\nDe Week van Ons Eten was een heerlijke week met heel veel mooie activiteiten waarin we de waarde van ons eten onder de aandacht gebracht hebben.[/vc_column_text][/vc_column][/vc_row]
URL:https://issuekalender.nl/issue/de-week-van-ons-eten/2027-10-02/
CATEGORIES:Welzijn en gezondheid
END:VEVENT
END:VCALENDAR