BEGIN:VCALENDAR
VERSION:2.0
PRODID:-//Issuekalender - ECPv6.9.0//NONSGML v1.0//EN
CALSCALE:GREGORIAN
METHOD:PUBLISH
X-ORIGINAL-URL:https://issuekalender.nl
X-WR-CALDESC:Evenementen voor Issuekalender
REFRESH-INTERVAL;VALUE=DURATION:PT1H
X-Robots-Tag:noindex
X-PUBLISHED-TTL:PT1H
BEGIN:VTIMEZONE
TZID:Europe/Amsterdam
BEGIN:DAYLIGHT
TZOFFSETFROM:+0100
TZOFFSETTO:+0200
TZNAME:CEST
DTSTART:20300331T010000
END:DAYLIGHT
BEGIN:STANDARD
TZOFFSETFROM:+0200
TZOFFSETTO:+0100
TZNAME:CET
DTSTART:20301027T010000
END:STANDARD
END:VTIMEZONE
BEGIN:VEVENT
DTSTART;VALUE=DATE:20300901
DTEND;VALUE=DATE:20300908
DTSTAMP:20260423T004803
CREATED:20251117T114139Z
LAST-MODIFIED:20251117T114139Z
UID:10009417-1914451200-1915055999@issuekalender.nl
SUMMARY:COLLECTE PRINSES BEATRIX SPIERFONDS
DESCRIPTION:[vc_row][vc_column][vc_single_image image=”61″ css_animation=”fadeInUp” alignment=”left”][/vc_column][/vc_row][vc_row][vc_column][vc_column_text css_animation=”fadeIn” font_size=”45″ font_family=”Roboto” font_weight=”500″ color=”#57529e”]\nCOLLECTE PRINSES BEATRIX SPIERFONDS \n[/vc_column_text][vc_empty_space height=”10px”][vc_single_image image=”88″ img_size=”medium” css_animation=”fadeInUp” alignment=”left”][/vc_column][/vc_row][vc_row][vc_column][vc_column_text]Het Prinses Beatrix Spierfonds bestrijdt spierziekten door het financieren van wetenschappelijk onderzoek en zet zich in om de kwaliteit van leven van patiënten en hun familie te verbeteren.[/vc_column_text][/vc_column][/vc_row][vc_row][vc_column][vc_single_image image=”61″ css_animation=”fadeInUp” alignment=”left”][/vc_column][/vc_row][vc_row][vc_column width=”1/2″]Issuekalender doorzoeken [/vc_column][vc_column width=”1/2″][/vc_column][/vc_row]
URL:https://issuekalender.nl/issue/collecte-prinses-beatrix-spierfonds-2/2030-09-01/
CATEGORIES:Welzijn en gezondheid
ORGANIZER;CN="Prinses Beatrix Spierfonds":MAILTO:info@prinsesbeatrixspierfonds.nl
END:VEVENT
BEGIN:VEVENT
DTSTART;VALUE=DATE:20300908
DTEND;VALUE=DATE:20300916
DTSTAMP:20260423T004803
CREATED:20230712T110629Z
LAST-MODIFIED:20251117T114037Z
UID:10009413-1915056000-1915747199@issuekalender.nl
SUMMARY:WEEK VAN LEZEN EN SCHRIJVEN
DESCRIPTION:[vc_row][vc_column][vc_single_image image=”61″ css_animation=”fadeInUp” alignment=”left”][/vc_column][/vc_row][vc_row][vc_column][vc_column_text css_animation=”fadeIn” font_size=”45″ font_family=”Roboto” font_weight=”500″ color=”#57529e”]\nWEEK VAN LEZEN EN SCHRIJVEN \n[/vc_column_text][vc_empty_space height=”10px”][vc_single_image image=”88″ img_size=”medium” css_animation=”fadeInUp” alignment=”left”][/vc_column][/vc_row][vc_row][vc_column][vc_column_text]In Nederland hebben 2\,5 miljoen volwassenen moeite met lezen\, schrijven en/of rekenen. We vragen iedereen om tijdens de Week van Lezen en Schrijven (voorheen Week van de Alfabetisering) een (extra) bijdrage te leveren aan een geletterd Nederland\, door taal- en rekenactiviteiten te organiseren. De week wordt elk jaar georganiseerd rondom de Dag van de Alfabetisering van 8 september.[/vc_column_text][/vc_column][/vc_row][vc_row][vc_column][vc_single_image image=”61″ css_animation=”fadeInUp” alignment=”left”][/vc_column][/vc_row][vc_row][vc_column width=”1/2″]Issuekalender doorzoeken [/vc_column][vc_column width=”1/2″][/vc_column][/vc_row]
URL:https://issuekalender.nl/issue/week-van-lezen-en-schrijven/2030-09-08/
CATEGORIES:Onderwijs en educatie,Welzijn en gezondheid
ORGANIZER;CN="Stichting Lezen & Schrijven":MAILTO:info@lezenenschrijven.nl
END:VEVENT
BEGIN:VEVENT
DTSTART;VALUE=DATE:20300909
DTEND;VALUE=DATE:20300915
DTSTAMP:20260423T004803
CREATED:20251117T114150Z
LAST-MODIFIED:20251117T114151Z
UID:10009421-1915142400-1915660799@issuekalender.nl
SUMMARY:COLLECTE NIERSTICHTING
DESCRIPTION:[vc_row][vc_column][vc_single_image image=”61″ css_animation=”fadeInUp” alignment=”left”][/vc_column][/vc_row][vc_row][vc_column][vc_column_text css_animation=”fadeIn” font_size=”45″ font_family=”Roboto” font_weight=”500″ color=”#57529e”]\nCOLLECTE NIERSTICHTING \n[/vc_column_text][vc_empty_space height=”10px”][vc_single_image image=”88″ img_size=”medium” css_animation=”fadeInUp” alignment=”left”][vc_column_text css_animation=”fadeIn” font_size=”20px” font_family=”Roboto” font_weight=”normal”]\n\n17-09-2023 – 23-09-2023 | Mens en maatschappij\, Welzijn en gezondheid\n\n\n[/vc_column_text][/vc_column][/vc_row][vc_row][vc_column][vc_column_text]Op dit moment overlijdt  1 op de 6 dialysepatiënten en is de wachttijd voor een donornier 4 jaar. Dat is te lang. De Nierstichting zet alles op alles om de wachtlijst te verkorten. Bijvoorbeeld door het aantal donoren te vergroten. En onderzoek te financieren dat de kans op afstoting moet verkleinen.[/vc_column_text][/vc_column][/vc_row][vc_row][vc_column][vc_single_image image=”61″ css_animation=”fadeInUp” alignment=”left”][/vc_column][/vc_row][vc_row][vc_column width=”1/2″]Issuekalender doorzoeken [/vc_column][vc_column width=”1/2″][/vc_column][/vc_row]
URL:https://issuekalender.nl/issue/collecte-nierstichting-2/2030-09-09/
CATEGORIES:Mens en maatschappij,Welzijn en gezondheid
END:VEVENT
BEGIN:VEVENT
DTSTART;VALUE=DATE:20300916
DTEND;VALUE=DATE:20300923
DTSTAMP:20260423T004803
CREATED:20251112T085539Z
LAST-MODIFIED:20251112T085539Z
UID:10009232-1915747200-1916351999@issuekalender.nl
SUMMARY:NATIONALE VITALITEITSWEEK
DESCRIPTION:[vc_row][vc_column][vc_single_image image=”61″ css_animation=”fadeInUp” alignment=”left”][/vc_column][/vc_row][vc_row][vc_column][vc_column_text css_animation=”fadeIn” font_size=”45″ font_family=”Roboto” font_weight=”500″ color=”#57529e”]\nNATIONALE VITALITEITSWEEK \n[/vc_column_text][vc_empty_space height=”10px”][vc_single_image image=”88″ img_size=”medium” css_animation=”fadeInUp” alignment=”left”][/vc_column][/vc_row][vc_row][vc_column][vc_column_text]In de laatste week van september (week 39) vindt de Nationale Vitaliteitsweek plaats! Gedurende deze week van vitaliteit\, die sinds 2015 jaarlijks plaatsvindt\, kan je verbinden met gelijkgestemden en nieuwe informatie\, inspiratie en kennis opdoen op het gebied van vitaliteit & gezondheid. Een week lang aandacht en activiteiten gericht op het vergroten van vitaliteit en meer verbinding in het Nederlands bedrijfsleven! \nDoel\nHet doel van de Nationale Vitaliteitsweek is werkend Nederland bewust te maken van het belang van de eigen vitaliteit en het nemen van de eigen regie daarvoor.[/vc_column_text][/vc_column][/vc_row][vc_row][vc_column][vc_single_image image=”61″ css_animation=”fadeInUp” alignment=”left”][/vc_column][/vc_row][vc_row][vc_column width=”1/2″]Issuekalender doorzoeken [/vc_column][vc_column width=”1/2″][/vc_column][/vc_row]
URL:https://issuekalender.nl/issue/nationale-vitaliteitsweek-2/2030-09-16/
CATEGORIES:Welzijn en gezondheid
ORGANIZER;CN="NGvV":MAILTO:info@ngvv.nl
END:VEVENT
END:VCALENDAR