BEGIN:VCALENDAR
VERSION:2.0
PRODID:-//Issuekalender - ECPv6.9.0//NONSGML v1.0//EN
CALSCALE:GREGORIAN
METHOD:PUBLISH
X-ORIGINAL-URL:https://issuekalender.nl
X-WR-CALDESC:Evenementen voor Issuekalender
REFRESH-INTERVAL;VALUE=DURATION:PT1H
X-Robots-Tag:noindex
X-PUBLISHED-TTL:PT1H
BEGIN:VTIMEZONE
TZID:Europe/Amsterdam
BEGIN:DAYLIGHT
TZOFFSETFROM:+0100
TZOFFSETTO:+0200
TZNAME:CEST
DTSTART:20300331T010000
END:DAYLIGHT
BEGIN:STANDARD
TZOFFSETFROM:+0200
TZOFFSETTO:+0100
TZNAME:CET
DTSTART:20301027T010000
END:STANDARD
END:VTIMEZONE
BEGIN:VEVENT
DTSTART;VALUE=DATE:20300503
DTEND;VALUE=DATE:20300504
DTSTAMP:20260422T080650
CREATED:20230716T092043Z
LAST-MODIFIED:20251111T131015Z
UID:10009208-1903996800-1904083199@issuekalender.nl
SUMMARY:NATIONALE DAG VAN EMPATHIE
DESCRIPTION:[vc_row][vc_column][vc_single_image image=”61″ css_animation=”fadeInUp” alignment=”left”][/vc_column][/vc_row][vc_row][vc_column][vc_column_text css_animation=”fadeIn” font_size=”45″ font_family=”Roboto” font_weight=”500″ color=”#57529e”]\nNATIONALE DAG VAN EMPATHIE \n[/vc_column_text][vc_empty_space height=”10px”][vc_single_image image=”88″ img_size=”medium” css_animation=”fadeInUp” alignment=”left”][/vc_column][/vc_row][vc_row][vc_column][vc_column_text]Op 3 mei\, aan de vooravond van de Nationale Herdenking en Bevrijdingsdag\, wordt de nationale Dag van Empathie georganiseerd. Met de Dag van Empathie willen Stichting Nederland Wordt Beter en de Openbare Bibliotheek Amsterdam zorgen voor meer respect\, begrip en empathie tussen de verschillende groepen in de Nederlandse samenleving.[/vc_column_text][/vc_column][/vc_row][vc_row][vc_column][vc_single_image image=”61″ css_animation=”fadeInUp” alignment=”left”][/vc_column][/vc_row][vc_row][vc_column width=”1/2″]Issuekalender doorzoeken [/vc_column][vc_column width=”1/2″][/vc_column][/vc_row]
URL:https://issuekalender.nl/issue/nationale-dag-van-empathie/2030-05-03/
CATEGORIES:Mens en maatschappij,Overige,Welzijn en gezondheid
ORGANIZER;CN="Stichting Nederland Wordt Beter":MAILTO:info@nederlandwordtbeter.nl
END:VEVENT
BEGIN:VEVENT
DTSTART;VALUE=DATE:20300505
DTEND;VALUE=DATE:20300506
DTSTAMP:20260422T080650
CREATED:20230716T092409Z
LAST-MODIFIED:20251111T131356Z
UID:10009212-1904169600-1904255999@issuekalender.nl
SUMMARY:INTERNATIONALE DAG VAN DE HANDHYGIËNE
DESCRIPTION:[vc_row][vc_column][vc_single_image image=”61″ css_animation=”fadeInUp” alignment=”left”][/vc_column][/vc_row][vc_row][vc_column][vc_column_text css_animation=”fadeIn” font_size=”45″ font_family=”Roboto” font_weight=”500″ color=”#57529e”]\nINTERNATIONALE DAG VAN DE HANDHYGIËNE \n[/vc_column_text][vc_empty_space height=”10px”][vc_single_image image=”88″ img_size=”medium” css_animation=”fadeInUp” alignment=”left”][/vc_column][/vc_row][vc_row][vc_column][vc_column_text]Hygiëne is altijd belangrijk\, maar helemaal in de gezondsheidszorg. Daarom organiseert de Wereld Gezondsheids Organisatie op 5 mei de Internationale Dag van de Handhygiëne om zorgmedewerkers bewust te maken van het belang van hygiëne.[/vc_column_text][/vc_column][/vc_row][vc_row][vc_column][vc_single_image image=”61″ css_animation=”fadeInUp” alignment=”left”][/vc_column][/vc_row][vc_row][vc_column width=”1/2″]Issuekalender doorzoeken [/vc_column][vc_column width=”1/2″][/vc_column][/vc_row]
URL:https://issuekalender.nl/issue/internationale-dag-van-de-handhygiene/2030-05-05/
CATEGORIES:Overige,Welzijn en gezondheid
END:VEVENT
BEGIN:VEVENT
DTSTART;VALUE=DATE:20300505
DTEND;VALUE=DATE:20300506
DTSTAMP:20260422T080650
CREATED:20230716T092521Z
LAST-MODIFIED:20251111T131457Z
UID:10009213-1904169600-1904255999@issuekalender.nl
SUMMARY:INTERNATIONALE DAG VAN DE VROEDVROUW
DESCRIPTION:[vc_row][vc_column][vc_single_image image=”61″ css_animation=”fadeInUp” alignment=”left”][/vc_column][/vc_row][vc_row][vc_column][vc_column_text css_animation=”fadeIn” font_size=”45″ font_family=”Roboto” font_weight=”500″ color=”#57529e”]\nINTERNATIONALE DAG VAN DE VROEDVROUW \n[/vc_column_text][vc_empty_space height=”10px”][vc_single_image image=”88″ img_size=”medium” css_animation=”fadeInUp” alignment=”left”][/vc_column][/vc_row][vc_row][vc_column][vc_column_text]In ontwikkelingslanden als Sierra Leone\, Afghanistan en Zuid-Sudan sterven in vergelijking met de Westerse wereld nog veel te veel vrouwen aan de gevolgen van zwangerschap en bevalling. De Internationale Dag van de Vroedvrouw vestigt de aandacht op het feit dat\, met name in minder ontwikkelde gebieden\, de vroedvrouw van groot belang is.[/vc_column_text][/vc_column][/vc_row][vc_row][vc_column][vc_single_image image=”61″ css_animation=”fadeInUp” alignment=”left”][/vc_column][/vc_row][vc_row][vc_column width=”1/2″]Issuekalender doorzoeken [/vc_column][vc_column width=”1/2″][/vc_column][/vc_row]
URL:https://issuekalender.nl/issue/internationale-dag-van-de-vroedvrouw/2030-05-05/
CATEGORIES:Overige,Welzijn en gezondheid
ORGANIZER;CN="International Midwives":MAILTO:info@internationalmidwives.org
END:VEVENT
BEGIN:VEVENT
DTSTART;VALUE=DATE:20300506
DTEND;VALUE=DATE:20300507
DTSTAMP:20260422T080650
CREATED:20230716T092707Z
LAST-MODIFIED:20251111T131541Z
UID:10009220-1904256000-1904342399@issuekalender.nl
SUMMARY:INTERNATIONALE ANTI-DIEETDAG
DESCRIPTION:[vc_row][vc_column][vc_single_image image=”61″ css_animation=”fadeInUp” alignment=”left”][/vc_column][/vc_row][vc_row][vc_column][vc_column_text css_animation=”fadeIn” font_size=”45″ font_family=”Roboto” font_weight=”500″ color=”#57529e”]\nINTERNATIONALE ANTI-DIEETDAG \n[/vc_column_text][vc_empty_space height=”10px”][vc_single_image image=”88″ img_size=”medium” css_animation=”fadeInUp” alignment=”left”][/vc_column][/vc_row][vc_row][vc_column][vc_column_text]Op Internationale Anti-Dieetdag wordt stil gestaan bij de grote plaats die gewicht en de obsessie om slank te zijn in onze samenleving inneemt. Op deze dag denken we niet aan diëten en afvallen\, maar meer aan lekker en gezond eten en met plezier bewegen. Ook geldt de dag als herdenkingsdag voor alle mensen die gestorven zijn of blijvend letsel opgelopen hebben als gevolg van het slankheidsideaal\, zij het aan anorexia nervosa\, of als gevolg van een afslankdieet of -operatie.[/vc_column_text][/vc_column][/vc_row][vc_row][vc_column][vc_single_image image=”61″ css_animation=”fadeInUp” alignment=”left”][/vc_column][/vc_row][vc_row][vc_column width=”1/2″]Issuekalender doorzoeken [/vc_column][vc_column width=”1/2″][/vc_column][/vc_row]
URL:https://issuekalender.nl/issue/internationale-anti-dieetdag/2030-05-06/
CATEGORIES:Overige,Welzijn en gezondheid
END:VEVENT
BEGIN:VEVENT
DTSTART;VALUE=DATE:20300512
DTEND;VALUE=DATE:20300513
DTSTAMP:20260422T080650
CREATED:20230716T093744Z
LAST-MODIFIED:20251111T131821Z
UID:10009225-1904774400-1904860799@issuekalender.nl
SUMMARY:DAG VAN DE VERPLEGING
DESCRIPTION:[vc_row][vc_column][vc_single_image image=”61″ css_animation=”fadeInUp” alignment=”left”][/vc_column][/vc_row][vc_row][vc_column][vc_column_text css_animation=”fadeIn” font_size=”45″ font_family=”Roboto” font_weight=”500″ color=”#57529e”]\nDAG VAN DE VERPLEGING \n[/vc_column_text][vc_empty_space height=”10px”][vc_single_image image=”88″ img_size=”medium” css_animation=”fadeInUp” alignment=”left”][/vc_column][/vc_row][vc_row][vc_column][vc_column_text]12 mei is de geboortedag van Florence Nightingale\, een Britse oorlogsverpleegster wie werkzaam was tijdens de Krimoorlog. Ze was vastbesloten het leed van de gewonden en de stervende te verlichten en de zorg te verbeteren. Haar acties waren het begin van het Rode Kruis. De Dag van de Verpleging herinnert mensen aan het goede werk dat medewerkers in de zorg verrichtten en met deze dag worden deze mensen in het zonnetje gezet.[/vc_column_text][/vc_column][/vc_row][vc_row][vc_column][vc_single_image image=”61″ css_animation=”fadeInUp” alignment=”left”][/vc_column][/vc_row][vc_row][vc_column width=”1/2″]Issuekalender doorzoeken [/vc_column][vc_column width=”1/2″][/vc_column][/vc_row]
URL:https://issuekalender.nl/issue/dag-van-de-verpleging/2030-05-12/
CATEGORIES:Welzijn en gezondheid
ORGANIZER;CN="Verpleegkundigen & Verzorgenden Nederland":MAILTO:info@venvn.nl
END:VEVENT
BEGIN:VEVENT
DTSTART;VALUE=DATE:20300514
DTEND;VALUE=DATE:20300521
DTSTAMP:20260422T080650
CREATED:20251117T093139Z
LAST-MODIFIED:20251117T093139Z
UID:10009389-1904947200-1905551999@issuekalender.nl
SUMMARY:WORLD SALT AWARENESS WEEK
DESCRIPTION:[vc_row][vc_column][vc_single_image image=”61″ css_animation=”fadeInUp” alignment=”left”][/vc_column][/vc_row][vc_row][vc_column][vc_column_text css_animation=”fadeIn” font_size=”45″ font_family=”Roboto” font_weight=”500″ color=”#57529e”]\nWORLD SALT AWARENESS WEEK \n[/vc_column_text][vc_empty_space height=”10px”][vc_single_image image=”88″ img_size=”medium” css_animation=”fadeInUp” alignment=”left”][/vc_column][/vc_row][vc_row][vc_column][vc_column_text]Awareness-week over zoutreductie. Deze week wordt ieder jaar gehouden.[/vc_column_text][/vc_column][/vc_row][vc_row][vc_column][vc_single_image image=”61″ css_animation=”fadeInUp” alignment=”left”][/vc_column][/vc_row][vc_row][vc_column width=”1/2″]Issuekalender doorzoeken [/vc_column][vc_column width=”1/2″][/vc_column][/vc_row]
URL:https://issuekalender.nl/issue/world-salt-awareness-week-2/2030-05-14/
CATEGORIES:Welzijn en gezondheid
END:VEVENT
BEGIN:VEVENT
DTSTART;VALUE=DATE:20300516
DTEND;VALUE=DATE:20300517
DTSTAMP:20260422T080650
CREATED:20251112T092330Z
LAST-MODIFIED:20251112T092330Z
UID:10009253-1905120000-1905206399@issuekalender.nl
SUMMARY:INTERNATIONALE DAG VAN HET SAMENLEVEN IN VREDE
DESCRIPTION:[vc_row][vc_column][vc_single_image image=”61″ css_animation=”fadeInUp” alignment=”left”][/vc_column][/vc_row][vc_row][vc_column][vc_column_text css_animation=”fadeIn” font_size=”45″ font_family=”Roboto” font_weight=”500″ color=”#57529e”]\nINTERNATIONALE DAG VAN HET SAMENLEVEN IN VREDE \n[/vc_column_text][vc_empty_space height=”10px”][vc_single_image image=”88″ img_size=”medium” css_animation=”fadeInUp” alignment=”left”][/vc_column][/vc_row][vc_row][vc_column][vc_column_text]Op vrijdag 8 december 2017 hebben alle 193 VN-lidstaten met consensus besloten om de 17 mei tot Internationale Dag van het Samenleven in Vrede uit te roepen. Klik hier voor de resolutie http://www.un.org.[/vc_column_text][/vc_column][/vc_row][vc_row][vc_column][vc_single_image image=”61″ css_animation=”fadeInUp” alignment=”left”][/vc_column][/vc_row][vc_row][vc_column width=”1/2″]Issuekalender doorzoeken [/vc_column][vc_column width=”1/2″][/vc_column][/vc_row]
URL:https://issuekalender.nl/issue/internationale-dag-van-het-samen-leven-in-vrede-2/2030-05-16/
CATEGORIES:Mens en maatschappij,Sociale cohesie en integratie,Welzijn en gezondheid
END:VEVENT
BEGIN:VEVENT
DTSTART;VALUE=DATE:20300523
DTEND;VALUE=DATE:20300524
DTSTAMP:20260422T080650
CREATED:20251112T092550Z
LAST-MODIFIED:20251112T092550Z
UID:10009257-1905724800-1905811199@issuekalender.nl
SUMMARY:DAG VAN DE VROUWENGEZONDHEID
DESCRIPTION:[vc_row][vc_column][vc_single_image image=”61″ css_animation=”fadeInUp” alignment=”left”][/vc_column][/vc_row][vc_row][vc_column][vc_column_text css_animation=”fadeIn” font_size=”45″ font_family=”Roboto” font_weight=”500″ color=”#57529e”]\nDAG VAN DE VROUWENGEZONDHEID \n[/vc_column_text][vc_empty_space height=”10px”][vc_single_image image=”88″ img_size=”medium” css_animation=”fadeInUp” alignment=”left”][vc_column_text font_size=”20px” font_family=”Roboto” font_weight=”normal”]\n\n\n\n\n\n\n[/vc_column_text][/vc_column][/vc_row][vc_row][vc_column][vc_column_text]De Dag van de Vrouwengezondheid staat in het teken van de vele vrouwen in Nederland die met onverklaarbare gezondheidsklachten leven. Van alle patiënten met onverklaarde klachten is 80 procent vrouw. Het vrouwenlichaam wordt anders ziek dan het mannenlichaam\, terwijl het mannenlichaam de norm is. Meer onderzoek is dringend nodig. \nTijdens de Dag van de Vrouwengezondheid vragen we aandacht voor het anders ziek worden van het vrouwenlichaam en pleiten we voor meer onderzoek. De focus van deze dag ligt op het creëren van bewustwording\, het delen van kennis\, het samenkomen van patiëntenorganisaties en het bekrachtigen van vrouwen om meer naar hun lichaam te luisteren en hun klachten serieus te nemen. Er zullen events\, webinars\, bijeenkomsten en symposia georganiseerd worden\, zowel op de dag zelf\, als door het jaar heen\, in het teken van de gezondheid van vrouwen. \nEr is eerder een petitie georganiseerd vanuit Voices for Women met meer dan 57.000 handtekeningen\, die is overhandigd aan minister Ernst Kuipers en de Tweede kamer. De intentie van deze jaarlijkse dag op 25 mei is om vrouwen te bekrachtigen. Maar ook om een lans voor de zorgprofessionals te breken omdat zij niet de zorg kunnen leveren aan vrouwen door het huidige grote kennishiaat. \n[/vc_column_text][/vc_column][/vc_row][vc_row][vc_column][vc_single_image image=”61″ css_animation=”fadeInUp” alignment=”left”][/vc_column][/vc_row][vc_row][vc_column width=”1/2″]Issuekalender doorzoeken [/vc_column][vc_column width=”1/2″][/vc_column][/vc_row]
URL:https://issuekalender.nl/issue/dag-van-de-vrouwengezondheid-3-2/2030-05-23/
CATEGORIES:Welzijn en gezondheid
ORGANIZER;CN="Stichting Voices for Women":MAILTO:contact@voicesforwomen.nl
END:VEVENT
END:VCALENDAR