BEGIN:VCALENDAR
VERSION:2.0
PRODID:-//Issuekalender - ECPv6.9.0//NONSGML v1.0//EN
CALSCALE:GREGORIAN
METHOD:PUBLISH
X-ORIGINAL-URL:https://issuekalender.nl
X-WR-CALDESC:Evenementen voor Issuekalender
REFRESH-INTERVAL;VALUE=DURATION:PT1H
X-Robots-Tag:noindex
X-PUBLISHED-TTL:PT1H
BEGIN:VTIMEZONE
TZID:Europe/Amsterdam
BEGIN:DAYLIGHT
TZOFFSETFROM:+0100
TZOFFSETTO:+0200
TZNAME:CEST
DTSTART:20290325T010000
END:DAYLIGHT
BEGIN:STANDARD
TZOFFSETFROM:+0200
TZOFFSETTO:+0100
TZNAME:CET
DTSTART:20291028T010000
END:STANDARD
END:VTIMEZONE
BEGIN:VEVENT
DTSTART;VALUE=DATE:20291007
DTEND;VALUE=DATE:20291014
DTSTAMP:20260421T193924
CREATED:20241023T125234Z
LAST-MODIFIED:20241024T132236Z
UID:10008581-1886025600-1886630399@issuekalender.nl
SUMMARY:COLLECTE NEDERLANDSE BRANDWONDEN STICHTING
DESCRIPTION:[vc_row][vc_column][vc_single_image image=”61″ css_animation=”fadeInUp” alignment=”left”][/vc_column][/vc_row][vc_row][vc_column][vc_column_text css_animation=”fadeIn” font_size=”45″ font_family=”Roboto” font_weight=”500″ color=”#57529e”]\nCOLLECTE NEDERLANDSE BRANDWONDEN STICHTING \n[/vc_column_text][vc_empty_space height=”10px”][vc_single_image image=”88″ img_size=”medium” css_animation=”fadeInUp” alignment=”left”][/vc_column][/vc_row][vc_row][vc_column][vc_column_text]De Nederlandse Brandwonden Stichting wil brandwonden voorkomen en het leed als gevolg van brandwonden tot een minimum beperken.[/vc_column_text][/vc_column][/vc_row][vc_row][vc_column][vc_single_image image=”61″ css_animation=”fadeInUp” alignment=”left”][/vc_column][/vc_row][vc_row][vc_column width=”1/2″]Issuekalender doorzoeken [/vc_column][vc_column width=”1/2″][/vc_column][/vc_row]
URL:https://issuekalender.nl/issue/collecte-nederlandse-brandwonden-stichting-2/2029-10-07/
CATEGORIES:Overige,Welzijn en gezondheid
END:VEVENT
BEGIN:VEVENT
DTSTART;VALUE=DATE:20291013
DTEND;VALUE=DATE:20291014
DTSTAMP:20260421T193924
CREATED:20230717T063741Z
LAST-MODIFIED:20241028T093408Z
UID:10009016-1886544000-1886630399@issuekalender.nl
SUMMARY:GEEN BH-DAG
DESCRIPTION:[vc_row][vc_column][vc_single_image image=”61″ css_animation=”fadeInUp” alignment=”left”][/vc_column][/vc_row][vc_row][vc_column][vc_column_text css_animation=”fadeIn” font_size=”45″ font_family=”Roboto” font_weight=”500″ color=”#57529e”]\nGEEN BH-DAG \n[/vc_column_text][vc_empty_space height=”10px”][vc_single_image image=”88″ img_size=”medium” css_animation=”fadeInUp” alignment=”left”][/vc_column][/vc_row][vc_row][vc_column][vc_column_text css=””]Oktober is Wereld Borstkankermaand en vandaag\, 13 oktober\, is het ‘Geen BH Dag’. Een dag\, zoals de naam al doet vermoeden\, waarop vrouwen géén bh dragen. De eerste ‘Geen BH Dag’ was in 2011\, in het leven geroepen om aandacht te vragen voor borstkanker. \nHet doel van deze dag is om vrouwen alert te maken op dat borstkankerscreening belangrijk is\, net zo als het herkennen van de symptomen van borstkanker en dat het belangrijk is om regelmatig zelf je borsten te controleren. \nIn 2020 kregen ongeveer 13.000 vrouwen de diagnose borstkanker. Borstkanker is de meest voorkomende vorm van kanker bij vrouwen. Onder vrouwen van 30 tot en met 59 jaar is borstkanker één van de belangrijkste doodsoorzaken.[/vc_column_text][/vc_column][/vc_row][vc_row][vc_column][vc_single_image image=”61″ css_animation=”fadeInUp” alignment=”left”][/vc_column][/vc_row][vc_row][vc_column width=”1/2″]Issuekalender doorzoeken [/vc_column][vc_column width=”1/2″][/vc_column][/vc_row]
URL:https://issuekalender.nl/issue/geen-bh-dag/2029-10-13/
CATEGORIES:Overige
END:VEVENT
END:VCALENDAR