BEGIN:VCALENDAR
VERSION:2.0
PRODID:-//Issuekalender - ECPv6.9.0//NONSGML v1.0//EN
CALSCALE:GREGORIAN
METHOD:PUBLISH
X-ORIGINAL-URL:https://issuekalender.nl
X-WR-CALDESC:Evenementen voor Issuekalender
REFRESH-INTERVAL;VALUE=DURATION:PT1H
X-Robots-Tag:noindex
X-PUBLISHED-TTL:PT1H
BEGIN:VTIMEZONE
TZID:Europe/Amsterdam
BEGIN:DAYLIGHT
TZOFFSETFROM:+0100
TZOFFSETTO:+0200
TZNAME:CEST
DTSTART:20290325T010000
END:DAYLIGHT
BEGIN:STANDARD
TZOFFSETFROM:+0200
TZOFFSETTO:+0100
TZNAME:CET
DTSTART:20291028T010000
END:STANDARD
END:VTIMEZONE
BEGIN:VEVENT
DTSTART;VALUE=DATE:20290320
DTEND;VALUE=DATE:20290321
DTSTAMP:20260421T083312
CREATED:20230714T144043Z
LAST-MODIFIED:20251111T112824Z
UID:10006718-1868659200-1868745599@issuekalender.nl
SUMMARY:INTERNATIONALE DAG VAN HET GELUK (VN)
DESCRIPTION:[vc_row][vc_column][vc_single_image image=”61″ css_animation=”fadeInUp” alignment=”left”][/vc_column][/vc_row][vc_row][vc_column][vc_column_text css_animation=”fadeIn” font_size=”45″ font_family=”Roboto” font_weight=”500″ color=”#57529e”]\nINTERNATIONALE DAG VAN HET GELUK (VN) \n[/vc_column_text][vc_empty_space height=”10px”][vc_single_image image=”88″ img_size=”medium” css_animation=”fadeInUp” alignment=”left”][/vc_column][/vc_row][vc_row][vc_column][vc_column_text]De Verenigde Naties hebben 20 maart uitgeroepen tot Internationale Dag van Geluk en willen dat iedereen die dag deelt in de vreugde. \nVolgens de Algemene Vergadering van de VN is ‘het nastreven van geluk een fundamenteel menselijk doel’. \nOp deze dag wordt tevens het ‘gelukkigste land ter wereld’ bekendgemaakt in het ‘World Happiness Report’. Nederland staat de afgelopen jaren in de top 10 van meest gelukkige landen.[/vc_column_text][/vc_column][/vc_row][vc_row][vc_column][vc_single_image image=”61″ css_animation=”fadeInUp” alignment=”left”][/vc_column][/vc_row][vc_row][vc_column width=”1/2″]Issuekalender doorzoeken [/vc_column][vc_column width=”1/2″][/vc_column][/vc_row]
URL:https://issuekalender.nl/issue/internationale-dag-van-het-geluk-vn/2029-03-20/
CATEGORIES:Overige
END:VEVENT
BEGIN:VEVENT
DTSTART;VALUE=DATE:20290320
DTEND;VALUE=DATE:20290321
DTSTAMP:20260421T083312
CREATED:20230715T121627Z
LAST-MODIFIED:20251111T112851Z
UID:10006712-1868659200-1868745599@issuekalender.nl
SUMMARY:WERELDDAG VAN HET MAATSCHAPPELIJK WERK
DESCRIPTION:[vc_row][vc_column][vc_single_image image=”61″ css_animation=”fadeInUp” alignment=”left”][/vc_column][/vc_row][vc_row][vc_column][vc_column_text css_animation=”fadeIn” font_size=”45″ font_family=”Roboto” font_weight=”500″ color=”#57529e”]\nWERELDDAG VAN HET MAATSCHAPPELIJK WERK \n[/vc_column_text][vc_empty_space height=”10px”][vc_single_image image=”88″ img_size=”medium” css_animation=”fadeInUp” alignment=”left”][/vc_column][/vc_row][vc_row][vc_column][vc_column_text css=””]Elk jaar wordt op de derde dinsdag van maart in de hele wereld Werelddag van het Maatschappelijk Werk gevierd\, en gedurende de hele maand maart worden evenementen georganiseerd. De dag biedt maatschappelijk werkers en anderen in de sector van de sociale dienstverlening de gelegenheid hun prestaties te vieren en het bewustzijn en de steun te vergroten voor de belangrijke rol die maatschappelijk werkers spelen in het leven van kinderen\, gezinnen en gemeenschappen die met tegenspoed te kampen hebben. De dag vestigt de aandacht op de behoefte aan verdere planning\, ontwikkeling en ondersteuning van het beroep en de sector van de sociale dienstverlening.[/vc_column_text][/vc_column][/vc_row][vc_row][vc_column][vc_single_image image=”61″ css_animation=”fadeInUp” alignment=”left”][/vc_column][/vc_row][vc_row][vc_column width=”1/2″]Issuekalender doorzoeken [/vc_column][vc_column width=”1/2″][/vc_column][/vc_row]
URL:https://issuekalender.nl/issue/werelddag-van-het-maatschappelijk-werk/2029-03-20/
CATEGORIES:Mens en maatschappij,Overige,Werk en welzijn
END:VEVENT
END:VCALENDAR