BEGIN:VCALENDAR
VERSION:2.0
PRODID:-//Issuekalender - ECPv6.9.0//NONSGML v1.0//EN
CALSCALE:GREGORIAN
METHOD:PUBLISH
X-ORIGINAL-URL:https://issuekalender.nl
X-WR-CALDESC:Evenementen voor Issuekalender
REFRESH-INTERVAL;VALUE=DURATION:PT1H
X-Robots-Tag:noindex
X-PUBLISHED-TTL:PT1H
BEGIN:VTIMEZONE
TZID:Europe/Amsterdam
BEGIN:DAYLIGHT
TZOFFSETFROM:+0100
TZOFFSETTO:+0200
TZNAME:CEST
DTSTART:20280326T010000
END:DAYLIGHT
BEGIN:STANDARD
TZOFFSETFROM:+0200
TZOFFSETTO:+0100
TZNAME:CET
DTSTART:20281029T010000
END:STANDARD
END:VTIMEZONE
BEGIN:VEVENT
DTSTART;VALUE=DATE:20280412
DTEND;VALUE=DATE:20280413
DTSTAMP:20260420T174748
CREATED:20230715T143622Z
LAST-MODIFIED:20251111T125522Z
UID:10007105-1839110400-1839196799@issuekalender.nl
SUMMARY:INTERNATIONALE DAG VAN DE RUIMTEVAART (VN)
DESCRIPTION:[vc_row][vc_column][vc_single_image image=”61″ css_animation=”fadeInUp” alignment=”left”][/vc_column][/vc_row][vc_row][vc_column][vc_column_text css_animation=”fadeIn” font_size=”45″ font_family=”Roboto” font_weight=”500″ color=”#57529e”]\nINTERNATIONALE DAG VAN DE RUIMTEVAART (VN) \n[/vc_column_text][vc_empty_space height=”10px”][vc_single_image image=”88″ img_size=”medium” css_animation=”fadeInUp” alignment=”left”][/vc_column][/vc_row][vc_row][vc_column][vc_column_text]Op deze dag vieren we het begin van de ruimtevaart voor de mensheid. De Algemene Vergadering heeft 12 april tot Internationale Dag van de Ruimtevaart omgedoopt. Op 12 april 1961 werd de eerste mens de ruimte ingestuurd\, dit was de kosmonaut Yuri Gagarin uit de Sovjet Unie. Dit historische moment baande een weg voor ruimteonderzoek waar de mensheid baat bij heeft gehad.[/vc_column_text][/vc_column][/vc_row][vc_row][vc_column][vc_single_image image=”61″ css_animation=”fadeInUp” alignment=”left”][/vc_column][/vc_row][vc_row][vc_column width=”1/2″]Issuekalender doorzoeken [/vc_column][vc_column width=”1/2″][/vc_column][/vc_row]
URL:https://issuekalender.nl/issue/internationale-dag-van-de-ruimtevaart-vn/2028-04-12/
CATEGORIES:Overige
END:VEVENT
END:VCALENDAR