BEGIN:VCALENDAR
VERSION:2.0
PRODID:-//Issuekalender - ECPv6.9.0//NONSGML v1.0//EN
CALSCALE:GREGORIAN
METHOD:PUBLISH
X-ORIGINAL-URL:https://issuekalender.nl
X-WR-CALDESC:Evenementen voor Issuekalender
REFRESH-INTERVAL;VALUE=DURATION:PT1H
X-Robots-Tag:noindex
X-PUBLISHED-TTL:PT1H
BEGIN:VTIMEZONE
TZID:Europe/Amsterdam
BEGIN:DAYLIGHT
TZOFFSETFROM:+0100
TZOFFSETTO:+0200
TZNAME:CEST
DTSTART:20270328T010000
END:DAYLIGHT
BEGIN:STANDARD
TZOFFSETFROM:+0200
TZOFFSETTO:+0100
TZNAME:CET
DTSTART:20271031T010000
END:STANDARD
END:VTIMEZONE
BEGIN:VEVENT
DTSTART;VALUE=DATE:20271027
DTEND;VALUE=DATE:20271104
DTSTAMP:20260419T185340
CREATED:20241023T125644Z
LAST-MODIFIED:20241024T151108Z
UID:10008956-1824595200-1825282799@issuekalender.nl
SUMMARY:WEEK VAN DE PLEEGZORG
DESCRIPTION:[vc_row][vc_column][vc_single_image image=”61″ css_animation=”fadeInUp” alignment=”left”][/vc_column][/vc_row][vc_row][vc_column][vc_column_text css_animation=”fadeIn” font_size=”45″ font_family=”Roboto” font_weight=”500″ color=”#57529e”]\nWEEK VAN DE PLEEGZORG \n[/vc_column_text][vc_empty_space height=”10px”][vc_single_image image=”88″ img_size=”medium” css_animation=”fadeInUp” alignment=”left”][/vc_column][/vc_row][vc_row][vc_column][vc_column_text]Met deze actieweek wil Pleegzorg Nederland aandacht vestigen op het belang van pleegzorg en het tekort aan pleegouders in Nederland. \nIn deze actieweek worden in het hele land activiteiten georganiseerd\, zoals netwerkbijeenkomsten in samenwerking met gemeenten\, informatiebijeenkomsten voor geïnteresseerden in pleegzorg\, lezingen\, etc.  Ook zijn er speciale activiteiten om pleegouders in het zonnetje te zetten. Tevens is er aandacht voor deskundigheidsbevordering[/vc_column_text][/vc_column][/vc_row][vc_row][vc_column][vc_single_image image=”61″ css_animation=”fadeInUp” alignment=”left”][/vc_column][/vc_row][vc_row][vc_column width=”1/2″]Issuekalender doorzoeken [/vc_column][vc_column width=”1/2″][/vc_column][/vc_row]
URL:https://issuekalender.nl/issue/week-van-de-pleegzorg-check/2027-10-27/
CATEGORIES:Mens en maatschappij,Overige,Welzijn en gezondheid
ORGANIZER;CN="Jeugdzorg Nederland":MAILTO:info@pleegzorg.nl
END:VEVENT
BEGIN:VEVENT
DTSTART;VALUE=DATE:20271031
DTEND;VALUE=DATE:20271101
DTSTAMP:20260419T185340
CREATED:20230717T071844Z
LAST-MODIFIED:20231026T091121Z
UID:10004546-1824940800-1825023599@issuekalender.nl
SUMMARY:WERELDBESPAARDAG
DESCRIPTION:[vc_row][vc_column][vc_single_image image=”61″ css_animation=”fadeInUp” alignment=”left”][/vc_column][/vc_row][vc_row][vc_column][vc_column_text css_animation=”fadeIn” font_size=”45″ font_family=”Roboto” font_weight=”500″ color=”#57529e”]\nWERELDBESPAARDAG \n[/vc_column_text][vc_empty_space height=”10px”][vc_single_image image=”88″ img_size=”medium” css_animation=”fadeInUp” alignment=”left”][vc_column_text font_size=”20px” font_family=”Roboto” font_weight=”normal”]\n\n\n\n31-10-2024 | Economie en financiën\, Overige\n\n\n\n\n\n[/vc_column_text][/vc_column][/vc_row][vc_row][vc_column][vc_column_text]31 oktober is Wereldbespaardag: een dag om stil te staan bij sparen en hoe dat bijdraagt aan het verbeteren van de welvaart. De dag wordt sinds 1924 gehouden.[/vc_column_text][/vc_column][/vc_row][vc_row][vc_column][vc_single_image image=”61″ css_animation=”fadeInUp” alignment=”left”][/vc_column][/vc_row][vc_row][vc_column width=”1/2″]Issuekalender doorzoeken [/vc_column][vc_column width=”1/2″][/vc_column][/vc_row]
URL:https://issuekalender.nl/issue/wereldbespaardag/2027-10-31/
CATEGORIES:Economie en financiën,Overige
END:VEVENT
BEGIN:VEVENT
DTSTART;VALUE=DATE:20271031
DTEND;VALUE=DATE:20271101
DTSTAMP:20260419T185340
CREATED:20230717T071932Z
LAST-MODIFIED:20241004T091715Z
UID:10004551-1824940800-1825023599@issuekalender.nl
SUMMARY:WERELDSTEDENDAG (VN)
DESCRIPTION:[vc_row][vc_column][vc_single_image image=”61″ css_animation=”fadeInUp” alignment=”left”][/vc_column][/vc_row][vc_row][vc_column][vc_column_text css_animation=”fadeIn” font_size=”45″ font_family=”Roboto” font_weight=”500″ color=”#57529e”]\nWERELDSTEDENDAG (VN) \n[/vc_column_text][vc_empty_space height=”10px”][vc_single_image image=”88″ img_size=”medium” css_animation=”fadeInUp” alignment=”left”][vc_column_text font_size=”20px” font_family=”Roboto” font_weight=”normal”]\n\n\n\n31-10-2024 | Overige\n\n\n\n\n\n[/vc_column_text][/vc_column][/vc_row][vc_row][vc_column][vc_column_text]Deze dag is door de Verenigde Naties in het leven geroepen om urbanisatie op de politieke agenda te krijgen. De dag wordt elk jaar op 31 oktober gehouden.[/vc_column_text][/vc_column][/vc_row][vc_row][vc_column][vc_single_image image=”61″ css_animation=”fadeInUp” alignment=”left”][/vc_column][/vc_row][vc_row][vc_column width=”1/2″]Issuekalender doorzoeken [/vc_column][vc_column width=”1/2″][/vc_column][/vc_row]
URL:https://issuekalender.nl/issue/wereldstedendag-vn/2027-10-31/
CATEGORIES:Overige
END:VEVENT
BEGIN:VEVENT
DTSTART;VALUE=DATE:20271031
DTEND;VALUE=DATE:20271101
DTSTAMP:20260419T185340
CREATED:20230717T071013Z
LAST-MODIFIED:20241004T090845Z
UID:10004506-1824940800-1825027199@issuekalender.nl
SUMMARY:WINTERTIJD
DESCRIPTION:[vc_row][vc_column][vc_single_image image=”61″ css_animation=”fadeInUp” alignment=”left”][/vc_column][/vc_row][vc_row][vc_column][vc_column_text css_animation=”fadeIn” font_size=”45″ font_family=”Roboto” font_weight=”500″ color=”#57529e”]\nWINTERTIJD \n[/vc_column_text][vc_empty_space height=”10px”][vc_single_image image=”88″ img_size=”medium” css_animation=”fadeInUp” alignment=”left”][/vc_column][/vc_row][vc_row][vc_column][vc_column_text]Wintertijd is in feite de normale tijd. Tijdens de zomertijd wordt er afgeweken van deze standaardtijd. Op de laatste zondag van oktober gaat de wintertijd in en op de laatste zondag van maart eindigt deze wintertijd weer. Als het wintertijd wordt gaat de klok in de nacht van zaterdag op zondag van 3 uur ’s nachts naar 2 uur ’s nachts\, achteruit dus.[/vc_column_text][/vc_column][/vc_row][vc_row][vc_column][vc_single_image image=”61″ css_animation=”fadeInUp” alignment=”left”][/vc_column][/vc_row][vc_row][vc_column width=”1/2″]Issuekalender doorzoeken [/vc_column][vc_column width=”1/2″][/vc_column][/vc_row]
URL:https://issuekalender.nl/issue/wintertijd/2027-10-31/
CATEGORIES:Overige
END:VEVENT
END:VCALENDAR