BEGIN:VCALENDAR
VERSION:2.0
PRODID:-//Issuekalender - ECPv6.9.0//NONSGML v1.0//EN
CALSCALE:GREGORIAN
METHOD:PUBLISH
X-ORIGINAL-URL:https://issuekalender.nl
X-WR-CALDESC:Evenementen voor Issuekalender
REFRESH-INTERVAL;VALUE=DURATION:PT1H
X-Robots-Tag:noindex
X-PUBLISHED-TTL:PT1H
BEGIN:VTIMEZONE
TZID:Europe/Amsterdam
BEGIN:DAYLIGHT
TZOFFSETFROM:+0100
TZOFFSETTO:+0200
TZNAME:CEST
DTSTART:20270328T010000
END:DAYLIGHT
BEGIN:STANDARD
TZOFFSETFROM:+0200
TZOFFSETTO:+0100
TZNAME:CET
DTSTART:20271031T010000
END:STANDARD
END:VTIMEZONE
BEGIN:VEVENT
DTSTART;VALUE=DATE:20271027
DTEND;VALUE=DATE:20271029
DTSTAMP:20260419T231730
CREATED:20230717T070243Z
LAST-MODIFIED:20241004T090726Z
UID:10004476-1824595200-1824685199@issuekalender.nl
SUMMARY:WERELD ERGOTHERAPIEDAG
DESCRIPTION:[vc_row][vc_column][vc_single_image image=”61″ css_animation=”fadeInUp” alignment=”left”][/vc_column][/vc_row][vc_row][vc_column][vc_column_text css_animation=”fadeIn” font_size=”45″ font_family=”Roboto” font_weight=”500″ color=”#57529e”]\nWERELD ERGOTHERAPIEDAG \n[/vc_column_text][vc_empty_space height=”10px”][vc_single_image image=”88″ img_size=”medium” css_animation=”fadeInUp” alignment=”left”][/vc_column][/vc_row][vc_row][vc_column][vc_column_text]Sinds 2010 wordt op 27 oktober de ‘Wereld Ergotherapiedag’ (World Occupational Therapy Day) georganiseerd door de WFOT (World Federation of Occupational Therapists). \nIn heel de wereld is dit de dag waarop ergotherapie centraal staat en ergotherapeuten hun vak promoten. Ergotherapie is een paramedische discipline die zich richt op het weer mogelijk maken van dagelijkse handelingen bij mensen die door ziekte of beperking een lichamelijke of psychische beperking hebben opgedaan.[/vc_column_text][/vc_column][/vc_row][vc_row][vc_column][vc_single_image image=”61″ css_animation=”fadeInUp” alignment=”left”][/vc_column][/vc_row][vc_row][vc_column width=”1/2″]Issuekalender doorzoeken [/vc_column][vc_column width=”1/2″][/vc_column][/vc_row]
URL:https://issuekalender.nl/issue/wereld-ergotherapiedag/2027-10-27/
CATEGORIES:Overige,Welzijn en gezondheid
END:VEVENT
BEGIN:VEVENT
DTSTART;VALUE=DATE:20271027
DTEND;VALUE=DATE:20271029
DTSTAMP:20260419T231730
CREATED:20230717T070403Z
LAST-MODIFIED:20251112T112021Z
UID:10004481-1824595200-1824685199@issuekalender.nl
SUMMARY:WERELDDAG VOOR AUDIOVISUEEL ERFGOED (VN)
DESCRIPTION:[vc_row][vc_column][vc_single_image image=”61″ css_animation=”fadeInUp” alignment=”left”][/vc_column][/vc_row][vc_row][vc_column][vc_column_text css_animation=”fadeIn” font_size=”45″ font_family=”Roboto” font_weight=”500″ color=”#57529e”]\nWERELDDAG VOOR AUDIOVISUEEL ERFGOED (VN) \n[/vc_column_text][vc_empty_space height=”10px”][vc_single_image image=”88″ img_size=”medium” css_animation=”fadeInUp” alignment=”left”][/vc_column][/vc_row][vc_row][vc_column][vc_column_text]Door UNESCO van de Verenigde Naties is 27 oktober uitgeroepen tot de ‘Werelddag voor Audiovisueel Erfgoed’ (World Day for Audiovisual Heritage). \nDeze dag werd in 2005 door UNESCO ingesteld om het bewustzijn te vergroten over het belang van opgenomen audiovisueel materiaal en geluidsdocumenten en het op de juiste manier bewaren ervan.[/vc_column_text][/vc_column][/vc_row][vc_row][vc_column][vc_single_image image=”61″ css_animation=”fadeInUp” alignment=”left”][/vc_column][/vc_row][vc_row][vc_column width=”1/2″]Issuekalender doorzoeken [/vc_column][vc_column width=”1/2″][/vc_column][/vc_row]
URL:https://issuekalender.nl/issue/werelddag-voor-audiovisueel-erfgoed-vn/2027-10-27/
CATEGORIES:Kunst en cultuur,Overige
END:VEVENT
BEGIN:VEVENT
DTSTART;VALUE=DATE:20271027
DTEND;VALUE=DATE:20271104
DTSTAMP:20260419T231730
CREATED:20241023T125644Z
LAST-MODIFIED:20241024T151108Z
UID:10008956-1824595200-1825282799@issuekalender.nl
SUMMARY:WEEK VAN DE PLEEGZORG
DESCRIPTION:[vc_row][vc_column][vc_single_image image=”61″ css_animation=”fadeInUp” alignment=”left”][/vc_column][/vc_row][vc_row][vc_column][vc_column_text css_animation=”fadeIn” font_size=”45″ font_family=”Roboto” font_weight=”500″ color=”#57529e”]\nWEEK VAN DE PLEEGZORG \n[/vc_column_text][vc_empty_space height=”10px”][vc_single_image image=”88″ img_size=”medium” css_animation=”fadeInUp” alignment=”left”][/vc_column][/vc_row][vc_row][vc_column][vc_column_text]Met deze actieweek wil Pleegzorg Nederland aandacht vestigen op het belang van pleegzorg en het tekort aan pleegouders in Nederland. \nIn deze actieweek worden in het hele land activiteiten georganiseerd\, zoals netwerkbijeenkomsten in samenwerking met gemeenten\, informatiebijeenkomsten voor geïnteresseerden in pleegzorg\, lezingen\, etc.  Ook zijn er speciale activiteiten om pleegouders in het zonnetje te zetten. Tevens is er aandacht voor deskundigheidsbevordering[/vc_column_text][/vc_column][/vc_row][vc_row][vc_column][vc_single_image image=”61″ css_animation=”fadeInUp” alignment=”left”][/vc_column][/vc_row][vc_row][vc_column width=”1/2″]Issuekalender doorzoeken [/vc_column][vc_column width=”1/2″][/vc_column][/vc_row]
URL:https://issuekalender.nl/issue/week-van-de-pleegzorg-check/2027-10-27/
CATEGORIES:Mens en maatschappij,Overige,Welzijn en gezondheid
ORGANIZER;CN="Jeugdzorg Nederland":MAILTO:info@pleegzorg.nl
END:VEVENT
END:VCALENDAR