BEGIN:VCALENDAR
VERSION:2.0
PRODID:-//Issuekalender - ECPv6.9.0//NONSGML v1.0//EN
CALSCALE:GREGORIAN
METHOD:PUBLISH
X-WR-CALNAME:Issuekalender
X-ORIGINAL-URL:https://issuekalender.nl
X-WR-CALDESC:Evenementen voor Issuekalender
REFRESH-INTERVAL;VALUE=DURATION:PT1H
X-Robots-Tag:noindex
X-PUBLISHED-TTL:PT1H
BEGIN:VTIMEZONE
TZID:Europe/Amsterdam
BEGIN:DAYLIGHT
TZOFFSETFROM:+0100
TZOFFSETTO:+0200
TZNAME:CEST
DTSTART:20270328T010000
END:DAYLIGHT
BEGIN:STANDARD
TZOFFSETFROM:+0200
TZOFFSETTO:+0100
TZNAME:CET
DTSTART:20271031T010000
END:STANDARD
END:VTIMEZONE
BEGIN:VEVENT
DTSTART;VALUE=DATE:20271003
DTEND;VALUE=DATE:20271010
DTSTAMP:20260419T171723
CREATED:20241023T125234Z
LAST-MODIFIED:20241024T132236Z
UID:10008579-1822521600-1823126399@issuekalender.nl
SUMMARY:COLLECTE NEDERLANDSE BRANDWONDEN STICHTING
DESCRIPTION:[vc_row][vc_column][vc_single_image image=”61″ css_animation=”fadeInUp” alignment=”left”][/vc_column][/vc_row][vc_row][vc_column][vc_column_text css_animation=”fadeIn” font_size=”45″ font_family=”Roboto” font_weight=”500″ color=”#57529e”]\nCOLLECTE NEDERLANDSE BRANDWONDEN STICHTING \n[/vc_column_text][vc_empty_space height=”10px”][vc_single_image image=”88″ img_size=”medium” css_animation=”fadeInUp” alignment=”left”][/vc_column][/vc_row][vc_row][vc_column][vc_column_text]De Nederlandse Brandwonden Stichting wil brandwonden voorkomen en het leed als gevolg van brandwonden tot een minimum beperken.[/vc_column_text][/vc_column][/vc_row][vc_row][vc_column][vc_single_image image=”61″ css_animation=”fadeInUp” alignment=”left”][/vc_column][/vc_row][vc_row][vc_column width=”1/2″]Issuekalender doorzoeken [/vc_column][vc_column width=”1/2″][/vc_column][/vc_row]
URL:https://issuekalender.nl/issue/collecte-nederlandse-brandwonden-stichting-2/2027-10-03/
CATEGORIES:Overige,Welzijn en gezondheid
END:VEVENT
BEGIN:VEVENT
DTSTART;VALUE=DATE:20271004
DTEND;VALUE=DATE:20271011
DTSTAMP:20260419T171723
CREATED:20230716T205315Z
LAST-MODIFIED:20241002T132514Z
UID:10007119-1822608000-1823212799@issuekalender.nl
SUMMARY:WEEK VAN DE VEILIGHEID
DESCRIPTION:[vc_row][vc_column][vc_single_image image=”61″ css_animation=”fadeInUp” alignment=”left”][/vc_column][/vc_row][vc_row][vc_column][vc_column_text css_animation=”fadeIn” font_size=”45″ font_family=”Roboto” font_weight=”500″ color=”#57529e”]\nWEEK VAN DE VEILIGHEID \n[/vc_column_text][vc_empty_space height=”10px”][vc_single_image image=”88″ img_size=”medium” css_animation=”fadeInUp” alignment=”left”][/vc_column][/vc_row][vc_row][vc_column][vc_column_text]Je hoopt dat het je nooit overkomt\, maar toch kun je als ondernemer te maken krijgen met criminaliteit: diefstal\, spookfacturen of erger\, een overval. Als ondernemer doe je er alles aan om criminaliteit te voorkomen. Maar als het dan toch gebeurt dan wil je weten hoe jezelf en het personeel moet handelen. \nIn week 41 is de jaarlijkse Week van de Veiligheid. Tijdens deze week geven we de veiligheid in uw onderneming extra aandacht. Belangrijk; want een goede onderneming is voorbereid op criminaliteit.[/vc_column_text][/vc_column][/vc_row][vc_row][vc_column][vc_single_image image=”61″ css_animation=”fadeInUp” alignment=”left”][/vc_column][/vc_row][vc_row][vc_column width=”1/2″]Issuekalender doorzoeken [/vc_column][vc_column width=”1/2″][/vc_column][/vc_row]
URL:https://issuekalender.nl/issue/week-van-de-veiligheid/2027-10-04/
CATEGORIES:Overige,Veiligheid,Werk en welzijn
END:VEVENT
BEGIN:VEVENT
DTSTART;VALUE=DATE:20271004
DTEND;VALUE=DATE:20271011
DTSTAMP:20260419T171723
CREATED:20231027T130538Z
LAST-MODIFIED:20241024T150918Z
UID:10008940-1822608000-1823212799@issuekalender.nl
SUMMARY:WEEK VAN DE TOEGANKELIJKHEID
DESCRIPTION:[vc_row][vc_column][vc_single_image image=”61″ css_animation=”fadeInUp” alignment=”left”][/vc_column][/vc_row][vc_row][vc_column][vc_column_text css_animation=”fadeIn” font_size=”45″ font_family=”Roboto” font_weight=”500″ color=”#57529e”]\nWEEK VAN DE TOEGANKELIJKHEID \n[/vc_column_text][vc_empty_space height=”10px”][vc_single_image image=”88″ img_size=”medium” css_animation=”fadeInUp” alignment=”left”][/vc_column][/vc_row][vc_row][vc_column][vc_column_text css=””]De Week van de Toegankelijkheid is een initiatief van Ieder(in)\, landelijk netwerk van mensen met een beperking of chronische ziekte. \nIn 2000 werd de eerste Week van de Toegankelijkheid georganiseerd. \nWeek van de Toegankelijkheid is altijd in de eerste volle week van oktober.[/vc_column_text][/vc_column][/vc_row][vc_row][vc_column][vc_single_image image=”61″ css_animation=”fadeInUp” alignment=”left”][/vc_column][/vc_row][vc_row][vc_column width=”1/2″]Issuekalender doorzoeken [/vc_column][vc_column width=”1/2″][/vc_column][/vc_row]
URL:https://issuekalender.nl/issue/week-van-de-toegankelijkheid/2027-10-04/
CATEGORIES:Overige,Sociale cohesie en integratie,Welzijn en gezondheid
ORGANIZER;CN="Ieder(in)":MAILTO:info@weekvandetoegankelijkheid.nl
END:VEVENT
BEGIN:VEVENT
DTSTART;VALUE=DATE:20271005
DTEND;VALUE=DATE:20271006
DTSTAMP:20260419T171723
CREATED:20230716T203251Z
LAST-MODIFIED:20241002T115515Z
UID:10004232-1822694400-1822780799@issuekalender.nl
SUMMARY:INTERNATIONALE DAG VAN DE LERAAR (VN)
DESCRIPTION:[vc_row][vc_column][vc_single_image image=”61″ css_animation=”fadeInUp” alignment=”left”][/vc_column][/vc_row][vc_row][vc_column][vc_column_text css_animation=”fadeIn” font_size=”45″ font_family=”Roboto” font_weight=”500″ color=”#57529e”]\nINTERNATIONALE DAG VAN DE LERAAR (VN) \n[/vc_column_text][vc_empty_space height=”10px”][vc_single_image image=”88″ img_size=”medium” css_animation=”fadeInUp” alignment=”left”][/vc_column][/vc_row][vc_row][vc_column][vc_column_text]De World Teachers’ Day\, de internationale Dag van de Leraar\, wordt elk jaar op 5 oktober gevierd. Op en rond die dag worden tal van activiteiten voor leraren georganiseerd.[/vc_column_text][/vc_column][/vc_row][vc_row][vc_column][vc_single_image image=”61″ css_animation=”fadeInUp” alignment=”left”][/vc_column][/vc_row][vc_row][vc_column width=”1/2″]Issuekalender doorzoeken [/vc_column][vc_column width=”1/2″][/vc_column][/vc_row]
URL:https://issuekalender.nl/issue/internationale-dag-van-de-leraar-vn/2027-10-05/
CATEGORIES:Onderwijs en educatie,Overige
END:VEVENT
END:VCALENDAR