BEGIN:VCALENDAR
VERSION:2.0
PRODID:-//Issuekalender - ECPv6.9.0//NONSGML v1.0//EN
CALSCALE:GREGORIAN
METHOD:PUBLISH
X-WR-CALNAME:Issuekalender
X-ORIGINAL-URL:https://issuekalender.nl
X-WR-CALDESC:Evenementen voor Issuekalender
REFRESH-INTERVAL;VALUE=DURATION:PT1H
X-Robots-Tag:noindex
X-PUBLISHED-TTL:PT1H
BEGIN:VTIMEZONE
TZID:Europe/Amsterdam
BEGIN:DAYLIGHT
TZOFFSETFROM:+0100
TZOFFSETTO:+0200
TZNAME:CEST
DTSTART:20270328T010000
END:DAYLIGHT
BEGIN:STANDARD
TZOFFSETFROM:+0200
TZOFFSETTO:+0100
TZNAME:CET
DTSTART:20271031T010000
END:STANDARD
END:VTIMEZONE
BEGIN:VEVENT
DTSTART;VALUE=DATE:20270918
DTEND;VALUE=DATE:20270927
DTSTAMP:20260419T144902
CREATED:20230713T125450Z
LAST-MODIFIED:20251117T114218Z
UID:10008924-1821225600-1822003199@issuekalender.nl
SUMMARY:VREDESWEEK
DESCRIPTION:[vc_row][vc_column][vc_single_image image=”61″ css_animation=”fadeInUp” alignment=”left”][/vc_column][/vc_row][vc_row][vc_column][vc_column_text css_animation=”fadeIn” font_size=”45″ font_family=”Roboto” font_weight=”500″ color=”#57529e”]\nVREDESWEEK \n[/vc_column_text][vc_empty_space height=”10px”][vc_single_image image=”88″ img_size=”medium” css_animation=”fadeInUp” alignment=”left”][/vc_column][/vc_row][vc_row][vc_column][vc_column_text]Vrede lijkt vanzelfsprekend. Niets is minder waar. Het vraagt onze blijvende aandacht. Zeker in een tijd van verharding in onze eigen samenleving en non-stop geweld elders. Maar het kan anders. Sterker nog\, dat gebeurt al! \nIedereen kan iets voor vrede doen. Met die gedachte organiseert vredesorganisatie PAX de Vredesweek. Hier doen elk jaar duizenden mensen aan mee\, van jong tot oud\, van Groningen tot Middelburg.[/vc_column_text][/vc_column][/vc_row][vc_row][vc_column][vc_single_image image=”61″ css_animation=”fadeInUp” alignment=”left”][/vc_column][/vc_row][vc_row][vc_column width=”1/2″]Issuekalender doorzoeken [/vc_column][vc_column width=”1/2″][/vc_column][/vc_row]
URL:https://issuekalender.nl/issue/vredesweek/2027-09-18/
CATEGORIES:Overige
ORGANIZER;CN="PAX":MAILTO:vredesweek@paxforpeace.nl
END:VEVENT
BEGIN:VEVENT
DTSTART;VALUE=DATE:20270926
DTEND;VALUE=DATE:20270927
DTSTAMP:20260419T144902
CREATED:20230713T132737Z
LAST-MODIFIED:20241007T142208Z
UID:10002882-1821916800-1822003199@issuekalender.nl
SUMMARY:INTERNATIONALE DAG VOOR DE TOTALE ELIMINATIE VAN NUCLEAIRE WAPENS (VN)
DESCRIPTION:[vc_row][vc_column][vc_single_image image=”61″ css_animation=”fadeInUp” alignment=”left”][/vc_column][/vc_row][vc_row][vc_column][vc_column_text css_animation=”fadeIn” font_size=”45″ font_family=”Roboto” font_weight=”500″ color=”#57529e”]\nINTERNATIONALE DAG VOOR DE TOTALE ELIMINATIE VAN NUCLEAIRE WAPENS (VN) \n[/vc_column_text][vc_empty_space height=”10px”][vc_single_image image=”88″ img_size=”medium” css_animation=”fadeInUp” alignment=”left”][/vc_column][/vc_row][vc_row][vc_column][vc_column_text]De wereld heeft al lang ingezien dat nucleaire ontwapening de enige garantie biedt tegen het gebruik van nucleaire wapens\, want elk gebruik hiervan zou catastrophale humanitaire gevolgen hebben. Nucleaire ontwapening is daarom niet alleen een idealistische droom\, maar ook een uiterst dringende noodzakelijkheid om aan de veiligheidsbelangen van de gehele mensheid te voldoen. \nDeze Internationale Dag is niet enkel een dag waarop we oproepen om de productie van nucleaire wapens in te perken maar ook om hun slagwijdte te beperken\, en de implementatie ervan te reduceren in beveiliginsbeleid. Het is eveneens de dag waarop de wereld reflecteert over de vele voordelen die zouden voortvloeien uit nucleaire ontwapening\, zoals een verhoogde veiligheid of het behoud van financiële en wetenschappelijke middelen. Het is een dag waarop we ons de gevolgen kunnen inbeelden van het mislukken van een gevaarlijke en fragile nucleaire doctrine.[/vc_column_text][/vc_column][/vc_row][vc_row][vc_column][vc_single_image image=”61″ css_animation=”fadeInUp” alignment=”left”][/vc_column][/vc_row][vc_row][vc_column width=”1/2″]Issuekalender doorzoeken [/vc_column][vc_column width=”1/2″][/vc_column][/vc_row]
URL:https://issuekalender.nl/issue/internationale-dag-voor-de-totale-eliminatie-van-nucleaire-wapens-vn/2027-09-26/
CATEGORIES:Mens en maatschappij,Overige,Veiligheid
END:VEVENT
BEGIN:VEVENT
DTSTART;VALUE=DATE:20270926
DTEND;VALUE=DATE:20270927
DTSTAMP:20260419T144902
CREATED:20231024T142720Z
LAST-MODIFIED:20241007T145432Z
UID:10007716-1821916800-1822003199@issuekalender.nl
SUMMARY:WERELDDAG VAN DE MIGRANTEN EN VLUCHTELINGEN
DESCRIPTION:[vc_row][vc_column][vc_single_image image=”61″ css_animation=”fadeInUp” alignment=”left”][/vc_column][/vc_row][vc_row][vc_column][vc_column_text css_animation=”fadeIn” font_size=”45″ font_family=”Roboto” font_weight=”500″ color=”#57529e”]\nWERELDDAG VAN DE MIGRANTEN EN VLUCHTELINGEN \n[/vc_column_text][vc_empty_space height=”10px”][vc_single_image image=”88″ img_size=”medium” css_animation=”fadeInUp” alignment=”left”][/vc_column][/vc_row][vc_row][vc_column][vc_column_text css=””]Deze dag staat in het teken van migranten en vluchtelingen. \nDe Werelddag voor Migranten en Vluchtelingen werd tot en met 2018 op de 2e Zondag van januari gevierd\, en vanaf 2019 op de laatste zondag van september.[/vc_column_text][/vc_column][/vc_row][vc_row][vc_column][vc_single_image image=”61″ css_animation=”fadeInUp” alignment=”left”][/vc_column][/vc_row][vc_row][vc_column width=”1/2″]Issuekalender doorzoeken [/vc_column][vc_column width=”1/2″][/vc_column][/vc_row]
URL:https://issuekalender.nl/issue/werelddag-van-de-migranten-en-vluchtelingen/2027-09-26/
CATEGORIES:Mens en maatschappij,Overige
END:VEVENT
BEGIN:VEVENT
DTSTART;VALUE=DATE:20270926
DTEND;VALUE=DATE:20271003
DTSTAMP:20260419T144902
CREATED:20251117T114515Z
LAST-MODIFIED:20251117T114515Z
UID:10009429-1821916800-1822521599@issuekalender.nl
SUMMARY:COLLECTE DIERENBESCHERMING
DESCRIPTION:[vc_row][vc_column][vc_single_image image=”61″ css_animation=”fadeInUp” alignment=”left”][/vc_column][/vc_row][vc_row][vc_column][vc_column_text css_animation=”fadeIn” font_size=”45″ font_family=”Roboto” font_weight=”500″ color=”#57529e”]\nCOLLECTE DIERENBESCHERMING \n[/vc_column_text][vc_empty_space height=”10px”][vc_single_image image=”88″ img_size=”medium” css_animation=”fadeInUp” alignment=”left”][/vc_column][/vc_row][vc_row][vc_column][vc_column_text]De collecte van de Dierenbescherming vindt elk jaar plaats in de week rondom Werelddierendag (4 oktober). De opbrengst van de collecte wordt lokaal besteed en komt dus direct ten goede aan dieren in uw regio.[/vc_column_text][/vc_column][/vc_row][vc_row][vc_column][vc_single_image image=”61″ css_animation=”fadeInUp” alignment=”left”][/vc_column][/vc_row][vc_row][vc_column width=”1/2″]Issuekalender doorzoeken [/vc_column][vc_column width=”1/2″][/vc_column][/vc_row]
URL:https://issuekalender.nl/issue/collecte-dierenbescherming-2-2/2027-09-26/
CATEGORIES:Dierenwelzijn,Overige
END:VEVENT
END:VCALENDAR