BEGIN:VCALENDAR
VERSION:2.0
PRODID:-//Issuekalender - ECPv6.9.0//NONSGML v1.0//EN
CALSCALE:GREGORIAN
METHOD:PUBLISH
X-WR-CALNAME:Issuekalender
X-ORIGINAL-URL:https://issuekalender.nl
X-WR-CALDESC:Evenementen voor Issuekalender
REFRESH-INTERVAL;VALUE=DURATION:PT1H
X-Robots-Tag:noindex
X-PUBLISHED-TTL:PT1H
BEGIN:VTIMEZONE
TZID:Europe/Amsterdam
BEGIN:DAYLIGHT
TZOFFSETFROM:+0100
TZOFFSETTO:+0200
TZNAME:CEST
DTSTART:20300331T010000
END:DAYLIGHT
BEGIN:STANDARD
TZOFFSETFROM:+0200
TZOFFSETTO:+0100
TZNAME:CET
DTSTART:20301027T010000
END:STANDARD
END:VTIMEZONE
BEGIN:VEVENT
DTSTART;VALUE=DATE:20301101
DTEND;VALUE=DATE:20301109
DTSTAMP:20260420T015747
CREATED:20251117T115009Z
LAST-MODIFIED:20251117T115009Z
UID:10009458-1919721600-1920412799@issuekalender.nl
SUMMARY:WEEK VAN DE MEDIAWIJSHEID
DESCRIPTION:[vc_row][vc_column][vc_single_image image=”61″ css_animation=”fadeInUp” alignment=”left”][/vc_column][/vc_row][vc_row][vc_column][vc_column_text css_animation=”fadeIn” font_size=”45″ font_family=”Roboto” font_weight=”500″ color=”#57529e”]\nWEEK VAN DE MEDIAWIJSHEID \n[/vc_column_text][vc_empty_space height=”10px”][vc_single_image image=”88″ img_size=”medium” css_animation=”fadeInUp” alignment=”left”][/vc_column][/vc_row][vc_row][vc_column][vc_column_text]Mediawijsheid staat voor alle competenties die je nodig hebt om actief en bewust mee te doen aan de mediasamenleving. Tijdens de Week van de Mediawijsheid vraagt Mediawijzer.net aandacht van ouders\, jongeren en leerkrachten voor het belang van mediawijsheid en wordt er een maatschappelijke discussie geactiveerd.[/vc_column_text][/vc_column][/vc_row][vc_row][vc_column][vc_single_image image=”61″ css_animation=”fadeInUp” alignment=”left”][/vc_column][/vc_row][vc_row][vc_column width=”1/2″]Issuekalender doorzoeken [/vc_column][vc_column width=”1/2″][/vc_column][/vc_row]
URL:https://issuekalender.nl/issue/week-van-de-mediawijsheid-2/2030-11-01/
CATEGORIES:Onderwijs en educatie
ORGANIZER;CN="Netwerk Mediawijsheid":MAILTO:info@mediawijzer.net
END:VEVENT
END:VCALENDAR