BEGIN:VCALENDAR
VERSION:2.0
PRODID:-//Issuekalender - ECPv6.9.0//NONSGML v1.0//EN
CALSCALE:GREGORIAN
METHOD:PUBLISH
X-WR-CALNAME:Issuekalender
X-ORIGINAL-URL:https://issuekalender.nl
X-WR-CALDESC:Evenementen voor Issuekalender
REFRESH-INTERVAL;VALUE=DURATION:PT1H
X-Robots-Tag:noindex
X-PUBLISHED-TTL:PT1H
BEGIN:VTIMEZONE
TZID:Europe/Amsterdam
BEGIN:DAYLIGHT
TZOFFSETFROM:+0100
TZOFFSETTO:+0200
TZNAME:CEST
DTSTART:20280326T010000
END:DAYLIGHT
BEGIN:STANDARD
TZOFFSETFROM:+0200
TZOFFSETTO:+0100
TZNAME:CET
DTSTART:20281029T010000
END:STANDARD
END:VTIMEZONE
BEGIN:VEVENT
DTSTART;VALUE=DATE:20281113
DTEND;VALUE=DATE:20281118
DTSTAMP:20260424T042605
CREATED:20230717T074515Z
LAST-MODIFIED:20241024T151301Z
UID:10008973-1857686400-1858118399@issuekalender.nl
SUMMARY:WEEK VAN HET NATIONAAL SCHOOLONTBIJT
DESCRIPTION:[vc_row][vc_column][vc_single_image image=”61″ css_animation=”fadeInUp” alignment=”left”][/vc_column][/vc_row][vc_row][vc_column][vc_column_text css_animation=”fadeIn” font_size=”45″ font_family=”Roboto” font_weight=”500″ color=”#57529e”]\nWEEK VAN HET NATIONAAL SCHOOLONTBIJT \n[/vc_column_text][vc_empty_space height=”10px”][vc_single_image image=”88″ img_size=”medium” css_animation=”fadeInUp” alignment=”left”][/vc_column][/vc_row][vc_row][vc_column][vc_column_text]In de ontbijtweek van het Nationaal Schoolontbijt van 11 – 15 november 2024 schuiven kinderen in heel Nederland op school aan tafel voor een gezond ontbijt en een leuke les over de beste start van de dag. Zo leren kinderen op een feestelijke manier hoe belangrijk het is om elke dag gezond te ontbijten. \nOok tijdens de 22e editie van de ontbijtweek maken we van gezond ontbijten weer een feestje![/vc_column_text][/vc_column][/vc_row][vc_row][vc_column][vc_single_image image=”61″ css_animation=”fadeInUp” alignment=”left”][/vc_column][/vc_row][vc_row][vc_column width=”1/2″]Issuekalender doorzoeken [/vc_column][vc_column width=”1/2″][/vc_column][/vc_row]
URL:https://issuekalender.nl/issue/week-van-het-nationaal-schoolontbijt/2028-11-13/
CATEGORIES:Onderwijs en educatie,Overige,Welzijn en gezondheid
ORGANIZER;CN="Schoolontbijt":MAILTO:info@schoolontbijt.nl
END:VEVENT
END:VCALENDAR