BEGIN:VCALENDAR
VERSION:2.0
PRODID:-//Issuekalender - ECPv6.9.0//NONSGML v1.0//EN
CALSCALE:GREGORIAN
METHOD:PUBLISH
X-ORIGINAL-URL:https://issuekalender.nl
X-WR-CALDESC:Evenementen voor Issuekalender
REFRESH-INTERVAL;VALUE=DURATION:PT1H
X-Robots-Tag:noindex
X-PUBLISHED-TTL:PT1H
BEGIN:VTIMEZONE
TZID:Europe/Amsterdam
BEGIN:DAYLIGHT
TZOFFSETFROM:+0100
TZOFFSETTO:+0200
TZNAME:CEST
DTSTART:20280326T010000
END:DAYLIGHT
BEGIN:STANDARD
TZOFFSETFROM:+0200
TZOFFSETTO:+0100
TZNAME:CET
DTSTART:20281029T010000
END:STANDARD
END:VTIMEZONE
BEGIN:VEVENT
DTSTART;VALUE=DATE:20280414
DTEND;VALUE=DATE:20280422
DTSTAMP:20260423T120711
CREATED:20251117T092628Z
LAST-MODIFIED:20251117T092628Z
UID:10009366-1839283200-1839974399@issuekalender.nl
SUMMARY:MEDIA UKKIE DAGEN
DESCRIPTION:[vc_row][vc_column][vc_single_image image=”61″ css_animation=”fadeInUp” alignment=”left”][/vc_column][/vc_row][vc_row][vc_column][vc_column_text css_animation=”fadeIn” font_size=”45″ font_family=”Roboto” font_weight=”500″ color=”#57529e”]\nMEDIA UKKIE DAGEN \n[/vc_column_text][vc_empty_space height=”10px”][vc_single_image image=”88″ img_size=”medium” css_animation=”fadeInUp” alignment=”left”][/vc_column][/vc_row][vc_row][vc_column][vc_column_text css=””]De Media Ukkie Dagen hebben tot doel om opvoeders en professionals te ondersteunen bij de mediaopvoeding van kinderen van 0 t/m 6 jaar. \nDe Media Ukkie Dagen is een initiatief van het Netwerk Mediawijsheid waar de focus ligt op jonge kinderen van 0 t/m 6 jaar\, hun ouders en (professionele) opvoeders. Met de campagne wil het Netwerk Mediawijsheid hen bewust maken van de vele kennis die er al is op het gebied van mediaopvoeding en concrete handvatten bieden om hier thuis mee aan de slag te gaan. Elk jaar spelen de netwerkpartners van het Netwerk Mediawijsheid een belangrijke rol in de campagne door het organiseren van activiteiten en door het gezamenlijk uitdragen van de campagneboodschap.[/vc_column_text][/vc_column][/vc_row][vc_row][vc_column][vc_single_image image=”61″ css_animation=”fadeInUp” alignment=”left”][/vc_column][/vc_row][vc_row][vc_column width=”1/2″]Issuekalender doorzoeken [/vc_column][vc_column width=”1/2″][/vc_column][/vc_row]
URL:https://issuekalender.nl/issue/media-ukkie-dagen-check-2/2028-04-14/
CATEGORIES:Onderwijs en educatie
ORGANIZER;CN="Netwerk Mediawijsheid":MAILTO:info@mediawijzer.net
END:VEVENT
END:VCALENDAR