BEGIN:VCALENDAR
VERSION:2.0
PRODID:-//Issuekalender - ECPv6.9.0//NONSGML v1.0//EN
CALSCALE:GREGORIAN
METHOD:PUBLISH
X-WR-CALNAME:Issuekalender
X-ORIGINAL-URL:https://issuekalender.nl
X-WR-CALDESC:Evenementen voor Issuekalender
REFRESH-INTERVAL;VALUE=DURATION:PT1H
X-Robots-Tag:noindex
X-PUBLISHED-TTL:PT1H
BEGIN:VTIMEZONE
TZID:Europe/Amsterdam
BEGIN:DAYLIGHT
TZOFFSETFROM:+0100
TZOFFSETTO:+0200
TZNAME:CEST
DTSTART:20300331T010000
END:DAYLIGHT
BEGIN:STANDARD
TZOFFSETFROM:+0200
TZOFFSETTO:+0100
TZNAME:CET
DTSTART:20301027T010000
END:STANDARD
END:VTIMEZONE
BEGIN:VEVENT
DTSTART;VALUE=DATE:20300302
DTEND;VALUE=DATE:20300311
DTSTAMP:20260425T020336
CREATED:20251117T091938Z
LAST-MODIFIED:20251117T091939Z
UID:10009336-1898640000-1899417599@issuekalender.nl
SUMMARY:WEEK VAN DE HOOGBEGAAFDHEID
DESCRIPTION:[vc_row][vc_column][vc_single_image image=”61″ css_animation=”fadeInUp” alignment=”left”][/vc_column][/vc_row][vc_row][vc_column][vc_column_text css_animation=”fadeIn” font_size=”45″ font_family=”Roboto” font_weight=”500″ color=”#57529e”]\nWEEK VAN DE HOOGBEGAAFDHEID \n[/vc_column_text][vc_empty_space height=”10px”][vc_single_image image=”88″ img_size=”medium” css_animation=”fadeInUp” alignment=”left”][/vc_column][/vc_row][vc_row][vc_column][vc_column_text]Hoogbegaafdheid is een woord dat niet bij iedereen positieve gedachten oproept. Er bestaan ook veel vooroordelen en misvattingen over. Mede hierdoor kunnen hoogbegaafden niet altijd en overal zichzelf zijn en hun talenten optimaal inzetten. En dat is enorm jammer\, want hoogbegaafden hebben de maatschappij veel te bieden.\nDe Week van de Hoogbegaafdheid brengt het onderwerp positief onder de aandacht en wil kennis over hoogbegaafdheid verspreiden en vooroordelen en misvattingen proberen weg te nemen.[/vc_column_text][/vc_column][/vc_row][vc_row][vc_column][vc_single_image image=”61″ css_animation=”fadeInUp” alignment=”left”][/vc_column][/vc_row][vc_row][vc_column width=”1/2″]Issuekalender doorzoeken [/vc_column][vc_column width=”1/2″][/vc_column][/vc_row]
URL:https://issuekalender.nl/issue/week-van-de-hoogbegaafdheid-2/2030-03-02/
CATEGORIES:Mens en maatschappij,Onderwijs en educatie
ORGANIZER;CN="Rianne van de Ven%2C Vereniging Mensa Nederland%2C Instituut hoogbegaafdheid Nederland%2C iQBegrijp":MAILTO:info@weekvandehoogbegaafdheid.nl
END:VEVENT
BEGIN:VEVENT
DTSTART;VALUE=DATE:20300314
DTEND;VALUE=DATE:20300315
DTSTAMP:20260425T020336
CREATED:20230714T140711Z
LAST-MODIFIED:20251111T112713Z
UID:10009140-1899676800-1899763199@issuekalender.nl
SUMMARY:PI-DAG
DESCRIPTION:[vc_row][vc_column][vc_single_image image=”61″ css_animation=”fadeInUp” alignment=”left”][/vc_column][/vc_row][vc_row][vc_column][vc_column_text css_animation=”fadeIn” font_size=”45″ font_family=”Roboto” font_weight=”500″ color=”#57529e”]\nPI-DAG \n[/vc_column_text][vc_empty_space height=”10px”][vc_single_image image=”88″ img_size=”medium” css_animation=”fadeInUp” alignment=”left”][/vc_column][/vc_row][vc_row][vc_column][vc_column_text]Op π-dag\, 14 maart\, wordt wereldwijd op verschillende wiskundeafdelingen van universiteiten feestgevierd. π-dag wordt op 14 maart gevierd\, omdat in de Amerikaanse schrijfwijze voor data 14 maart geschreven wordt als 3/14 en de driecijferige benadering voor π 3\,14 is. Deze dag wordt op verschillende manieren gevierd. De viering begint gewoonlijk om 13:59 uur (1:59 PM)\, omdat de zescijferige benadering van π 3\,14159 is.[/vc_column_text][/vc_column][/vc_row][vc_row][vc_column][vc_single_image image=”61″ css_animation=”fadeInUp” alignment=”left”][/vc_column][/vc_row][vc_row][vc_column width=”1/2″]Issuekalender doorzoeken [/vc_column][vc_column width=”1/2″][/vc_column][/vc_row]
URL:https://issuekalender.nl/issue/pi-dag/2030-03-14/
CATEGORIES:Innovatie en technologie,Onderwijs en educatie,Wetenschap
END:VEVENT
BEGIN:VEVENT
DTSTART;VALUE=DATE:20300315
DTEND;VALUE=DATE:20300316
DTSTAMP:20260425T020336
CREATED:20230714T144357Z
LAST-MODIFIED:20251111T112835Z
UID:10009151-1899763200-1899849599@issuekalender.nl
SUMMARY:WERELDVERTELDAG
DESCRIPTION:[vc_row][vc_column][vc_single_image image=”61″ css_animation=”fadeInUp” alignment=”left”][/vc_column][/vc_row][vc_row][vc_column][vc_column_text css_animation=”fadeIn” font_size=”45″ font_family=”Roboto” font_weight=”500″ color=”#57529e”]\nWERELDVERTELDAG \n[/vc_column_text][vc_empty_space height=”10px”][vc_single_image image=”88″ img_size=”medium” css_animation=”fadeInUp” alignment=”left”][/vc_column][/vc_row][vc_row][vc_column][vc_column_text]Op Wereldverteldag vieren vertellers uit de hele wereld de kunst van het vertellen: het overdragen van verhalen in de mondelinge traditie.[/vc_column_text][/vc_column][/vc_row][vc_row][vc_column][vc_single_image image=”61″ css_animation=”fadeInUp” alignment=”left”][/vc_column][/vc_row][vc_row][vc_column width=”1/2″]Issuekalender doorzoeken [/vc_column][vc_column width=”1/2″][/vc_column][/vc_row]
URL:https://issuekalender.nl/issue/wereldverteldag/2030-03-15/
CATEGORIES:Mens en maatschappij,Onderwijs en educatie
ORGANIZER;CN="Werkgroep Wereldverteldag":MAILTO:info@wereldverteldag.nl
END:VEVENT
BEGIN:VEVENT
DTSTART;VALUE=DATE:20300321
DTEND;VALUE=DATE:20300322
DTSTAMP:20260425T020336
CREATED:20230714T143033Z
LAST-MODIFIED:20251111T112756Z
UID:10009143-1900281600-1900367999@issuekalender.nl
SUMMARY:DAG VAN DE GEZONDE SCHOOLKANTINE
DESCRIPTION:[vc_row][vc_column][vc_single_image image=”61″ css_animation=”fadeInUp” alignment=”left”][/vc_column][/vc_row][vc_row][vc_column][vc_column_text css_animation=”fadeIn” font_size=”45″ font_family=”Roboto” font_weight=”500″ color=”#57529e”]\nDAG VAN DE GEZONDE SCHOOLKANTINE \n[/vc_column_text][vc_empty_space height=”10px”][vc_single_image image=”88″ img_size=”medium” css_animation=”fadeInUp” alignment=”left”][/vc_column][/vc_row][vc_row][vc_column][vc_column_text]Dag van de Gezonde Schoolkantine. \nEen gezonde schoolkantine is een belangrijke factor in het gezonder maken van de eetomgeving van jongeren. Willen we dat zij gezonder leven\, dan is het belangrijk dat zij ook op school gezond kunnen eten en drinken. Zij brengen hier immers een groot deel van hun tijd door. Ervaren dat gezond eten lekker en heel gewoon is\, helpt hen een gezond eetpatroon te ontwikkelen.[/vc_column_text][/vc_column][/vc_row][vc_row][vc_column][vc_single_image image=”61″ css_animation=”fadeInUp” alignment=”left”][/vc_column][/vc_row][vc_row][vc_column width=”1/2″]Issuekalender doorzoeken [/vc_column][vc_column width=”1/2″][/vc_column][/vc_row]
URL:https://issuekalender.nl/issue/dag-van-de-gezonde-schoolkantine/2030-03-21/
CATEGORIES:Mens en maatschappij,Onderwijs en educatie,Welzijn en gezondheid
ORGANIZER;CN="Voedingscentrum Nederland":MAILTO:schuit@voedingscentrum.nl
END:VEVENT
BEGIN:VEVENT
DTSTART;VALUE=DATE:20300325
DTEND;VALUE=DATE:20300330
DTSTAMP:20260425T020336
CREATED:20251117T092452Z
LAST-MODIFIED:20260218T085322Z
UID:10009630-1900627200-1901059199@issuekalender.nl
SUMMARY:WEEK VAN DE LENTEKRIEBELS
DESCRIPTION:[vc_row][vc_column][vc_single_image image=”61″ css_animation=”fadeInUp” alignment=”left”][/vc_column][/vc_row][vc_row][vc_column][vc_column_text css_animation=”fadeIn” font_size=”45″ font_family=”Roboto” font_weight=”500″ color=”#57529e”]\nWEEK VAN DE LENTEKRIEBELS \n[/vc_column_text][vc_empty_space height=”10px”][vc_single_image image=”88″ img_size=”medium” css_animation=”fadeInUp” alignment=”left”][/vc_column][/vc_row][vc_row][vc_column][vc_column_text]De Week van de Lentekriebels is een nationale projectweek voor het basisonderwijs. Deelnemende scholen geven een week lang les over relaties en seksualiteit. Wat jaren geleden begon met 24 scholen\, is uitgegroeid tot een groot succes. Inmiddels hebben meer dan 2500 scholen meegedaan aan de Week\, waarbij veel GGD’en in de regio ondersteuning bieden. Ook ouders en kinderen zijn enthousiast. Tijdens deze projectweek wordt er schoolbreed in groep 1 t/m 8 elke dag een les gegeven over relaties en seksualiteit. Ook ouders worden hierbij betrokken\, meestal door middel van een ouderavond. \nOok lanceert initiatiefnemer Rutgers WPF (kenniscentrum seksualiteit) het allereerste speciale Lentekriebellied\, als startmoment van de jubileumweek.[/vc_column_text][/vc_column][/vc_row][vc_row][vc_column][vc_single_image image=”61″ css_animation=”fadeInUp” alignment=”left”][/vc_column][/vc_row][vc_row][vc_column width=”1/2″]Issuekalender doorzoeken [/vc_column][vc_column width=”1/2″][/vc_column][/vc_row]
URL:https://issuekalender.nl/issue/week-van-de-lentekriebels-2/2030-03-25/
CATEGORIES:Onderwijs en educatie
ORGANIZER;CN="Rutgers WPF (kenniscentrum seksualiteit)":MAILTO:office@rutgerswpf.org
END:VEVENT
END:VCALENDAR