BEGIN:VCALENDAR
VERSION:2.0
PRODID:-//Issuekalender - ECPv6.9.0//NONSGML v1.0//EN
CALSCALE:GREGORIAN
METHOD:PUBLISH
X-ORIGINAL-URL:https://issuekalender.nl
X-WR-CALDESC:Evenementen voor Issuekalender
REFRESH-INTERVAL;VALUE=DURATION:PT1H
X-Robots-Tag:noindex
X-PUBLISHED-TTL:PT1H
BEGIN:VTIMEZONE
TZID:Europe/Amsterdam
BEGIN:DAYLIGHT
TZOFFSETFROM:+0100
TZOFFSETTO:+0200
TZNAME:CEST
DTSTART:20290325T010000
END:DAYLIGHT
BEGIN:STANDARD
TZOFFSETFROM:+0200
TZOFFSETTO:+0100
TZNAME:CET
DTSTART:20291028T010000
END:STANDARD
END:VTIMEZONE
BEGIN:VEVENT
DTSTART;VALUE=DATE:20290122
DTEND;VALUE=DATE:20290202
DTSTAMP:20260424T052329
CREATED:20231012T104805Z
LAST-MODIFIED:20241024T144537Z
UID:10008842-1863734400-1864684799@issuekalender.nl
SUMMARY:DE NATIONALE VOORLEESDAGEN
DESCRIPTION:[vc_row][vc_column][vc_single_image image=”61″ css_animation=”fadeInUp” alignment=”left”][/vc_column][/vc_row][vc_row][vc_column][vc_column_text css_animation=”fadeIn” font_size=”45″ font_family=”Roboto” font_weight=”500″ color=”#57529e”]\nDE NATIONALE VOORLEESDAGEN \n[/vc_column_text][vc_empty_space height=”10px”][vc_single_image image=”88″ img_size=”medium” css_animation=”fadeInUp” alignment=”left”][/vc_column][/vc_row][vc_row][vc_column][vc_column_text css=””]Speciaal voor baby’s\, peuters en kleuters zijn er De Nationale Voorleesdagen. Deze dagen hebben als doel het voorlezen aan kinderen die zelf nog niet kunnen lezen\, te bevorderen. Zo worden kleintjes grote lezers. Deze dagen worden georganiseerd om ouders te stimuleren om voor te gaan lezen. \n[/vc_column_text][/vc_column][/vc_row][vc_row][vc_column][vc_single_image image=”61″ css_animation=”fadeInUp” alignment=”left”][/vc_column][/vc_row][vc_row][vc_column width=”1/2″]Issuekalender doorzoeken [/vc_column][vc_column width=”1/2″][/vc_column][/vc_row]
URL:https://issuekalender.nl/issue/de-nationale-voorleesdagen-2/2029-01-22/
CATEGORIES:Onderwijs en educatie,Ontspanning en plezier
ORGANIZER;CN="Stichting Lezen en Stichting CPNB":MAILTO:info@cpnb.nl
END:VEVENT
BEGIN:VEVENT
DTSTART;VALUE=DATE:20290124
DTEND;VALUE=DATE:20290125
DTSTAMP:20260424T052329
CREATED:20231012T084159Z
LAST-MODIFIED:20240731T142244Z
UID:10006599-1863907200-1863993599@issuekalender.nl
SUMMARY:INTERNATIONALE DAG VAN HET ONDERWIJS (VN)
DESCRIPTION:[vc_row][vc_column][vc_single_image image=”61″ css_animation=”fadeInUp” alignment=”left”][/vc_column][/vc_row][vc_row][vc_column][vc_column_text css_animation=”fadeIn” font_size=”45″ font_family=”Roboto” font_weight=”500″ color=”#57529e”]\nINTERNATIONALE DAG VAN HET ONDERWIJS (VN) \n[/vc_column_text][vc_empty_space height=”10px”][vc_single_image image=”88″ img_size=”medium” css_animation=”fadeInUp” alignment=”left”][/vc_column][/vc_row][vc_row][vc_column][vc_column_text]Het recht op onderwijs is vastgelegd in artikel 26 van de Universele Verklaring van de Rechten van de Mens. De verklaring roept op tot gratis en verplicht basisonderwijs. Het Verdrag inzake de rechten van het kind\, dat in 1989 is aangenomen\, gaat verder en bepaalt dat landen het hoger onderwijs voor iedereen toegankelijk moeten maken. \nOnderwijs is de sleutel tot duurzame ontwikkeling\nToen zij in september 2015 de Agenda voor duurzame ontwikkeling 2030 goedkeurde\, erkende de internationale gemeenschap dat onderwijs essentieel is voor het welslagen van alle 17 doelstellingen. Doel 4 van de Agenda voor duurzame ontwikkeling is met name om tegen 2030 “inclusief en rechtvaardig kwaliteitsonderwijs te waarborgen en de mogelijkheden voor een leven lang leren voor iedereen te bevorderen”.[/vc_column_text][/vc_column][/vc_row][vc_row][vc_column][vc_single_image image=”61″ css_animation=”fadeInUp” alignment=”left”][/vc_column][/vc_row][vc_row][vc_column width=”1/2″]Issuekalender doorzoeken [/vc_column][vc_column width=”1/2″][/vc_column][/vc_row]
URL:https://issuekalender.nl/issue/internationale-dag-van-het-onderwijs-vn-2/2029-01-24/
CATEGORIES:Onderwijs en educatie
END:VEVENT
BEGIN:VEVENT
DTSTART;VALUE=DATE:20290128
DTEND;VALUE=DATE:20290129
DTSTAMP:20260424T052329
CREATED:20231012T085902Z
LAST-MODIFIED:20241024T125204Z
UID:10006570-1864252800-1864339199@issuekalender.nl
SUMMARY:NATIONALE HOLOCAUST HERDENKING
DESCRIPTION:[vc_row][vc_column][vc_single_image image=”61″ css_animation=”fadeInUp” alignment=”left”][/vc_column][/vc_row][vc_row][vc_column][vc_column_text css_animation=”fadeIn” font_size=”45″ font_family=”Roboto” font_weight=”500″ color=”#57529e”]\nNATIONALE HOLOCAUST HERDENKING \n[/vc_column_text][vc_empty_space height=”10px”][vc_single_image image=”88″ img_size=”medium” css_animation=”fadeInUp” alignment=”left”][/vc_column][/vc_row][vc_row][vc_column][vc_column_text css=””]In 2005 riep Kofi Annan\, toenmalig secretaris-generaal van de Verenigde Naties\, de bevrijdingsdatum van Auschwitz uit tot een dag van herdenking. Wereldwijd worden de slachtoffers herdacht van de Holocaust en andere genociden zoals die in Cambodja\, Rwanda\, Srebrenica en Darfur. Auschwitz is uitgegroeid tot universeel symbool voor de massavernietiging van onschuldige burgers. De Nationale Auschwitz Herdenking is uitgebreid met de Holocaust Memorial Day. Rondom deze dag worden in Nederland door vele organisaties activiteiten georganiseerd. De activiteiten worden afgesloten met de Holocaust Memorial Day/Nationale Auschwitz Herdenking\, welke plaatsvindt op de laatste zondag in januari.[/vc_column_text][/vc_column][/vc_row][vc_row][vc_column][vc_single_image image=”61″ css_animation=”fadeInUp” alignment=”left”][/vc_column][/vc_row][vc_row][vc_column width=”1/2″]Issuekalender doorzoeken [/vc_column][vc_column width=”1/2″][/vc_column][/vc_row]
URL:https://issuekalender.nl/issue/nationale-holocaust-herdenking/2029-01-28/
CATEGORIES:Kunst en cultuur,Mens en maatschappij,Onderwijs en educatie,Sociale cohesie en integratie
ORGANIZER;CN="Nederlands Auschwitz Comit%C3%A9":MAILTO:info@holocaust-memorial-day.nl
END:VEVENT
END:VCALENDAR