BEGIN:VCALENDAR
VERSION:2.0
PRODID:-//Issuekalender - ECPv6.9.0//NONSGML v1.0//EN
CALSCALE:GREGORIAN
METHOD:PUBLISH
X-WR-CALNAME:Issuekalender
X-ORIGINAL-URL:https://issuekalender.nl
X-WR-CALDESC:Evenementen voor Issuekalender
REFRESH-INTERVAL;VALUE=DURATION:PT1H
X-Robots-Tag:noindex
X-PUBLISHED-TTL:PT1H
BEGIN:VTIMEZONE
TZID:Europe/Amsterdam
BEGIN:DAYLIGHT
TZOFFSETFROM:+0100
TZOFFSETTO:+0200
TZNAME:CEST
DTSTART:20230326T010000
END:DAYLIGHT
BEGIN:STANDARD
TZOFFSETFROM:+0200
TZOFFSETTO:+0100
TZNAME:CET
DTSTART:20231029T010000
END:STANDARD
END:VTIMEZONE
BEGIN:VEVENT
DTSTART;VALUE=DATE:20230916
DTEND;VALUE=DATE:20230917
DTSTAMP:20260419T155449
CREATED:20230713T125026Z
LAST-MODIFIED:20241007T125104Z
UID:10002724-1694822400-1694908799@issuekalender.nl
SUMMARY:INTERNATIONALE DAG VOOR HET BEHOUD VAN DE OZONLAAG (VN)
DESCRIPTION:[vc_row][vc_column][vc_single_image image=”61″ css_animation=”fadeInUp” alignment=”left”][/vc_column][/vc_row][vc_row][vc_column][vc_column_text css_animation=”fadeIn” font_size=”45″ font_family=”Roboto” font_weight=”500″ color=”#57529e”]\nINTERNATIONALE DAG VOOR HET BEHOUD VAN DE OZONLAAG (VN) \n[/vc_column_text][vc_empty_space height=”10px”][vc_single_image image=”88″ img_size=”medium” css_animation=”fadeInUp” alignment=”left”][/vc_column][/vc_row][vc_row][vc_column][vc_column_text]De Verenigde Naties hebben 16 september uitgeroepen tot de ‘Internationale Dag voor het Behoud van de Ozonlaag’ (International Day for the Preservation of the Ozone Layer). Deze datum refereert naar 1987 wanneer op 16 september het Montreal Protocol werd ondertekend. Dit is een internationaal verdrag opgesteld om de ozonlaag te beschermen. De ‘Internationale Dag voor het Behoud van de Ozonlaag’ is een dag voor landen om jaarlijks (nationaal) activiteiten onder de aandacht te brengen\, die niet schadelijk zijn voor de ozonlaag.[/vc_column_text][/vc_column][/vc_row][vc_row][vc_column][vc_single_image image=”61″ css_animation=”fadeInUp” alignment=”left”][/vc_column][/vc_row][vc_row][vc_column width=”1/2″]Issuekalender doorzoeken [/vc_column][vc_column width=”1/2″][/vc_column][/vc_row]
URL:https://issuekalender.nl/issue/internationale-dag-voor-het-behoud-van-de-ozonlaag-vn/2023-09-16/
CATEGORIES:Milieu en duurzaamheid
END:VEVENT
END:VCALENDAR