BEGIN:VCALENDAR
VERSION:2.0
PRODID:-//Issuekalender - ECPv6.9.0//NONSGML v1.0//EN
CALSCALE:GREGORIAN
METHOD:PUBLISH
X-ORIGINAL-URL:https://issuekalender.nl
X-WR-CALDESC:Evenementen voor Issuekalender
REFRESH-INTERVAL;VALUE=DURATION:PT1H
X-Robots-Tag:noindex
X-PUBLISHED-TTL:PT1H
BEGIN:VTIMEZONE
TZID:Europe/Amsterdam
BEGIN:DAYLIGHT
TZOFFSETFROM:+0100
TZOFFSETTO:+0200
TZNAME:CEST
DTSTART:20290325T010000
END:DAYLIGHT
BEGIN:STANDARD
TZOFFSETFROM:+0200
TZOFFSETTO:+0100
TZNAME:CET
DTSTART:20291028T010000
END:STANDARD
END:VTIMEZONE
BEGIN:VEVENT
DTSTART;VALUE=DATE:20290923
DTEND;VALUE=DATE:20290930
DTSTAMP:20260425T030817
CREATED:20251117T114515Z
LAST-MODIFIED:20251117T114515Z
UID:10009431-1884816000-1885420799@issuekalender.nl
SUMMARY:COLLECTE DIERENBESCHERMING
DESCRIPTION:[vc_row][vc_column][vc_single_image image=”61″ css_animation=”fadeInUp” alignment=”left”][/vc_column][/vc_row][vc_row][vc_column][vc_column_text css_animation=”fadeIn” font_size=”45″ font_family=”Roboto” font_weight=”500″ color=”#57529e”]\nCOLLECTE DIERENBESCHERMING \n[/vc_column_text][vc_empty_space height=”10px”][vc_single_image image=”88″ img_size=”medium” css_animation=”fadeInUp” alignment=”left”][/vc_column][/vc_row][vc_row][vc_column][vc_column_text]De collecte van de Dierenbescherming vindt elk jaar plaats in de week rondom Werelddierendag (4 oktober). De opbrengst van de collecte wordt lokaal besteed en komt dus direct ten goede aan dieren in uw regio.[/vc_column_text][/vc_column][/vc_row][vc_row][vc_column][vc_single_image image=”61″ css_animation=”fadeInUp” alignment=”left”][/vc_column][/vc_row][vc_row][vc_column width=”1/2″]Issuekalender doorzoeken [/vc_column][vc_column width=”1/2″][/vc_column][/vc_row]
URL:https://issuekalender.nl/issue/collecte-dierenbescherming-2-2/2029-09-23/
CATEGORIES:Dierenwelzijn,Overige
END:VEVENT
BEGIN:VEVENT
DTSTART;VALUE=DATE:20290924
DTEND;VALUE=DATE:20291001
DTSTAMP:20260425T030817
CREATED:20241023T140001Z
LAST-MODIFIED:20241023T140032Z
UID:10008190-1884902400-1885507199@issuekalender.nl
SUMMARY:LANDELIJKE BORSTVOEDINGSWEEK
DESCRIPTION:[vc_row][vc_column][vc_single_image image=”61″ css_animation=”fadeInUp” alignment=”left”][/vc_column][/vc_row][vc_row][vc_column][vc_column_text css_animation=”fadeIn” font_size=”45″ font_family=”Roboto” font_weight=”500″ color=”#57529e”]\nLANDELIJKE BORSTVOEDINGSWEEK \n[/vc_column_text][vc_empty_space height=”10px”][vc_single_image image=”88″ img_size=”medium” css_animation=”fadeInUp” alignment=”left”][/vc_column][/vc_row][vc_row][vc_column][vc_column_text]De Landelijke Borstvoedingsraad zet zich in voor een omgeving waar borstvoeding geven de norm is. Daarom organiseert de Landelijke Borstvoedingsraad in samenwerking met het Voedingscentrum de borstvoedingsweek. \nIeder jaar wordt de Landelijke Borstvoedingsweek georganiseerd in week 40.[/vc_column_text][/vc_column][/vc_row][vc_row][vc_column][vc_single_image image=”61″ css_animation=”fadeInUp” alignment=”left”][/vc_column][/vc_row][vc_row][vc_column width=”1/2″]Issuekalender doorzoeken [/vc_column][vc_column width=”1/2″][/vc_column][/vc_row]
URL:https://issuekalender.nl/issue/landelijke-borstvoedingsweek-check/2029-09-24/
CATEGORIES:Welzijn en gezondheid
END:VEVENT
BEGIN:VEVENT
DTSTART;VALUE=DATE:20290924
DTEND;VALUE=DATE:20291001
DTSTAMP:20260425T030817
CREATED:20251125T144107Z
LAST-MODIFIED:20260407T091009Z
UID:10009559-1884902400-1885507199@issuekalender.nl
SUMMARY:WEEK VAN DE BETEKENISECONOMIE
DESCRIPTION:[vc_row][vc_column][vc_single_image image=”61″ css_animation=”fadeInUp” alignment=”left”][/vc_column][/vc_row][vc_row][vc_column][vc_column_text css_animation=”fadeIn” font_size=”45″ font_family=”Roboto” font_weight=”500″ color=”#57529e”]\nWeek van de Betekeniseconomie \n[/vc_column_text][vc_empty_space height=”10px”][vc_single_image image=”88″ img_size=”medium” css_animation=”fadeInUp” alignment=”left”][/vc_column][/vc_row][vc_row][vc_column][vc_column_text] De Week van de Betekeniseconomie is een initiatief van Veronique Kilian om een beweging te versterken van ondernemende mensen die betekenisvolle keuzes willen maken met positieve impact op de planeet. \nDe wereldwijde ontwikkeling van welvaart is gepaard gegaan met ontegenzeggelijk positieve ontwikkelingen: de levensverwachting is hoger dan ooit\, het percentage mensen dat leeft in armoede is lager dan ooit\, meer mensen dan ooit hebben toegang tot schoon drinkwater en onderwijs en het gemiddelde inkomen is hoger dan ooit. Economische groei lijkt het ultieme recept voor een florerende wereld. Maar de keerzijde van het succesverhaal is inmiddels bekend: de economische groei blijkt gepaard te gaan met ontwikkelingen die onze samenleving fundamenteel ontwrichten. Denk aan de klimaatverandering\, de ineenstorting van de biodiversiteit\, de groeiende welvaartsongelijkheid\, de polarisatie in de samenleving en de alarmerende toename van het aantal mensen met een depressie of burn-out. De ecologische\, sociale en individuele kosten van het huidige economische systeem zo hoog geworden\, dat er sprake is van een existentiële crisis. Het is daarom noodzakelijk om op zoek te gaan naar een volledig nieuw economisch narratief: de Betekeniseconomie. Betekeniseconomie koppelt ons (individuele\, menselijke) levensbestaan aan het (universele\, natuurlijke) levensbestaan.\n[/vc_column_text][/vc_column][/vc_row][vc_row][vc_column][vc_single_image image=”61″ css_animation=”fadeInUp” alignment=”left”][/vc_column][/vc_row][vc_row][vc_column width=”1/2″]Issuekalender doorzoeken [/vc_column][vc_column width=”1/2″][/vc_column][/vc_row]
URL:https://issuekalender.nl/issue/week-van-de-betekeniseconomie/2029-09-24/
CATEGORIES:Mens en maatschappij
END:VEVENT
BEGIN:VEVENT
DTSTART;VALUE=DATE:20290926
DTEND;VALUE=DATE:20290927
DTSTAMP:20260425T030817
CREATED:20230713T132444Z
LAST-MODIFIED:20241007T142427Z
UID:10007692-1885075200-1885161599@issuekalender.nl
SUMMARY:WERELD ANTICONCEPTIEDAG
DESCRIPTION:[vc_row][vc_column][vc_single_image image=”61″ css_animation=”fadeInUp” alignment=”left”][/vc_column][/vc_row][vc_row][vc_column][vc_column_text css_animation=”fadeIn” font_size=”45″ font_family=”Roboto” font_weight=”500″ color=”#57529e”]\nWERELD ANTICONCEPTIEDAG \n[/vc_column_text][vc_empty_space height=”10px”][vc_single_image image=”88″ img_size=”medium” css_animation=”fadeInUp” alignment=”left”][/vc_column][/vc_row][vc_row][vc_column][vc_column_text]De ‘Wereld Anticonceptie Dag’ (World Contraception Day) vindt sinds 2007 jaarlijks plaats op 26 september en is een initiatief van een internationaal gezelschap van organisaties op het gebied van gezinsplanning. Dit is geen dag voor geboortebeperking. Tijdens ‘Wereld Anticonceptie Dag’ wordt het belang van anticonceptie vooral benadrukt om ongewenste zwangerschap te voorkomen en wereldwijd veilige seks te promoten. 85% van de tienerzwangerschappen blijkt ongepland en jaarlijks raken miljoenen mensen besmet met SOA`s omdat ze niet weten hoe zij zich moeten beschermen. Tijdens Wereld Anticonceptiedag word het belang van anticonceptie benadrukt.[/vc_column_text][/vc_column][/vc_row][vc_row][vc_column][vc_single_image image=”61″ css_animation=”fadeInUp” alignment=”left”][/vc_column][/vc_row][vc_row][vc_column width=”1/2″]Issuekalender doorzoeken [/vc_column][vc_column width=”1/2″][/vc_column][/vc_row]
URL:https://issuekalender.nl/issue/wereld-anticonceptiedag/2029-09-26/
CATEGORIES:Welzijn en gezondheid
ORGANIZER;CN="Ketchumpleon":MAILTO:hannah.morris@ketchumpleon.com
END:VEVENT
BEGIN:VEVENT
DTSTART;VALUE=DATE:20290926
DTEND;VALUE=DATE:20290927
DTSTAMP:20260425T030817
CREATED:20230713T132647Z
LAST-MODIFIED:20241007T142542Z
UID:10007693-1885075200-1885161599@issuekalender.nl
SUMMARY:EUROPESE DAG VAN DE TALEN
DESCRIPTION:[vc_row][vc_column][vc_single_image image=”61″ css_animation=”fadeInUp” alignment=”left”][/vc_column][/vc_row][vc_row][vc_column][vc_column_text css_animation=”fadeIn” font_size=”45″ font_family=”Roboto” font_weight=”500″ color=”#57529e”]\nEUROPESE DAG VAN DE TALEN \n[/vc_column_text][vc_empty_space height=”10px”][vc_single_image image=”88″ img_size=”medium” css_animation=”fadeInUp” alignment=”left”][/vc_column][/vc_row][vc_row][vc_column][vc_column_text]De Raad van Europa heeft 26 september ingesteld als de ‘Europese Dag van de Talen’ waarop de taaldiversiteit van Europa wordt gevierd en het leren van talen wordt gestimuleerd. Op deze dag vinden er tal van activiteiten plaats om op bijzondere wijze aandacht te vragen en te besteden aan ‘vreemde talen’. Er zijn ruim 200 Europese talen\, waarvan 24 officiële EU-talen en zo’n 60 regionale/minderheidstalen. \nDe algemene doelstellingen van ‘Europese Dag van de Talen’ zijn het publiek op de hoogte brengen van het belang van het leren van talen om meertaligheid en intercultureel begrip te vergroten\, het bevorderen van rijke taalkundige en culturele diversiteit in Europa\, die moet worden behouden en bevorderd\, en het aanmoedigen van het levenslang leren van talen in en buiten school\, voor zowel studiedoeleinden\, uitwisseling\, professionele behoeften\, ter bevordering van mobiliteit of gewoon voor het plezier.[/vc_column_text][/vc_column][/vc_row][vc_row][vc_column][vc_single_image image=”61″ css_animation=”fadeInUp” alignment=”left”][/vc_column][/vc_row][vc_row][vc_column width=”1/2″]Issuekalender doorzoeken [/vc_column][vc_column width=”1/2″][/vc_column][/vc_row]
URL:https://issuekalender.nl/issue/europese-dag-van-de-talen/2029-09-26/
CATEGORIES:Onderwijs en educatie
END:VEVENT
BEGIN:VEVENT
DTSTART;VALUE=DATE:20290926
DTEND;VALUE=DATE:20290927
DTSTAMP:20260425T030817
CREATED:20230713T132737Z
LAST-MODIFIED:20241007T142208Z
UID:10007690-1885075200-1885161599@issuekalender.nl
SUMMARY:INTERNATIONALE DAG VOOR DE TOTALE ELIMINATIE VAN NUCLEAIRE WAPENS (VN)
DESCRIPTION:[vc_row][vc_column][vc_single_image image=”61″ css_animation=”fadeInUp” alignment=”left”][/vc_column][/vc_row][vc_row][vc_column][vc_column_text css_animation=”fadeIn” font_size=”45″ font_family=”Roboto” font_weight=”500″ color=”#57529e”]\nINTERNATIONALE DAG VOOR DE TOTALE ELIMINATIE VAN NUCLEAIRE WAPENS (VN) \n[/vc_column_text][vc_empty_space height=”10px”][vc_single_image image=”88″ img_size=”medium” css_animation=”fadeInUp” alignment=”left”][/vc_column][/vc_row][vc_row][vc_column][vc_column_text]De wereld heeft al lang ingezien dat nucleaire ontwapening de enige garantie biedt tegen het gebruik van nucleaire wapens\, want elk gebruik hiervan zou catastrophale humanitaire gevolgen hebben. Nucleaire ontwapening is daarom niet alleen een idealistische droom\, maar ook een uiterst dringende noodzakelijkheid om aan de veiligheidsbelangen van de gehele mensheid te voldoen. \nDeze Internationale Dag is niet enkel een dag waarop we oproepen om de productie van nucleaire wapens in te perken maar ook om hun slagwijdte te beperken\, en de implementatie ervan te reduceren in beveiliginsbeleid. Het is eveneens de dag waarop de wereld reflecteert over de vele voordelen die zouden voortvloeien uit nucleaire ontwapening\, zoals een verhoogde veiligheid of het behoud van financiële en wetenschappelijke middelen. Het is een dag waarop we ons de gevolgen kunnen inbeelden van het mislukken van een gevaarlijke en fragile nucleaire doctrine.[/vc_column_text][/vc_column][/vc_row][vc_row][vc_column][vc_single_image image=”61″ css_animation=”fadeInUp” alignment=”left”][/vc_column][/vc_row][vc_row][vc_column width=”1/2″]Issuekalender doorzoeken [/vc_column][vc_column width=”1/2″][/vc_column][/vc_row]
URL:https://issuekalender.nl/issue/internationale-dag-voor-de-totale-eliminatie-van-nucleaire-wapens-vn/2029-09-26/
CATEGORIES:Mens en maatschappij,Overige,Veiligheid
END:VEVENT
END:VCALENDAR