BEGIN:VCALENDAR
VERSION:2.0
PRODID:-//Issuekalender - ECPv6.9.0//NONSGML v1.0//EN
CALSCALE:GREGORIAN
METHOD:PUBLISH
X-WR-CALNAME:Issuekalender
X-ORIGINAL-URL:https://issuekalender.nl
X-WR-CALDESC:Evenementen voor Issuekalender
REFRESH-INTERVAL;VALUE=DURATION:PT1H
X-Robots-Tag:noindex
X-PUBLISHED-TTL:PT1H
BEGIN:VTIMEZONE
TZID:Europe/Amsterdam
BEGIN:DAYLIGHT
TZOFFSETFROM:+0100
TZOFFSETTO:+0200
TZNAME:CEST
DTSTART:20290325T010000
END:DAYLIGHT
BEGIN:STANDARD
TZOFFSETFROM:+0200
TZOFFSETTO:+0100
TZNAME:CET
DTSTART:20291028T010000
END:STANDARD
END:VTIMEZONE
BEGIN:VEVENT
DTSTART;VALUE=DATE:20290915
DTEND;VALUE=DATE:20290924
DTSTAMP:20260425T030820
CREATED:20230713T125450Z
LAST-MODIFIED:20251117T114218Z
UID:10008926-1884124800-1884902399@issuekalender.nl
SUMMARY:VREDESWEEK
DESCRIPTION:[vc_row][vc_column][vc_single_image image=”61″ css_animation=”fadeInUp” alignment=”left”][/vc_column][/vc_row][vc_row][vc_column][vc_column_text css_animation=”fadeIn” font_size=”45″ font_family=”Roboto” font_weight=”500″ color=”#57529e”]\nVREDESWEEK \n[/vc_column_text][vc_empty_space height=”10px”][vc_single_image image=”88″ img_size=”medium” css_animation=”fadeInUp” alignment=”left”][/vc_column][/vc_row][vc_row][vc_column][vc_column_text]Vrede lijkt vanzelfsprekend. Niets is minder waar. Het vraagt onze blijvende aandacht. Zeker in een tijd van verharding in onze eigen samenleving en non-stop geweld elders. Maar het kan anders. Sterker nog\, dat gebeurt al! \nIedereen kan iets voor vrede doen. Met die gedachte organiseert vredesorganisatie PAX de Vredesweek. Hier doen elk jaar duizenden mensen aan mee\, van jong tot oud\, van Groningen tot Middelburg.[/vc_column_text][/vc_column][/vc_row][vc_row][vc_column][vc_single_image image=”61″ css_animation=”fadeInUp” alignment=”left”][/vc_column][/vc_row][vc_row][vc_column width=”1/2″]Issuekalender doorzoeken [/vc_column][vc_column width=”1/2″][/vc_column][/vc_row]
URL:https://issuekalender.nl/issue/vredesweek/2029-09-15/
CATEGORIES:Overige
ORGANIZER;CN="PAX":MAILTO:vredesweek@paxforpeace.nl
END:VEVENT
BEGIN:VEVENT
DTSTART;VALUE=DATE:20290916
DTEND;VALUE=DATE:20290923
DTSTAMP:20260425T030820
CREATED:20230713T125311Z
LAST-MODIFIED:20241007T125355Z
UID:10007608-1884211200-1884815999@issuekalender.nl
SUMMARY:EUROPEAN MOBILITY WEEK
DESCRIPTION:[vc_row][vc_column][vc_single_image image=”61″ css_animation=”fadeInUp” alignment=”left”][/vc_column][/vc_row][vc_row][vc_column][vc_column_text css_animation=”fadeIn” font_size=”45″ font_family=”Roboto” font_weight=”500″ color=”#57529e”]\nEUROPEAN MOBILITY WEEK \n[/vc_column_text][vc_empty_space height=”10px”][vc_single_image image=”88″ img_size=”medium” css_animation=”fadeInUp” alignment=”left”][/vc_column][/vc_row][vc_row][vc_column][vc_column_text]De European Mobility Week (Europese Mobiliteitsweek) is jaarlijks van 16 tot en met 22 september. Deze week is de afgelopen jaren uitgegroeid tot hét moment waarop gemeenten en andere organisaties in heel Europa (en ver daarbuiten) duurzame mobiliteit op de kaart zetten. Met de Europese Mobiliteitsweek geeft de Europese Commissie aandacht aan duurzame vormen van vervoer en bewust autogebruik. Het ministerie van Infrastructuur en Waterstaat nodigt Nederlandse gemeenten en organisaties zich aan te melden voor deelname aan de Europese Mobiliteitsweek.[/vc_column_text][/vc_column][/vc_row][vc_row][vc_column][vc_single_image image=”61″ css_animation=”fadeInUp” alignment=”left”][/vc_column][/vc_row][vc_row][vc_column width=”1/2″]Issuekalender doorzoeken [/vc_column][vc_column width=”1/2″][/vc_column][/vc_row]
URL:https://issuekalender.nl/issue/european-mobility-week/2029-09-16/
CATEGORIES:Milieu en duurzaamheid
ORGANIZER;CN="Mobiliteitsweek":MAILTO:mobiliteitsweek@axlefocused.nl
END:VEVENT
BEGIN:VEVENT
DTSTART;VALUE=DATE:20290916
DTEND;VALUE=DATE:20290923
DTSTAMP:20260425T030820
CREATED:20230713T125601Z
LAST-MODIFIED:20241007T125512Z
UID:10007613-1884211200-1884815999@issuekalender.nl
SUMMARY:ROADPOL SAFETY DAYS
DESCRIPTION:[vc_row][vc_column][vc_single_image image=”61″ css_animation=”fadeInUp” alignment=”left”][/vc_column][/vc_row][vc_row][vc_column][vc_column_text css_animation=”fadeIn” font_size=”45″ font_family=”Roboto” font_weight=”500″ color=”#57529e”]\nROADPOL SAFETY DAYS \n[/vc_column_text][vc_empty_space height=”10px”][vc_single_image image=”88″ img_size=”medium” css_animation=”fadeInUp” alignment=”left”][/vc_column][/vc_row][vc_row][vc_column][vc_column_text]Wat zijn de ROADPOL Safety Days?\nElke dag zijn er in heel Europa gemiddeld 70 verkeersdoden te betreuren. ROADPOL – een samenwerkingsverband tussen diverse politiekorpsen uit Europa – ijvert ervoor dit aantal structureel terug te dringen.\nHet doel van de ROADPOL Safety Day is om ten minste één dag per jaar het aantal verkeersdoden terug terug te brengen tot NUL. \nIEDEREEN kan hieraan meedoen. Niet alleen door onze verkeersveiligheidsbelofte te ondertekenen en anderen bewust te maken van de ROADPOL Safety Days\, maar ook door zich elke dag in het verkeer aan de regels te houden en zich vergevingsgezind op te stellen naar andere verkeersdeelnemers. \nVerkeerspolitie-eenheden van onze ROADPOL-lidstaten nemen elk jaar deel aan deze verkeersveiligheidscampagne.\nActiviteiten variëren van land tot land\, maar zijn gericht op handhaving en geven prioriteit aan directe betrokkenheid bij en belangenbehartiging aan weggebruikers.\nWe verwelkomen en moedigen alle landen (niet alleen onze huidige leden) aan om deel te nemen aan de ROAPDOL Safety Days-campagne\, nationale evenementen en activiteiten te organiseren en de resultaten van verkeersveiligheid met ons te delen. \nMet 1\,35 miljoen mensen die elk jaar omkomen bij ongevallen op de wegen van de wereld\, is het bereiken van verkeersveiligheid een wereldwijde uitdaging die universele coördinatie en samenwerking vereist. \nWe krijgen waardevolle steun van de Europese Commissie\, die sinds 2016 actief dit initiatief ondersteunt. Met onze nauwe en vertrouwensvolle samenwerking willen we samen de verkeersveiligheid op de Europese wegen versterken. \nScholen\, verkeersveiligheidsorganisaties en vele anderen ondersteunen ons bij grotere en kleinere evenementen.[/vc_column_text][/vc_column][/vc_row][vc_row][vc_column][vc_single_image image=”61″ css_animation=”fadeInUp” alignment=”left”][/vc_column][/vc_row][vc_row][vc_column width=”1/2″]Issuekalender doorzoeken [/vc_column][vc_column width=”1/2″][/vc_column][/vc_row]
URL:https://issuekalender.nl/issue/roadpol-safety-days/2029-09-16/
CATEGORIES:Veiligheid,Verkeer en vervoer
ORGANIZER;CN="ROADPOL":MAILTO:opg@roadpol.eu
END:VEVENT
BEGIN:VEVENT
DTSTART;VALUE=DATE:20290916
DTEND;VALUE=DATE:20290923
DTSTAMP:20260425T030820
CREATED:20231024T091116Z
LAST-MODIFIED:20241028T100932Z
UID:10009022-1884211200-1884815999@issuekalender.nl
SUMMARY:COLLECTEWEEK HANDICAPNL
DESCRIPTION:[vc_row][vc_column][vc_single_image image=”61″ css_animation=”fadeInUp” alignment=”left”][/vc_column][/vc_row][vc_row][vc_column][vc_column_text css_animation=”fadeIn” font_size=”45″ font_family=”Roboto” font_weight=”500″ color=”#57529e”]\nCOLLECTEWEEK HANDICAPNL \n[/vc_column_text][vc_empty_space height=”10px”][vc_single_image image=”88″ img_size=”medium” css_animation=”fadeInUp” alignment=”left”][/vc_column][/vc_row][vc_row][vc_column][vc_column_text]HandicapNL is een samenwerking tussen het Fonds verstandelijk gehandicapten en het Revalidatiefonds. HandicapNL droomt van een Nederland waarin je met een handicap echt kunt meedoen. Wij willen een maatschappij waarin je eigen keuzes kunt maken. Waarin je  weerbaarder bent en zichtbaar is wat je kan en niet wat je beperkt. Door je te ondersteunen om het heft in eigen handen te nemen. Familieleden helpen we een balans te vinden tussen draaglast en draagkracht. En we stimuleren de sociale kring en de complete maatschappij om met een open blik naar de mogelijkheden van mensen met een handicap te kijken. Iedereen hoort erbij\, iedereen eerlijke kansen. De collecteweek is elk jaar in week 39.[/vc_column_text][/vc_column][/vc_row][vc_row][vc_column][vc_single_image image=”61″ css_animation=”fadeInUp” alignment=”left”][/vc_column][/vc_row][vc_row][vc_column width=”1/2″]Issuekalender doorzoeken [/vc_column][vc_column width=”1/2″][/vc_column][/vc_row]
URL:https://issuekalender.nl/issue/collecteweek-handicapnl/2029-09-16/
CATEGORIES:Sociale cohesie en integratie,Welzijn en gezondheid
ORGANIZER;CN="Fonds Verstandelijk gehandicapte":MAILTO:info@fondsverstandelijkgehandicapten.nl
END:VEVENT
BEGIN:VEVENT
DTSTART;VALUE=DATE:20290917
DTEND;VALUE=DATE:20290924
DTSTAMP:20260425T030820
CREATED:20251112T085539Z
LAST-MODIFIED:20251112T085539Z
UID:10009231-1884297600-1884902399@issuekalender.nl
SUMMARY:NATIONALE VITALITEITSWEEK
DESCRIPTION:[vc_row][vc_column][vc_single_image image=”61″ css_animation=”fadeInUp” alignment=”left”][/vc_column][/vc_row][vc_row][vc_column][vc_column_text css_animation=”fadeIn” font_size=”45″ font_family=”Roboto” font_weight=”500″ color=”#57529e”]\nNATIONALE VITALITEITSWEEK \n[/vc_column_text][vc_empty_space height=”10px”][vc_single_image image=”88″ img_size=”medium” css_animation=”fadeInUp” alignment=”left”][/vc_column][/vc_row][vc_row][vc_column][vc_column_text]In de laatste week van september (week 39) vindt de Nationale Vitaliteitsweek plaats! Gedurende deze week van vitaliteit\, die sinds 2015 jaarlijks plaatsvindt\, kan je verbinden met gelijkgestemden en nieuwe informatie\, inspiratie en kennis opdoen op het gebied van vitaliteit & gezondheid. Een week lang aandacht en activiteiten gericht op het vergroten van vitaliteit en meer verbinding in het Nederlands bedrijfsleven! \nDoel\nHet doel van de Nationale Vitaliteitsweek is werkend Nederland bewust te maken van het belang van de eigen vitaliteit en het nemen van de eigen regie daarvoor.[/vc_column_text][/vc_column][/vc_row][vc_row][vc_column][vc_single_image image=”61″ css_animation=”fadeInUp” alignment=”left”][/vc_column][/vc_row][vc_row][vc_column width=”1/2″]Issuekalender doorzoeken [/vc_column][vc_column width=”1/2″][/vc_column][/vc_row]
URL:https://issuekalender.nl/issue/nationale-vitaliteitsweek-2/2029-09-17/
CATEGORIES:Welzijn en gezondheid
ORGANIZER;CN="NGvV":MAILTO:info@ngvv.nl
END:VEVENT
BEGIN:VEVENT
DTSTART;VALUE=DATE:20290918
DTEND;VALUE=DATE:20290919
DTSTAMP:20260425T030820
CREATED:20231023T144744Z
LAST-MODIFIED:20241007T130313Z
UID:10007628-1884384000-1884470399@issuekalender.nl
SUMMARY:PRINSJESDAG
DESCRIPTION:[vc_row][vc_column][vc_single_image image=”61″ css_animation=”fadeInUp” alignment=”left”][/vc_column][/vc_row][vc_row][vc_column][vc_column_text css_animation=”fadeIn” font_size=”45″ font_family=”Roboto” font_weight=”500″ color=”#57529e”]\nPRINSJESDAG \n[/vc_column_text][vc_empty_space height=”10px”][vc_single_image image=”88″ img_size=”medium” css_animation=”fadeInUp” alignment=”left”][/vc_column][/vc_row][vc_row][vc_column][vc_column_text]Op de derde dinsdag van september opent de Koning het nieuwe werkjaar van de Eerste en Tweede Kamer door de Troonrede voor te lezen in de Ridderzaal. In de Troonrede staan de plannen van het komende jaar en deze wordt aangeboden door de minister van Financiële Zaken. In 1887 werd Prinsjesdag op de derde maandag van september – van oudsher de verjaardag van Prins Willem V – gevierd\, maar het bleek voor veel Parlementariërs problematisch op tijd in Den Haag te zijn.[/vc_column_text][/vc_column][/vc_row][vc_row][vc_column][vc_single_image image=”61″ css_animation=”fadeInUp” alignment=”left”][/vc_column][/vc_row][vc_row][vc_column width=”1/2″]Issuekalender doorzoeken [/vc_column][vc_column width=”1/2″][/vc_column][/vc_row]
URL:https://issuekalender.nl/issue/prinsjesdag/2029-09-18/
CATEGORIES:Economie en financiën
END:VEVENT
BEGIN:VEVENT
DTSTART;VALUE=DATE:20290918
DTEND;VALUE=DATE:20290919
DTSTAMP:20260425T030820
CREATED:20231207T155825Z
LAST-MODIFIED:20241007T130521Z
UID:10007633-1884384000-1884470399@issuekalender.nl
SUMMARY:INTERNATIONAL EQUAL PAY DAY (VN)
DESCRIPTION:[vc_row][vc_column][vc_single_image image=”61″ css_animation=”fadeInUp” alignment=”left”][/vc_column][/vc_row][vc_row][vc_column][vc_column_text css_animation=”fadeIn” font_size=”45″ font_family=”Roboto” font_weight=”500″ color=”#57529e”]\nINTERNATIONAL EQUAL PAY DAY (VN) \n[/vc_column_text][vc_empty_space height=”10px”][vc_single_image image=”88″ img_size=”medium” css_animation=”fadeInUp” alignment=”left”][/vc_column][/vc_row][vc_row][vc_column][vc_column_text]\nGelijk loon voor werk van gelijke waarde\nDe Internationale Dag voor Gelijke Beloning\, die op 18 september wordt gevierd\, staat voor de jarenlange inspanningen voor gelijk loon voor gelijkwaardig werk. Het bouwt verder op de inzet van de Verenigde Naties voor mensenrechten en tegen alle vormen van discriminatie\, waaronder discriminatie van vrouwen en meisjes.\n\nIn alle regio’s worden vrouwen minder betaald dan mannen: de loonkloof tussen mannen en vrouwen wordt wereldwijd geschat op ongeveer 20 procent. Gendergelijkheid en de empowerment van vrouwen en meisjes worden nog steeds belemmerd door de hardnekkige historische en structurele ongelijke machtsverhoudingen tussen vrouwen en mannen\, armoede en ongelijkheden en nadelen bij de toegang tot middelen en kansen die de capaciteiten van vrouwen en meisjes beperken. De vooruitgang in het verkleinen van die kloof verloopt traag. Hoewel gelijke beloning voor mannen en vrouwen algemeen wordt onderschreven\, is de toepassing ervan in de praktijk moeilijk gebleken.\n\nOm ervoor te zorgen dat niemand achterblijft\, richten de Duurzame Ontwikkelingsdoelen (SDG’s) zich op de noodzaak om gendergelijkheid en de empowerment van alle vrouwen en meisjes te bereiken. Bovendien bevorderen de SDG’s fatsoenlijk werk en economische groei door te streven naar volledige en productieve werkgelegenheid en fatsoenlijk werk voor alle vrouwen en mannen\, ook voor jongeren en mensen met een handicap\, en gelijk loon voor werk van gelijke waarde. Mainstreaming van een genderperspectief is cruciaal bij de uitvoering van de 2030-agenda voor duurzame ontwikkeling.\n\nHet bereiken van gelijke beloning is een belangrijk\n[/vc_column_text][/vc_column][/vc_row][vc_row][vc_column][vc_single_image image=”61″ css_animation=”fadeInUp” alignment=”left”][/vc_column][/vc_row][vc_row][vc_column width=”1/2″]Issuekalender doorzoeken [/vc_column][vc_column width=”1/2″][/vc_column][/vc_row]
URL:https://issuekalender.nl/issue/international-equal-pay-day-vn/2029-09-18/
CATEGORIES:Mens en maatschappij
END:VEVENT
END:VCALENDAR