BEGIN:VCALENDAR
VERSION:2.0
PRODID:-//Issuekalender - ECPv6.9.0//NONSGML v1.0//EN
CALSCALE:GREGORIAN
METHOD:PUBLISH
X-ORIGINAL-URL:https://issuekalender.nl
X-WR-CALDESC:Evenementen voor Issuekalender
REFRESH-INTERVAL;VALUE=DURATION:PT1H
X-Robots-Tag:noindex
X-PUBLISHED-TTL:PT1H
BEGIN:VTIMEZONE
TZID:Europe/Amsterdam
BEGIN:DAYLIGHT
TZOFFSETFROM:+0100
TZOFFSETTO:+0200
TZNAME:CEST
DTSTART:20290325T010000
END:DAYLIGHT
BEGIN:STANDARD
TZOFFSETFROM:+0200
TZOFFSETTO:+0100
TZNAME:CET
DTSTART:20291028T010000
END:STANDARD
END:VTIMEZONE
BEGIN:VEVENT
DTSTART;VALUE=DATE:20290908
DTEND;VALUE=DATE:20290916
DTSTAMP:20260425T030852
CREATED:20230712T110629Z
LAST-MODIFIED:20251117T114037Z
UID:10008214-1883520000-1884211199@issuekalender.nl
SUMMARY:WEEK VAN LEZEN EN SCHRIJVEN
DESCRIPTION:[vc_row][vc_column][vc_single_image image=”61″ css_animation=”fadeInUp” alignment=”left”][/vc_column][/vc_row][vc_row][vc_column][vc_column_text css_animation=”fadeIn” font_size=”45″ font_family=”Roboto” font_weight=”500″ color=”#57529e”]\nWEEK VAN LEZEN EN SCHRIJVEN \n[/vc_column_text][vc_empty_space height=”10px”][vc_single_image image=”88″ img_size=”medium” css_animation=”fadeInUp” alignment=”left”][/vc_column][/vc_row][vc_row][vc_column][vc_column_text]In Nederland hebben 2\,5 miljoen volwassenen moeite met lezen\, schrijven en/of rekenen. We vragen iedereen om tijdens de Week van Lezen en Schrijven (voorheen Week van de Alfabetisering) een (extra) bijdrage te leveren aan een geletterd Nederland\, door taal- en rekenactiviteiten te organiseren. De week wordt elk jaar georganiseerd rondom de Dag van de Alfabetisering van 8 september.[/vc_column_text][/vc_column][/vc_row][vc_row][vc_column][vc_single_image image=”61″ css_animation=”fadeInUp” alignment=”left”][/vc_column][/vc_row][vc_row][vc_column width=”1/2″]Issuekalender doorzoeken [/vc_column][vc_column width=”1/2″][/vc_column][/vc_row]
URL:https://issuekalender.nl/issue/week-van-lezen-en-schrijven/2029-09-08/
CATEGORIES:Onderwijs en educatie,Welzijn en gezondheid
ORGANIZER;CN="Stichting Lezen & Schrijven":MAILTO:info@lezenenschrijven.nl
END:VEVENT
BEGIN:VEVENT
DTSTART;VALUE=DATE:20290910
DTEND;VALUE=DATE:20290916
DTSTAMP:20260425T030852
CREATED:20251117T114150Z
LAST-MODIFIED:20251117T114151Z
UID:10009420-1883692800-1884211199@issuekalender.nl
SUMMARY:COLLECTE NIERSTICHTING
DESCRIPTION:[vc_row][vc_column][vc_single_image image=”61″ css_animation=”fadeInUp” alignment=”left”][/vc_column][/vc_row][vc_row][vc_column][vc_column_text css_animation=”fadeIn” font_size=”45″ font_family=”Roboto” font_weight=”500″ color=”#57529e”]\nCOLLECTE NIERSTICHTING \n[/vc_column_text][vc_empty_space height=”10px”][vc_single_image image=”88″ img_size=”medium” css_animation=”fadeInUp” alignment=”left”][vc_column_text css_animation=”fadeIn” font_size=”20px” font_family=”Roboto” font_weight=”normal”]\n\n17-09-2023 – 23-09-2023 | Mens en maatschappij\, Welzijn en gezondheid\n\n\n[/vc_column_text][/vc_column][/vc_row][vc_row][vc_column][vc_column_text]Op dit moment overlijdt  1 op de 6 dialysepatiënten en is de wachttijd voor een donornier 4 jaar. Dat is te lang. De Nierstichting zet alles op alles om de wachtlijst te verkorten. Bijvoorbeeld door het aantal donoren te vergroten. En onderzoek te financieren dat de kans op afstoting moet verkleinen.[/vc_column_text][/vc_column][/vc_row][vc_row][vc_column][vc_single_image image=”61″ css_animation=”fadeInUp” alignment=”left”][/vc_column][/vc_row][vc_row][vc_column width=”1/2″]Issuekalender doorzoeken [/vc_column][vc_column width=”1/2″][/vc_column][/vc_row]
URL:https://issuekalender.nl/issue/collecte-nierstichting-2/2029-09-10/
CATEGORIES:Mens en maatschappij,Welzijn en gezondheid
END:VEVENT
BEGIN:VEVENT
DTSTART;VALUE=DATE:20290915
DTEND;VALUE=DATE:20290916
DTSTAMP:20260425T030852
CREATED:20230713T124941Z
LAST-MODIFIED:20241007T124903Z
UID:10007602-1884124800-1884211199@issuekalender.nl
SUMMARY:INTERNATIONALE DAG VAN DE DEMOCRATIE (VN)
DESCRIPTION:[vc_row][vc_column][vc_single_image image=”61″ css_animation=”fadeInUp” alignment=”left”][/vc_column][/vc_row][vc_row][vc_column][vc_column_text css_animation=”fadeIn” font_size=”45″ font_family=”Roboto” font_weight=”500″ color=”#57529e”]\nINTERNATIONALE DAG VAN DE DEMOCRATIE (VN) \n[/vc_column_text][vc_empty_space height=”10px”][vc_single_image image=”88″ img_size=”medium” css_animation=”fadeInUp” alignment=”left”][/vc_column][/vc_row][vc_row][vc_column][vc_column_text]De Verenigde Naties heeft 15 september uitgeroepen tot de ‘Internationale Dag van de Democratie’. Met deze speciale dag willen zij aandacht vragen voor de toestand van de democratie in de wereld gebaseerd op vrijheid\, mensenrechten en algemeen kiesrecht. Alleen met volledige steun van de internationale gemeenschap kan dit een realiteit zijn voor iedereen.[/vc_column_text][/vc_column][/vc_row][vc_row][vc_column][vc_single_image image=”61″ css_animation=”fadeInUp” alignment=”left”][/vc_column][/vc_row][vc_row][vc_column width=”1/2″]Issuekalender doorzoeken [/vc_column][vc_column width=”1/2″][/vc_column][/vc_row]
URL:https://issuekalender.nl/issue/internationale-dag-van-de-democratie-vn/2029-09-15/
CATEGORIES:Mens en maatschappij
END:VEVENT
BEGIN:VEVENT
DTSTART;VALUE=DATE:20290915
DTEND;VALUE=DATE:20290916
DTSTAMP:20260425T030852
CREATED:20231027T073845Z
LAST-MODIFIED:20251125T135209Z
UID:10007664-1884124800-1884211199@issuekalender.nl
SUMMARY:OPEN ENERGIEDAG
DESCRIPTION:[vc_row][vc_column][vc_single_image image=”61″ css_animation=”fadeInUp” alignment=”left”][/vc_column][/vc_row][vc_row][vc_column][vc_column_text css_animation=”fadeIn” font_size=”45″ font_family=”Roboto” font_weight=”500″ color=”#57529e”]\nOPEN ENERGIEDAG \n[/vc_column_text][vc_empty_space height=”10px”][vc_single_image image=”88″ img_size=”medium” css_animation=”fadeInUp” alignment=”left”][/vc_column][/vc_row][vc_row][vc_column][vc_column_text css=””]\nZoveel mogelijk duurzame energieprojecten in heel Nederland openen de deuren om mensen kennis te laten maken met de mensen en de technieken achter de energietransitie. Doe mee en geef ook een rondleiding bij je zonneveld\, windpark of warmteproject! \n\nDe aanmelding voor de Open Energiedag opent pas volgend voorjaar\, maar het is verstandig om nu alvast met bestuur en vrijwilligers de agenda erbij te pakken. Heb je nog nooit meegedaan? Grijp dan de kans om volgend jaar mee te surfen met deze publiciteit voor coöperatieve duurzame energie (en leden te werven). \nGrijp deze dag aan om je energiecoöperatie bekender te maken en leden te werven. Je kunt zelf de dag naar eigen inzicht vormgeven: het precieze programma en de praktische organisatie op de locatie bepaal je zelf. Je ontvangt na aanmelding van organisator NVDE een toolkit met beeldmateriaal om te gebruiken in de eigen on- en offline communicatie en een voorbeeldpersbericht voor de lokale media. \nDe Open Energiedag is onderdeel van de ‘Daar krijg je energie van’ campagne van de NVDE gestart is in samenwerking met brancheverenigingen Energie Samen\, NWEA\, Holland Solar\, Bodemenergie Nederland en Vereniging Warmtepompen. \nDe Open Energiedag is jaarlijks op de derde zaterdag van september. \n  \n\n[/vc_column_text][/vc_column][/vc_row][vc_row][vc_column][vc_single_image image=”61″ css_animation=”fadeInUp” alignment=”left”][/vc_column][/vc_row][vc_row][vc_column width=”1/2″]Issuekalender doorzoeken [/vc_column][vc_column width=”1/2″][/vc_column][/vc_row]
URL:https://issuekalender.nl/issue/open-energiedag/2029-09-15/
CATEGORIES:Milieu en duurzaamheid
ORGANIZER;CN="De Nederlandse Vereniging Duurzame Energie (NVDE)":MAILTO:communicatie@nvde.nl
END:VEVENT
BEGIN:VEVENT
DTSTART;VALUE=DATE:20290915
DTEND;VALUE=DATE:20290924
DTSTAMP:20260425T030852
CREATED:20230713T125450Z
LAST-MODIFIED:20251117T114218Z
UID:10008926-1884124800-1884902399@issuekalender.nl
SUMMARY:VREDESWEEK
DESCRIPTION:[vc_row][vc_column][vc_single_image image=”61″ css_animation=”fadeInUp” alignment=”left”][/vc_column][/vc_row][vc_row][vc_column][vc_column_text css_animation=”fadeIn” font_size=”45″ font_family=”Roboto” font_weight=”500″ color=”#57529e”]\nVREDESWEEK \n[/vc_column_text][vc_empty_space height=”10px”][vc_single_image image=”88″ img_size=”medium” css_animation=”fadeInUp” alignment=”left”][/vc_column][/vc_row][vc_row][vc_column][vc_column_text]Vrede lijkt vanzelfsprekend. Niets is minder waar. Het vraagt onze blijvende aandacht. Zeker in een tijd van verharding in onze eigen samenleving en non-stop geweld elders. Maar het kan anders. Sterker nog\, dat gebeurt al! \nIedereen kan iets voor vrede doen. Met die gedachte organiseert vredesorganisatie PAX de Vredesweek. Hier doen elk jaar duizenden mensen aan mee\, van jong tot oud\, van Groningen tot Middelburg.[/vc_column_text][/vc_column][/vc_row][vc_row][vc_column][vc_single_image image=”61″ css_animation=”fadeInUp” alignment=”left”][/vc_column][/vc_row][vc_row][vc_column width=”1/2″]Issuekalender doorzoeken [/vc_column][vc_column width=”1/2″][/vc_column][/vc_row]
URL:https://issuekalender.nl/issue/vredesweek/2029-09-15/
CATEGORIES:Overige
ORGANIZER;CN="PAX":MAILTO:vredesweek@paxforpeace.nl
END:VEVENT
END:VCALENDAR