BEGIN:VCALENDAR
VERSION:2.0
PRODID:-//Issuekalender - ECPv6.9.0//NONSGML v1.0//EN
CALSCALE:GREGORIAN
METHOD:PUBLISH
X-WR-CALNAME:Issuekalender
X-ORIGINAL-URL:https://issuekalender.nl
X-WR-CALDESC:Evenementen voor Issuekalender
REFRESH-INTERVAL;VALUE=DURATION:PT1H
X-Robots-Tag:noindex
X-PUBLISHED-TTL:PT1H
BEGIN:VTIMEZONE
TZID:Europe/Amsterdam
BEGIN:DAYLIGHT
TZOFFSETFROM:+0100
TZOFFSETTO:+0200
TZNAME:CEST
DTSTART:20290325T010000
END:DAYLIGHT
BEGIN:STANDARD
TZOFFSETFROM:+0200
TZOFFSETTO:+0100
TZNAME:CET
DTSTART:20291028T010000
END:STANDARD
END:VTIMEZONE
BEGIN:VEVENT
DTSTART;VALUE=DATE:20290906
DTEND;VALUE=DATE:20290915
DTSTAMP:20260425T030820
CREATED:20251117T114456Z
LAST-MODIFIED:20251117T114456Z
UID:10009427-1883347200-1884124799@issuekalender.nl
SUMMARY:WEEK VAN HET NEDERLANDS
DESCRIPTION:[vc_row][vc_column][vc_single_image image=”61″ css_animation=”fadeInUp” alignment=”left”][/vc_column][/vc_row][vc_row][vc_column][vc_column_text css_animation=”fadeIn” font_size=”45″ font_family=”Roboto” font_weight=”500″ color=”#57529e”]\nWEEK VAN HET NEDERLANDS \n[/vc_column_text][vc_empty_space height=”10px”][vc_single_image image=”88″ img_size=”medium” css_animation=”fadeInUp” alignment=”left”][/vc_column][/vc_row][vc_row][vc_column][vc_column_text]De Week van het Nederlands is een samenwerking van Vlaams-Nederlands Huis deBuren en de Taalunie. Samen met verschillende partners brengen ze de veelzijdigheid van het Nederlands onder de aandacht.[/vc_column_text][/vc_column][/vc_row][vc_row][vc_column][vc_single_image image=”61″ css_animation=”fadeInUp” alignment=”left”][/vc_column][/vc_row][vc_row][vc_column width=”1/2″]Issuekalender doorzoeken [/vc_column][vc_column width=”1/2″][/vc_column][/vc_row]
URL:https://issuekalender.nl/issue/week-van-het-nederlands-2-2/2029-09-06/
CATEGORIES:Kunst en cultuur
ORGANIZER;CN="Taalunie":MAILTO:weekvanhetnederlands@deburen.eu
END:VEVENT
BEGIN:VEVENT
DTSTART;VALUE=DATE:20290907
DTEND;VALUE=DATE:20290910
DTSTAMP:20260425T030820
CREATED:20231023T080242Z
LAST-MODIFIED:20251112T094624Z
UID:10007556-1883433600-1883692799@issuekalender.nl
SUMMARY:WERELDHAVENDAGEN
DESCRIPTION:Wereldhavendagen is een jaarlijks meerdaags evenement in het eerste weekend van september in de haven van Rotterdam. Het doel van het evenement is om het publiek te tonen wat er allemaal in de haven gebeurt.
URL:https://issuekalender.nl/issue/wereldhavendagen/2029-09-07/
CATEGORIES:Onderwijs en educatie
ORGANIZER;CN="Stichting Wereldhavenfestival Rotterdam":MAILTO:info@wereldhavendagen.nl
END:VEVENT
BEGIN:VEVENT
DTSTART;VALUE=DATE:20290908
DTEND;VALUE=DATE:20290910
DTSTAMP:20260425T030820
CREATED:20230712T113044Z
LAST-MODIFIED:20241007T124327Z
UID:10007597-1883520000-1883692799@issuekalender.nl
SUMMARY:OPEN MONUMENTENDAG
DESCRIPTION:[vc_row][vc_column][vc_single_image image=”61″ css_animation=”fadeInUp” alignment=”left”][/vc_column][/vc_row][vc_row][vc_column][vc_column_text css_animation=”fadeIn” font_size=”45″ font_family=”Roboto” font_weight=”500″ color=”#57529e”]\nOPEN MONUMENTENDAG \n[/vc_column_text][vc_empty_space height=”10px”][vc_single_image image=”88″ img_size=”medium” css_animation=”fadeInUp” alignment=”left”][/vc_column][/vc_row][vc_row][vc_column][vc_column_text]Elk jaar in het tweede weekend van september is het Open Monumentendag\, wat een onderdeel is van de European Heritage Days. Tijdens dit weekend openen duizenden monumenten hun deuren voor het publiek\, met als doel om mensen met de monumenten te verbinden en om de schoonheid en verhalen te laten zien. Met jaarlijks rond de één miljoen bezoekers is het een van de grootste culturele evenementen in Nederland en hét instrument om de bevolking op grote schaal in contact te brengen met ons monumentale erfgoed.[/vc_column_text][/vc_column][/vc_row][vc_row][vc_column][vc_single_image image=”61″ css_animation=”fadeInUp” alignment=”left”][/vc_column][/vc_row][vc_row][vc_column width=”1/2″]Issuekalender doorzoeken [/vc_column][vc_column width=”1/2″][/vc_column][/vc_row]
URL:https://issuekalender.nl/issue/open-monumentendag/2029-09-08/
CATEGORIES:Kunst en cultuur
ORGANIZER;CN="Stichting Open Monumentendag":MAILTO:info@openmonumentendag.nl
END:VEVENT
BEGIN:VEVENT
DTSTART;VALUE=DATE:20290908
DTEND;VALUE=DATE:20290916
DTSTAMP:20260425T030820
CREATED:20230712T110629Z
LAST-MODIFIED:20251117T114037Z
UID:10008214-1883520000-1884211199@issuekalender.nl
SUMMARY:WEEK VAN LEZEN EN SCHRIJVEN
DESCRIPTION:[vc_row][vc_column][vc_single_image image=”61″ css_animation=”fadeInUp” alignment=”left”][/vc_column][/vc_row][vc_row][vc_column][vc_column_text css_animation=”fadeIn” font_size=”45″ font_family=”Roboto” font_weight=”500″ color=”#57529e”]\nWEEK VAN LEZEN EN SCHRIJVEN \n[/vc_column_text][vc_empty_space height=”10px”][vc_single_image image=”88″ img_size=”medium” css_animation=”fadeInUp” alignment=”left”][/vc_column][/vc_row][vc_row][vc_column][vc_column_text]In Nederland hebben 2\,5 miljoen volwassenen moeite met lezen\, schrijven en/of rekenen. We vragen iedereen om tijdens de Week van Lezen en Schrijven (voorheen Week van de Alfabetisering) een (extra) bijdrage te leveren aan een geletterd Nederland\, door taal- en rekenactiviteiten te organiseren. De week wordt elk jaar georganiseerd rondom de Dag van de Alfabetisering van 8 september.[/vc_column_text][/vc_column][/vc_row][vc_row][vc_column][vc_single_image image=”61″ css_animation=”fadeInUp” alignment=”left”][/vc_column][/vc_row][vc_row][vc_column width=”1/2″]Issuekalender doorzoeken [/vc_column][vc_column width=”1/2″][/vc_column][/vc_row]
URL:https://issuekalender.nl/issue/week-van-lezen-en-schrijven/2029-09-08/
CATEGORIES:Onderwijs en educatie,Welzijn en gezondheid
ORGANIZER;CN="Stichting Lezen & Schrijven":MAILTO:info@lezenenschrijven.nl
END:VEVENT
BEGIN:VEVENT
DTSTART;VALUE=DATE:20290909
DTEND;VALUE=DATE:20290910
DTSTAMP:20260425T030820
CREATED:20231023T113722Z
LAST-MODIFIED:20241007T121358Z
UID:10007566-1883606400-1883692799@issuekalender.nl
SUMMARY:NATIONALE ZIEKENDAG
DESCRIPTION:[vc_row][vc_column][vc_single_image image=”61″ css_animation=”fadeInUp” alignment=”left”][/vc_column][/vc_row][vc_row][vc_column][vc_column_text css_animation=”fadeIn” font_size=”45″ font_family=”Roboto” font_weight=”500″ color=”#57529e”]\nNATIONALE ZIEKENDAG \n[/vc_column_text][vc_empty_space height=”10px”][vc_single_image image=”88″ img_size=”medium” css_animation=”fadeInUp” alignment=”left”][/vc_column][/vc_row][vc_row][vc_column][vc_column_text]Nationale Ziekendag\, de tweede zondag van september\, is een initiatief van de Zonnebloem\, dat tijdens het 25-jarig jubileum van de vereniging in 1974 is gestart. Het doel was om Nederlanders bewust te maken van de zieken en gehandicapten in hun eigen leefomgeving. En om contact en integratie tussen zieken/gehandicapten en hun ‘gezonde’ omgeving te bevorderen. \nDeze boodschap is dus voor iedereen bedoeld; niet specifiek voor de mensen die al actief zijn bij de Zonnebloem. Dat proberen we te bereiken door op Nationale Ziekendag alle Nederlanders aan te spreken. Daarbij vragen we ze of ze mensen kennen in hun eigen omgeving die ziek of gehandicapt zijn en of ze eens contact willen leggen. Het contact tussen gezonde en zieke mensen is daarbij niet bedoeld als eenrichtingsverkeer: de levenservaring van zieke mensen kan inspirerend zijn voor gezonde mensen. \nIn het jubileumjaar 1999 is binnen de Nationale Vereniging besloten om te gaan werken met jaarthema’s. Veel Zonnebloemafdelingen besteden extra aandacht aan het jaarthema op of rond Nationale Ziekendag. Ook in veel kerken staat het jaarthema op die zondag centraal.[/vc_column_text][/vc_column][/vc_row][vc_row][vc_column][vc_single_image image=”61″ css_animation=”fadeInUp” alignment=”left”][/vc_column][/vc_row][vc_row][vc_column width=”1/2″]Issuekalender doorzoeken [/vc_column][vc_column width=”1/2″][/vc_column][/vc_row]
URL:https://issuekalender.nl/issue/nationale-ziekendag/2029-09-09/
CATEGORIES:Welzijn en gezondheid
END:VEVENT
END:VCALENDAR