BEGIN:VCALENDAR
VERSION:2.0
PRODID:-//Issuekalender - ECPv6.9.0//NONSGML v1.0//EN
CALSCALE:GREGORIAN
METHOD:PUBLISH
X-WR-CALNAME:Issuekalender
X-ORIGINAL-URL:https://issuekalender.nl
X-WR-CALDESC:Evenementen voor Issuekalender
REFRESH-INTERVAL;VALUE=DURATION:PT1H
X-Robots-Tag:noindex
X-PUBLISHED-TTL:PT1H
BEGIN:VTIMEZONE
TZID:Europe/Amsterdam
BEGIN:DAYLIGHT
TZOFFSETFROM:+0100
TZOFFSETTO:+0200
TZNAME:CEST
DTSTART:20290325T010000
END:DAYLIGHT
BEGIN:STANDARD
TZOFFSETFROM:+0200
TZOFFSETTO:+0100
TZNAME:CET
DTSTART:20291028T010000
END:STANDARD
END:VTIMEZONE
BEGIN:VEVENT
DTSTART;VALUE=DATE:20290601
DTEND;VALUE=DATE:20290701
DTSTAMP:20260424T074944
CREATED:20240320T133928Z
LAST-MODIFIED:20241008T090046Z
UID:10007808-1874966400-1877558399@issuekalender.nl
SUMMARY:LIPOEDEEM AWARENESS MAAND
DESCRIPTION:[vc_row][vc_column][vc_single_image image=”61″ css_animation=”fadeInUp” alignment=”left”][/vc_column][/vc_row][vc_row][vc_column][vc_column_text css_animation=”fadeIn” font_size=”45″ font_family=”Roboto” font_weight=”500″ color=”#57529e”]\nLIPOEDEEM AWARENESS MAAND \n[/vc_column_text][vc_empty_space height=”10px”][vc_single_image image=”88″ img_size=”medium” css_animation=”fadeInUp” alignment=”left”][vc_column_text font_size=”20px” font_family=”Roboto” font_weight=”normal”]\n\n\n\n\n\n\n[/vc_column_text][/vc_column][/vc_row][vc_row][vc_column][vc_column_text]\nJuni is de maand waarin er aandacht wordt gevraagd voor lipoedeem. Lipoedeem is een aandoening die vooral voorkomt bij vrouwen. Het wordt veroorzaakt door ontstekingsreacties in de huid die leiden tot abnormale groei van de vetcellen. De oorzaak is eigenlijk nog niet bekend\, maar aangezien het vooral bij vrouwen voorkomt\, het in de pubertijd ontstaat\, rond zwangerschap en overgang\, en in die periodes ook ineens kan toenemen\, lijken hormonen een grote invloed te hebben. Ook lijkt er een familiaire component te zijn.\nMeestal zit lipoedeem in de benen\, billen en armen\, maar het kan ook op andere plekken voorkomen. \n[/vc_column_text][/vc_column][/vc_row][vc_row][vc_column][vc_single_image image=”61″ css_animation=”fadeInUp” alignment=”left”][/vc_column][/vc_row][vc_row][vc_column width=”1/2″]Issuekalender doorzoeken [/vc_column][vc_column width=”1/2″][/vc_column][/vc_row]
URL:https://issuekalender.nl/issue/lipoedeem-awareness-maand/2029-06-01/
CATEGORIES:Welzijn en gezondheid
END:VEVENT
BEGIN:VEVENT
DTSTART;VALUE=DATE:20290623
DTEND;VALUE=DATE:20290624
DTSTAMP:20260424T074944
CREATED:20230710T234813Z
LAST-MODIFIED:20241024T150530Z
UID:10008914-1876867200-1876953599@issuekalender.nl
SUMMARY:ROZE ZATERDAG
DESCRIPTION:[vc_row][vc_column][vc_column_text css_animation=”fadeIn” font_size=”35″ font_family=”Roboto” font_weight=”500″ color=”#57529e”]\nROZE ZATERDAG \n[/vc_column_text][vc_empty_space height=”10px”][vc_single_image image=”88″ img_size=”medium” css_animation=”fadeInUp” alignment=”left”][/vc_column][/vc_row][vc_row][vc_column][vc_column_text css=””]\n\n\n\nHet evenement Roze Zaterdag bestaat sinds eind jaren 70 en wordt traditioneel jaarlijks eind juni georganiseerd. Het evenement heeft een emancipatoir en demonstratief karakter en biedt onder andere ruimte voor informatie\, debat\, feest\, ontmoeting en zichtbaarheid ten bate van seksuele oriëntatie\, genderidentiteit\, expressie en sekse kenmerken. \nRoze Zaterdag wordt in Nederland altijd eind juni gehouden vanwege de connectie met de gebeurtennissen in juni 1969 bij de bar Stonewall Inn in New York. Nadat de politie de bar was binnengevallen braken er rellen uit. Deze rellen worden gezien als de wereldwijde start van de georganiseerde strijd voor de rechten voor lhbtiqa+ personen. Op 28 juni 1970 werd in New York de eerste Gay Pride Parade gehouden. Ook in andere landen ging men dergelijke evenementen organiseren. \nOp 25 juni 1977 werd in Nederland voor het eerst een met een Gay Pride Parade vergelijkbare demonstratie gehouden. Deze demonstratie in Amsterdam\, georganiseerd door de Internationale Lesbische Alliantie\, werd georganiseerd onder de naam ‘Internationale homobevrijdings- en solidariteitsdag’. \nDe naam ‘Roze Zaterdag’ werd voor het eerst gebruikt in 1979. De Limburgse actiegroep ROZA organiseerde op 14 april 1979 in Roermond een demonstratie naar aanleiding van uitspraken door bisschop Gijsen over homoseksualiteit. De actiedag viel in de Goede Week\, de tijd dat katholieken Witte Donderdag\, Goede Vrijdag en Stille Zaterdag vieren. Waarop de organisatoren deze niet zo stille actiedag Roze Zaterdag noemde. \n  \nRoze Zaterdag 2025 zal worden gehouden in Zaanstad. Gemeente Zaanstad\, Stichting De Zaanse Regenboog\, Stichting Marketing Zaanstreek en Bureau Discriminatiezaken namen gezamenlijk het initiatief om Roze Zaterdag naar Zaanstad te halen. Tijdens Roze Zaterdag 2023 Goes werd de toewijzing aan Zaanstad bekendgemaakt. \nRoze Zaterdag in Zaanstad staat gepland op zaterdag 28 juni 2025. \n\n\n\n[/vc_column_text][/vc_column][/vc_row][vc_row][vc_column][vc_single_image image=”61″ css_animation=”fadeInUp” alignment=”left”][/vc_column][/vc_row][vc_row][vc_column width=”1/2″]Issuekalender doorzoeken [/vc_column][vc_column width=”1/2″][/vc_column][/vc_row]
URL:https://issuekalender.nl/issue/roze-zaterdag/2029-06-23/
CATEGORIES:Overige,Sociale cohesie en integratie
ORGANIZER;CN="Roze Zaterdagen":MAILTO:secretaris@rozezaterdagen.nl
END:VEVENT
BEGIN:VEVENT
DTSTART;VALUE=DATE:20290623
DTEND;VALUE=DATE:20290624
DTSTAMP:20260424T074944
CREATED:20230711T062219Z
LAST-MODIFIED:20241009T065611Z
UID:10007963-1876867200-1876953599@issuekalender.nl
SUMMARY:DAG VAN OVERPRIKKELING BIJ HERSENLETSEL
DESCRIPTION:[vc_row][vc_column][vc_single_image image=”61″ css_animation=”fadeInUp” alignment=”left”][/vc_column][/vc_row][vc_row][vc_column][vc_column_text css_animation=”fadeIn” font_size=”45″ font_family=”Roboto” font_weight=”500″ color=”#57529e”]\nDAG VAN OVERPRIKKELING BIJ HERSENLETSEL \n[/vc_column_text][vc_empty_space height=”10px”][vc_single_image image=”88″ img_size=”medium” css_animation=”fadeInUp” alignment=”left”][/vc_column][/vc_row][vc_row][vc_column][vc_column_text]Op vrijdag 23 juni 2017 lanceerde Hersenletsel-uitleg voor het eerst de Dag van Overprikkeling. Met deze jaarlijkse Dag van Overprikkeling tracht de stichting achter de website meer bewustwording én kennis over overprikkeling als gevolg van hersenletsel te realiseren. \nIn Nederland krijgen jaarlijks naar schatting 160.000 nieuwe mensen te maken met een vorm van hersenletsel. Ongeveer de helft van hen lijdt sindsdien aan het niet meer kunnen filteren en daarmee verdragen van zintuiglijke prikkels. Wereldwijd is het aantal mensen met overprikkeling ontelbaar groot. Veel mensen met hersenletsel en overprikkeling belanden in een sociaal isolement doordat ze door deze overprikkeling niet meer volledig deel kunnen nemen aan het gezins-\, werk- en sociale leven. Ze kunnen niet deelnemen aan het openbare leven.[/vc_column_text][/vc_column][/vc_row][vc_row][vc_column][vc_single_image image=”61″ css_animation=”fadeInUp” alignment=”left”][/vc_column][/vc_row][vc_row][vc_column width=”1/2″]Issuekalender doorzoeken [/vc_column][vc_column width=”1/2″][/vc_column][/vc_row]
URL:https://issuekalender.nl/issue/dag-van-overprikkeling-bij-hersenletsel/2029-06-23/
CATEGORIES:Welzijn en gezondheid
END:VEVENT
BEGIN:VEVENT
DTSTART;VALUE=DATE:20290623
DTEND;VALUE=DATE:20290624
DTSTAMP:20260424T074944
CREATED:20230711T062319Z
LAST-MODIFIED:20241009T065923Z
UID:10007969-1876867200-1876953599@issuekalender.nl
SUMMARY:INTERNATIONALE DAG VAN WEDUWEN (VN)
DESCRIPTION:[vc_row][vc_column][vc_single_image image=”61″ css_animation=”fadeInUp” alignment=”left”][/vc_column][/vc_row][vc_row][vc_column][vc_column_text css_animation=”fadeIn” font_size=”45″ font_family=”Roboto” font_weight=”500″ color=”#57529e”]\nINTERNATIONALE DAG VAN WEDUWEN (VN) \n[/vc_column_text][vc_empty_space height=”10px”][vc_single_image image=”88″ img_size=”medium” css_animation=”fadeInUp” alignment=”left”][/vc_column][/vc_row][vc_row][vc_column][vc_column_text]Op 23 februari 2011 heeft de Algemene Vergadering van de Verenigde Naties een resolutie aangenomen waarin 23 juni werd uitgeroepen tot Internationale Weduwendag. De Dag is bedoeld om aandacht te vragen voor weduwen in met name arme landen en de problemen die met het fenomeen gepaard gaan. Veel vrouwen worden daar al jong uitgehuwelijkt aan veel oudere mannen\, en moeten dan de rest van hun leven als tweederangs burgers leven. In sommige gevallen worden ze zelfs vermoord! Tijdens deze Dag staan we daarbij stil door middel van informatiecampagnes. Ook nemen landen maatregelen op internationaal niveau. Zo worden er verdragen en wetten bekeken die weduwen kunnen beschermen.[/vc_column_text][/vc_column][/vc_row][vc_row][vc_column][vc_single_image image=”61″ css_animation=”fadeInUp” alignment=”left”][/vc_column][/vc_row][vc_row][vc_column width=”1/2″]Issuekalender doorzoeken [/vc_column][vc_column width=”1/2″][/vc_column][/vc_row]
URL:https://issuekalender.nl/issue/internationale-dag-van-weduwen-vn/2029-06-23/
CATEGORIES:Mens en maatschappij
END:VEVENT
BEGIN:VEVENT
DTSTART;VALUE=DATE:20290623
DTEND;VALUE=DATE:20290624
DTSTAMP:20260424T074944
CREATED:20230711T062423Z
LAST-MODIFIED:20241009T070052Z
UID:10007975-1876867200-1876953599@issuekalender.nl
SUMMARY:OLYMPIC DAY
DESCRIPTION:[vc_row][vc_column][vc_single_image image=”61″ css_animation=”fadeInUp” alignment=”left”][/vc_column][/vc_row][vc_row][vc_column][vc_column_text css_animation=”fadeIn” font_size=”45″ font_family=”Roboto” font_weight=”500″ color=”#57529e”]\nOLYMPIC DAY \n[/vc_column_text][vc_empty_space height=”10px”][vc_single_image image=”88″ img_size=”medium” css_animation=”fadeInUp” alignment=”left”][/vc_column][/vc_row][vc_row][vc_column][vc_column_text]Jaarlijks wordt op 23 juni in meer dan 160 landen wereldwijd Olympic Day gevierd. Op deze bijzondere dag wordt de geboorte van de moderne Olympische Spelen herdacht. Honderdduizenden mensen van jong tot oud nemen op deze dag deel aan diverse sportieve activiteiten\, waarbij de Olympische waarden Excelleren\, Respect en Vriendschap centraal staan. Met het vieren van Olympic Day willen we niet alleen onze hedendaagse samenleving verbeteren\, maar kunnen we ook de kampioenen van morgen inspireren.[/vc_column_text][/vc_column][/vc_row][vc_row][vc_column][vc_single_image image=”61″ css_animation=”fadeInUp” alignment=”left”][/vc_column][/vc_row][vc_row][vc_column width=”1/2″]Issuekalender doorzoeken [/vc_column][vc_column width=”1/2″][/vc_column][/vc_row]
URL:https://issuekalender.nl/issue/olympic-day/2029-06-23/
CATEGORIES:Sport en beweging
END:VEVENT
BEGIN:VEVENT
DTSTART;VALUE=DATE:20290623
DTEND;VALUE=DATE:20290624
DTSTAMP:20260424T074944
CREATED:20230711T062702Z
LAST-MODIFIED:20241009T070429Z
UID:10007981-1876867200-1876953599@issuekalender.nl
SUMMARY:DAG VOOR PUBLIEKE DIENSTVERLENING (VN)
DESCRIPTION:[vc_row][vc_column][vc_single_image image=”61″ css_animation=”fadeInUp” alignment=”left”][/vc_column][/vc_row][vc_row][vc_column][vc_column_text css_animation=”fadeIn” font_size=”45″ font_family=”Roboto” font_weight=”500″ color=”#57529e”]\nDAG VOOR PUBLIEKE DIENSTVERLENING (VN) \n[/vc_column_text][vc_empty_space height=”10px”][vc_single_image image=”88″ img_size=”medium” css_animation=”fadeInUp” alignment=”left”][/vc_column][/vc_row][vc_row][vc_column][vc_column_text]De VN heeft deze internationale dag voor publieke dienstverlening (United Nations Public Service Day) uitgeroepen om mensen die openbare beroepen uitoefenen te erkennen voor hun bijdrage aan de gemeenschap. Daarnaast worden jongeren gestimuleerd tot een carrière in de openbare sector.[/vc_column_text][/vc_column][/vc_row][vc_row][vc_column][vc_single_image image=”61″ css_animation=”fadeInUp” alignment=”left”][/vc_column][/vc_row][vc_row][vc_column width=”1/2″]Issuekalender doorzoeken [/vc_column][vc_column width=”1/2″][/vc_column][/vc_row]
URL:https://issuekalender.nl/issue/dag-voor-publieke-dienstverlening-vn/2029-06-23/
CATEGORIES:Overige,Werk en welzijn
END:VEVENT
BEGIN:VEVENT
DTSTART;VALUE=DATE:20290623
DTEND;VALUE=DATE:20290624
DTSTAMP:20260424T074944
CREATED:20251117T113835Z
LAST-MODIFIED:20251117T113835Z
UID:10009407-1876867200-1876953599@issuekalender.nl
SUMMARY:NEDERLANDSE VETERANENDAG
DESCRIPTION:[vc_row][vc_column][vc_single_image image=”61″ css_animation=”fadeInUp” alignment=”left”][/vc_column][/vc_row][vc_row][vc_column][vc_column_text css_animation=”fadeIn” font_size=”45″ font_family=”Roboto” font_weight=”500″ color=”#57529e”]\nNEDERLANDSE VETERANENDAG \n[/vc_column_text][vc_empty_space height=”10px”][vc_single_image image=”88″ img_size=”medium” css_animation=”fadeInUp” alignment=”left”][/vc_column][/vc_row][vc_row][vc_column][vc_column_text]Deze dag is een nationaal evenement en eerbetoon waar heel Nederland haar meer dan 115.000 veteranen bedankt die zijn ingezet in dienst van de vrede\, nu en in het verleden. De erkenning en waardering voor hun inzet staat centraal tijdens dit Nationale Initiatief. Nederlandse veteranen zijn mannen en vrouwen van alle leeftijden en missies. Van de Tweede Wereldoorlog tot en met Mali. Van deze groep zijn er 30.000 nog in dienst als militair.[/vc_column_text][/vc_column][/vc_row][vc_row][vc_column][vc_single_image image=”61″ css_animation=”fadeInUp” alignment=”left”][/vc_column][/vc_row][vc_row][vc_column width=”1/2″]Issuekalender doorzoeken [/vc_column][vc_column width=”1/2″][/vc_column][/vc_row]
URL:https://issuekalender.nl/issue/nederlandse-veteranendag-2/2029-06-23/
CATEGORIES:Overige
ORGANIZER;CN="Stichting Nederlandse Veteranendag":MAILTO:info@veteranendag.nl
END:VEVENT
END:VCALENDAR