BEGIN:VCALENDAR
VERSION:2.0
PRODID:-//Issuekalender - ECPv6.9.0//NONSGML v1.0//EN
CALSCALE:GREGORIAN
METHOD:PUBLISH
X-ORIGINAL-URL:https://issuekalender.nl
X-WR-CALDESC:Evenementen voor Issuekalender
REFRESH-INTERVAL;VALUE=DURATION:PT1H
X-Robots-Tag:noindex
X-PUBLISHED-TTL:PT1H
BEGIN:VTIMEZONE
TZID:Europe/Amsterdam
BEGIN:DAYLIGHT
TZOFFSETFROM:+0100
TZOFFSETTO:+0200
TZNAME:CEST
DTSTART:20290325T010000
END:DAYLIGHT
BEGIN:STANDARD
TZOFFSETFROM:+0200
TZOFFSETTO:+0100
TZNAME:CET
DTSTART:20291028T010000
END:STANDARD
END:VTIMEZONE
BEGIN:VEVENT
DTSTART;VALUE=DATE:20290601
DTEND;VALUE=DATE:20290608
DTSTAMP:20260424T154758
CREATED:20230531T075837Z
LAST-MODIFIED:20241008T090551Z
UID:10007820-1874966400-1875571199@issuekalender.nl
SUMMARY:WEEK VAN DE JONGE MANTELZORGER
DESCRIPTION:[vc_row][vc_column][vc_single_image image=”61″ css_animation=”fadeInUp” alignment=”left”][/vc_column][/vc_row][vc_row][vc_column][vc_column_text css_animation=”fadeIn” font_size=”45″ font_family=”Roboto” font_weight=”500″ color=”#57529e”]\nWEEK VAN DE JONGE MANTELZORGER \n[/vc_column_text][vc_empty_space height=”10px”][vc_single_image image=”88″ img_size=”medium” css_animation=”fadeInUp” alignment=”left”][/vc_column][/vc_row][vc_row][vc_column][vc_column_text]Om meer begrip\, herkenning en erkenning te creëren is de Week van de Jonge Mantelzorger in het leven geroepen. De Strategische Alliantie Jonge Mantelzorg en jonge mantelzorgers werken actief samen aan de voorbereiding van de Week van de Jonge Mantelzorger. \nDe Week van de Jonge Mantelzorger is een collectieve beweging naar bewustwording voor meer her- en erkenning van Jonge Mantelzorgers.\nBij de doelgroep zelf\, naasten en beroepskrachten/vrijwilligers uit het onderwijs\, zorg en welzijn. \nDe Week van de Jonge Mantelzorger bestaat uit een bewustwordingscampagne die een organisatie of gemeente kan inzetten aanvullend op hun eigen activiteiten- en ondersteuningsaanbod. \nDeze week is ieder jaar van 1 t/m 7 juni.[/vc_column_text][/vc_column][/vc_row][vc_row][vc_column][vc_single_image image=”61″ css_animation=”fadeInUp” alignment=”left”][/vc_column][/vc_row][vc_row][vc_column width=”1/2″]Issuekalender doorzoeken [/vc_column][vc_column width=”1/2″][/vc_column][/vc_row]
URL:https://issuekalender.nl/issue/week-van-de-jonge-mantelzorger/2029-06-01/
CATEGORIES:Mens en maatschappij,Welzijn en gezondheid
ORGANIZER;CN="Strategische Alliantie Jonge Mantelzorg":MAILTO:info@weekvandejongemantelzorger.nl
END:VEVENT
BEGIN:VEVENT
DTSTART;VALUE=DATE:20290601
DTEND;VALUE=DATE:20290701
DTSTAMP:20260424T154759
CREATED:20240320T133928Z
LAST-MODIFIED:20241008T090046Z
UID:10007808-1874966400-1877558399@issuekalender.nl
SUMMARY:LIPOEDEEM AWARENESS MAAND
DESCRIPTION:[vc_row][vc_column][vc_single_image image=”61″ css_animation=”fadeInUp” alignment=”left”][/vc_column][/vc_row][vc_row][vc_column][vc_column_text css_animation=”fadeIn” font_size=”45″ font_family=”Roboto” font_weight=”500″ color=”#57529e”]\nLIPOEDEEM AWARENESS MAAND \n[/vc_column_text][vc_empty_space height=”10px”][vc_single_image image=”88″ img_size=”medium” css_animation=”fadeInUp” alignment=”left”][vc_column_text font_size=”20px” font_family=”Roboto” font_weight=”normal”]\n\n\n\n\n\n\n[/vc_column_text][/vc_column][/vc_row][vc_row][vc_column][vc_column_text]\nJuni is de maand waarin er aandacht wordt gevraagd voor lipoedeem. Lipoedeem is een aandoening die vooral voorkomt bij vrouwen. Het wordt veroorzaakt door ontstekingsreacties in de huid die leiden tot abnormale groei van de vetcellen. De oorzaak is eigenlijk nog niet bekend\, maar aangezien het vooral bij vrouwen voorkomt\, het in de pubertijd ontstaat\, rond zwangerschap en overgang\, en in die periodes ook ineens kan toenemen\, lijken hormonen een grote invloed te hebben. Ook lijkt er een familiaire component te zijn.\nMeestal zit lipoedeem in de benen\, billen en armen\, maar het kan ook op andere plekken voorkomen. \n[/vc_column_text][/vc_column][/vc_row][vc_row][vc_column][vc_single_image image=”61″ css_animation=”fadeInUp” alignment=”left”][/vc_column][/vc_row][vc_row][vc_column width=”1/2″]Issuekalender doorzoeken [/vc_column][vc_column width=”1/2″][/vc_column][/vc_row]
URL:https://issuekalender.nl/issue/lipoedeem-awareness-maand/2029-06-01/
CATEGORIES:Welzijn en gezondheid
END:VEVENT
BEGIN:VEVENT
DTSTART;VALUE=DATE:20290604
DTEND;VALUE=DATE:20290611
DTSTAMP:20260424T154759
CREATED:20240716T143102Z
LAST-MODIFIED:20241030T140838Z
UID:10008300-1875225600-1875830399@issuekalender.nl
SUMMARY:WEEK VAN DE MENTALE GEZONDHEID
DESCRIPTION:[vc_row][vc_column][vc_single_image image=”61″ css_animation=”fadeInUp” alignment=”left”][/vc_column][/vc_row][vc_row][vc_column][vc_column_text css_animation=”fadeIn” font_size=”45″ font_family=”Roboto” font_weight=”500″ color=”#57529e”]\nWEEK VAN DE MENTALE GEZONDHEID \n[/vc_column_text][vc_empty_space height=”10px”][vc_single_image image=”88″ img_size=”medium” css_animation=”fadeInUp” alignment=”left”][vc_column_text font_size=”20px” font_family=”Roboto” font_weight=”normal”]\n\n\n\n\n\n\n\n\n\n[/vc_column_text][/vc_column][/vc_row][vc_row][vc_column][vc_column_text]\n\n\n\n\n\nWeek van de Mentale Gezondheid 2025\n\n\nMaandag 2 juni tot en met zondag 8 juni 2025\n\n\n\n\n\n\n\n\n\n\n\n\nOok in 2025 organiseren we met Missie Mentaal weer een Week van de Mentale Gezondheid. Zet maandag 2 juni tot en met zondag 8 juni maar alvast in je agenda. \nOver een nieuw thema kunnen we nog niets verklappen\, maar het wordt een week met een congres\, een boekenbal\, een heleboel andere activiteiten en hopelijk nóg meer gezamenlijkheid en verbinding. Want alleen met elkaar kunnen we werken aan een veerkrachtiger Nederland en een (mentaal) gezonde leefomgeving. \n\n\n\n\n[/vc_column_text][/vc_column][/vc_row][vc_row][vc_column][vc_single_image image=”61″ css_animation=”fadeInUp” alignment=”left”][/vc_column][/vc_row][vc_row][vc_column width=”1/2″]Issuekalender doorzoeken [/vc_column][vc_column width=”1/2″][/vc_column][/vc_row]
URL:https://issuekalender.nl/issue/week-van-de-mentale-gezondheid-najaar/2029-06-04/
CATEGORIES:Welzijn en gezondheid
END:VEVENT
BEGIN:VEVENT
DTSTART;VALUE=DATE:20290607
DTEND;VALUE=DATE:20290608
DTSTAMP:20260424T154759
CREATED:20230531T084026Z
LAST-MODIFIED:20241028T102434Z
UID:10007873-1875484800-1875571199@issuekalender.nl
SUMMARY:NATIONALE OVERBLIJFDAG
DESCRIPTION:[vc_row][vc_column][vc_single_image image=”61″ css_animation=”fadeInUp” alignment=”left”][/vc_column][/vc_row][vc_row][vc_column][vc_column_text css_animation=”fadeIn” font_size=”45″ font_family=”Roboto” font_weight=”500″ color=”#57529e”]\nNATIONALE OVERBLIJFDAG \n[/vc_column_text][vc_empty_space height=”10px”][vc_single_image image=”88″ img_size=”medium” css_animation=”fadeInUp” alignment=”left”][/vc_column][/vc_row][vc_row][vc_column][vc_column_text]Het Overblijf Magazine initieert naar een idee van Saskya Wiegel de Nationale Overblijfdag. De dag waarop de ruim 70.000 vrijwillige medewerkers in de TussenSchoolse Opvang (TSO)\, ofwel het overblijven op de basisschool\, erkenning krijgen voor het belangrijke werk dat zij doen. Gezien de aard en het belang van het werk verdient het overblijven een stevige positionering binnen de school. Het begeleiden van kinderen in de TSO is een vak apart. Er komt heel wat kijken bij het aansturen van een groep kinderen\, met en zonder gedragsproblematiek. De TSO dient een maatschappelijk belang: Niet alleen draagt het bij aan de opvoeding van de kinderen\, het stelt tevens de ouders in staat naar hun werk te gaan. Een goede TSO heeft een positief effect op het leerresultaat in de middag. \nAlle basisscholen in Nederland wordt gevraagd om op eigen\, creatieve wijze aandacht te schenken aan het werk van tso-medewerkers. Waardering voor de inzet van deze medewerkers mag door betrokkenen in de school met nadruk worden getoond. Kinderen kunnen bijvoorbeeld met elkaar of met de ouders iets tekenen of knutselen ter aanbieding aan het overblijfteam. De schooldirecteur of stichting bestuurder kan haar visie op de TSO presenteren\, een cursus cadeau doen of een taart bestellen. \nDe Nationale Overblijfdag zal jaarlijks gevierd worden op de eerste donderdag van juni. Het Overblijf Magazine wil scholen\, directies\, medezeggenschapsraden en ouderraden prikkelen om de Nationale Overblijfdag voortaan jaarlijks met enthousiasme te vieren en zal ideeën voor de invulling ervan aanreiken. Op de site van het Overblijf Magazine worden downloads beschikbaar gesteld zoals het logo\, taartprint\, placemats en ander materiaal om de dag een feestelijke tintje te geven. \nDe Nationale Overblijfdag is iedere eerste donderdag van juni.[/vc_column_text][/vc_column][/vc_row][vc_row][vc_column][vc_single_image image=”61″ css_animation=”fadeInUp” alignment=”left”][/vc_column][/vc_row][vc_row][vc_column width=”1/2″]Issuekalender doorzoeken [/vc_column][vc_column width=”1/2″][/vc_column][/vc_row]
URL:https://issuekalender.nl/issue/nationale-overblijfdag/2029-06-07/
CATEGORIES:Onderwijs en educatie
ORGANIZER;CN="Saskya Wiegel en Overblijf Magazine":MAILTO:info@overblijf-magazine.nl
END:VEVENT
BEGIN:VEVENT
DTSTART;VALUE=DATE:20290607
DTEND;VALUE=DATE:20290608
DTSTAMP:20260424T154759
CREATED:20230710T202445Z
LAST-MODIFIED:20241008T093802Z
UID:10007884-1875484800-1875571199@issuekalender.nl
SUMMARY:EUROPESE TOURETTEDAG
DESCRIPTION:[vc_row][vc_column][vc_single_image image=”61″ css_animation=”fadeInUp” alignment=”left”][/vc_column][/vc_row][vc_row][vc_column][vc_column_text css_animation=”fadeIn” font_size=”45″ font_family=”Roboto” font_weight=”500″ color=”#57529e”]\nEUROPESE TOURETTEDAG \n[/vc_column_text][vc_empty_space height=”10px”][vc_single_image image=”88″ img_size=”medium” css_animation=”fadeInUp” alignment=”left”][/vc_column][/vc_row][vc_row][vc_column][vc_column_text]Op 7 juni organiseert Stichting Gilles de la Tourette jaarlijks de Europese Tourettedag. Op deze dag vragen zij aandacht voor wat het Syndroom van Gilles de la Tourette inhoudt\, om zo begrip te vergroten en het stigma uit de wereld te helpen.[/vc_column_text][/vc_column][/vc_row][vc_row][vc_column][vc_single_image image=”61″ css_animation=”fadeInUp” alignment=”left”][/vc_column][/vc_row][vc_row][vc_column width=”1/2″]Issuekalender doorzoeken [/vc_column][vc_column width=”1/2″][/vc_column][/vc_row]
URL:https://issuekalender.nl/issue/europese-tourettedag/2029-06-07/
CATEGORIES:Welzijn en gezondheid
ORGANIZER;CN="initiatiefnemer%09European Society for the Study of Tourette":MAILTO:kids@tourette.nl
END:VEVENT
END:VCALENDAR