BEGIN:VCALENDAR
VERSION:2.0
PRODID:-//Issuekalender - ECPv6.9.0//NONSGML v1.0//EN
CALSCALE:GREGORIAN
METHOD:PUBLISH
X-WR-CALNAME:Issuekalender
X-ORIGINAL-URL:https://issuekalender.nl
X-WR-CALDESC:Evenementen voor Issuekalender
REFRESH-INTERVAL;VALUE=DURATION:PT1H
X-Robots-Tag:noindex
X-PUBLISHED-TTL:PT1H
BEGIN:VTIMEZONE
TZID:Europe/Amsterdam
BEGIN:DAYLIGHT
TZOFFSETFROM:+0100
TZOFFSETTO:+0200
TZNAME:CEST
DTSTART:20290325T010000
END:DAYLIGHT
BEGIN:STANDARD
TZOFFSETFROM:+0200
TZOFFSETTO:+0100
TZNAME:CET
DTSTART:20291028T010000
END:STANDARD
END:VTIMEZONE
BEGIN:VEVENT
DTSTART;VALUE=DATE:20290501
DTEND;VALUE=DATE:20290601
DTSTAMP:20260424T074946
CREATED:20230716T091859Z
LAST-MODIFIED:20241009T084856Z
UID:10007240-1872288000-1874966399@issuekalender.nl
SUMMARY:MEI PLASTICVRIJ
DESCRIPTION:[vc_row][vc_column][vc_single_image image=”61″ css_animation=”fadeInUp” alignment=”left”][/vc_column][/vc_row][vc_row][vc_column][vc_column_text css_animation=”fadeIn” font_size=”45″ font_family=”Roboto” font_weight=”500″ color=”#57529e”]\nMEI PLASTICVRIJ \n[/vc_column_text][vc_empty_space height=”10px”][vc_single_image image=”88″ img_size=”medium” css_animation=”fadeInUp” alignment=”left”][/vc_column][/vc_row][vc_row][vc_column][vc_column_text]Wordt vooralsnog alleen in België georganiseerd.[/vc_column_text][/vc_column][/vc_row][vc_row][vc_column][vc_single_image image=”61″ css_animation=”fadeInUp” alignment=”left”][/vc_column][/vc_row][vc_row][vc_column width=”1/2″]Issuekalender doorzoeken [/vc_column][vc_column width=”1/2″][/vc_column][/vc_row]
URL:https://issuekalender.nl/issue/mei-plasticvrij/2029-05-01/
CATEGORIES:Mens en maatschappij,Milieu en duurzaamheid
END:VEVENT
BEGIN:VEVENT
DTSTART;VALUE=DATE:20290501
DTEND;VALUE=DATE:20290601
DTSTAMP:20260424T074946
CREATED:20241003T100805Z
LAST-MODIFIED:20241023T122124Z
UID:10008140-1872288000-1874966399@issuekalender.nl
SUMMARY:LYME AWARENESS MAAND
DESCRIPTION:[vc_row][vc_column][vc_single_image image=”61″ css_animation=”fadeInUp” alignment=”left”][/vc_column][/vc_row][vc_row][vc_column][vc_column_text css_animation=”fadeIn” font_size=”45″ font_family=”Roboto” font_weight=”500″ color=”#57529e”]\nLYME AWARENESS MAAND \n[/vc_column_text][vc_empty_space height=”10px”][vc_single_image image=”88″ img_size=”medium” css_animation=”fadeInUp” alignment=”left”][/vc_column][/vc_row][vc_row][vc_column][vc_column_text]De ziekte van Lyme\, ook wel Lymeziekte of Borreliose genoemd\, is een aandoening die veroorzaakt wordt door de Borrelia bacterie. U kunt de ziekte oplopen door een beet van een besmette teek. \nIn de maand mei wordt er stilgestaan bij het gevaar van tekenbeten en wat het betekent om de ziekte van Lyme te hebben.[/vc_column_text][/vc_column][/vc_row][vc_row][vc_column][vc_single_image image=”61″ css_animation=”fadeInUp” alignment=”left”][/vc_column][/vc_row][vc_row][vc_column width=”1/2″]Issuekalender doorzoeken [/vc_column][vc_column width=”1/2″][/vc_column][/vc_row]
URL:https://issuekalender.nl/issue/lyme-awareness-maand-2/2029-05-01/
CATEGORIES:Overige,Welzijn en gezondheid
END:VEVENT
BEGIN:VEVENT
DTSTART;VALUE=DATE:20290507
DTEND;VALUE=DATE:20290521
DTSTAMP:20260424T074946
CREATED:20231030T135446Z
LAST-MODIFIED:20241025T105244Z
UID:10009004-1872806400-1874015999@issuekalender.nl
SUMMARY:FAIRTRADE WEEK
DESCRIPTION:[vc_row][vc_column][vc_single_image image=”61″ css_animation=”fadeInUp” alignment=”left”][/vc_column][/vc_row][vc_row][vc_column][vc_column_text css_animation=”fadeIn” css=”” font_size=”45″ font_family=”Roboto” font_weight=”500″ color=”#57529e”]\nFAIRTRADE WEEK \n[/vc_column_text][vc_empty_space height=”10px”][vc_single_image image=”88″ img_size=”medium” css_animation=”fadeInUp” alignment=”left”][/vc_column][/vc_row][vc_row][vc_column][vc_column_text]Het Keurmerk Max Havelaar is het onafhankelijke keurmerk voor Fairtrade. Producten met het Max Havelaar keurmerk zijn geproduceerd en verhandeld onder eerlijke voorwaarden. Consumenten worden gemotiveerd tijdens de Fairtrade Week te kiezen voor Max Havelaar producten. Er worden tal van activiteiten georganiseerd.[/vc_column_text][/vc_column][/vc_row][vc_row][vc_column][vc_single_image image=”61″ css_animation=”fadeInUp” alignment=”left”][/vc_column][/vc_row][vc_row][vc_column width=”1/2″]Issuekalender doorzoeken [/vc_column][vc_column width=”1/2″][/vc_column][/vc_row]
URL:https://issuekalender.nl/issue/fairtrade-week/2029-05-07/
CATEGORIES:Milieu en duurzaamheid,Welzijn en gezondheid
END:VEVENT
BEGIN:VEVENT
DTSTART;VALUE=DATE:20290514
DTEND;VALUE=DATE:20290521
DTSTAMP:20260424T074946
CREATED:20251125T140317Z
LAST-MODIFIED:20251125T140451Z
UID:10009532-1873411200-1874015999@issuekalender.nl
SUMMARY:Leg je telefoon weg challenge
DESCRIPTION:[vc_row][vc_column][vc_single_image image=”61″ css_animation=”fadeInUp” alignment=”left”][/vc_column][/vc_row][vc_row][vc_column][vc_column_text css_animation=”fadeIn” font_size=”45″ font_family=”Roboto” font_weight=”500″ color=”#57529e”]\nLeg je telefoon weg challenge \n[/vc_column_text][vc_empty_space height=”10px”][vc_single_image image=”88″ img_size=”medium” css_animation=”fadeInUp” alignment=”left”][/vc_column][/vc_row][vc_row][vc_column][vc_column_text]\nWegens het succes van de eerste editie organiseert MIND van 11 t/m 17 mei 2026 voor de tweede keer de Leg je telefoon weg challenge. De uitdaging: maximaal een half uur per dag op je telefoon. Met als doel weer controle over je smartphone hebben\, in plaats van andersom. \nWaarom deze challenge?\nVeel mensen vinden het moeilijk om goed met hun telefoon om te gaan. Dit terwijl te veel telefoongebruik je concentratie\, productiviteit\, creativiteit en gevoel van rust beïnvloedt. Er zijn steeds meer zorgen\, maar we weten vaak niet hoe we het anders kunnen doen. \nWe zijn niet tegen de smartphone\, de smartphone brengt ook veel goeds. Maar we zijn er te afhankelijk van. \n[/vc_column_text][/vc_column][/vc_row][vc_row][vc_column][vc_single_image image=”61″ css_animation=”fadeInUp” alignment=”left”][/vc_column][/vc_row][vc_row][vc_column width=”1/2″]Issuekalender doorzoeken [/vc_column][vc_column width=”1/2″][/vc_column][/vc_row]
URL:https://issuekalender.nl/issue/leg-je-telefoon-weg-challenge/2029-05-14/
CATEGORIES:Mens en maatschappij
ORGANIZER;CN="https%3A//wijzijnmind.nl/":MAILTO:hulplijn@wijzijnmind.nl
END:VEVENT
BEGIN:VEVENT
DTSTART;VALUE=DATE:20290517
DTEND;VALUE=DATE:20290518
DTSTAMP:20260424T074946
CREATED:20230514T210456Z
LAST-MODIFIED:20241009T093534Z
UID:10007404-1873670400-1873756799@issuekalender.nl
SUMMARY:INTERNATIONALE DAG TEGEN HOMOFOBIE EN TRANSFOBIE
DESCRIPTION:[vc_row][vc_column][vc_single_image image=”61″ css_animation=”fadeInUp” alignment=”left”][/vc_column][/vc_row][vc_row][vc_column][vc_column_text css_animation=”fadeIn” font_size=”45″ font_family=”Roboto” font_weight=”500″ color=”#57529e”]\nINTERNATIONALE DAG TEGEN HOMOFOBIE EN TRANSFOBIE \n[/vc_column_text][vc_empty_space height=”10px”][vc_single_image image=”88″ img_size=”medium” css_animation=”fadeInUp” alignment=”left”][/vc_column][/vc_row][vc_row][vc_column][vc_column_text css=””]Op deze dag wordt er aandacht gevraagd voor de positie van homoseksuele en transseksuele individuen in onze samenleving. Homo- en transseksuelen worden nog regelmatig geconfronteerd met geweld en racisme. \nDeze dag is sindsdien gegroeid naar zo’n 120 landen en heeft in veel van die landen aandacht gevraagd en gekregen van beleidsmakers en het bredere publiek. \nWaarom 17 mei? \n17 mei is de Internationale Dag tegen Homo-\, Lesbo-\, Bi-\, Trans- en Interseksefobie (IDAHOBIT). Wereldwijd wordt er op of rond die datum aandacht gevraagd voor de sociale onwenselijkheid van discriminatie en geweld op grond van seksuele oriëntatie\, gender identiteit\, expressie of geslachtskenmerken. Op deze dag vieren we ook seksuele-\, gender- en seksediversiteit.[/vc_column_text][/vc_column][/vc_row][vc_row][vc_column][vc_single_image image=”61″ css_animation=”fadeInUp” alignment=”left”][/vc_column][/vc_row][vc_row][vc_column width=”1/2″]Issuekalender doorzoeken [/vc_column][vc_column width=”1/2″][/vc_column][/vc_row]
URL:https://issuekalender.nl/issue/internationale-dag-tegen-homofobie-en-transfobie/2029-05-17/
CATEGORIES:Mens en maatschappij,Sociale cohesie en integratie
END:VEVENT
BEGIN:VEVENT
DTSTART;VALUE=DATE:20290517
DTEND;VALUE=DATE:20290518
DTSTAMP:20260424T074946
CREATED:20230514T210749Z
LAST-MODIFIED:20251111T131931Z
UID:10008681-1873670400-1873756799@issuekalender.nl
SUMMARY:WERELDDAG VAN DE TELECOMMUNICATIE EN INFORMATIEMAATSCHAPPIJ (VN)
DESCRIPTION:[vc_row][vc_column][vc_single_image image=”61″ css_animation=”fadeInUp” alignment=”left”][/vc_column][/vc_row][vc_row][vc_column][vc_column_text css_animation=”fadeIn” font_size=”45″ font_family=”Roboto” font_weight=”500″ color=”#57529e”]\nWERELDDAG VAN DE TELECOMMUNICATIE EN INFORMATIEMAATSCHAPPIJ (VN) \n[/vc_column_text][vc_empty_space height=”10px”][vc_single_image image=”88″ img_size=”medium” css_animation=”fadeInUp” alignment=”left”][/vc_column][/vc_row][vc_row][vc_column][vc_column_text]Sinds 1969 wordt de Dag van de Telecommunicatie en Informatiemaatschappij gevierd op 17 mei. Deze dag is de oprichtingsdag van de Internationale Telecommunicating Union (ITU) en ook de datum van de allereerste Internationaal Telegraph Convention in 1865. De Werelddag van de Telecommunicatie vraagt aandacht voor het belang van internet en andere informatie-en communicatietechnologieën (ICT) voor de samenleving en economie.[/vc_column_text][/vc_column][/vc_row][vc_row][vc_column][vc_single_image image=”61″ css_animation=”fadeInUp” alignment=”left”][/vc_column][/vc_row][vc_row][vc_column width=”1/2″]Issuekalender doorzoeken [/vc_column][vc_column width=”1/2″][/vc_column][/vc_row]
URL:https://issuekalender.nl/issue/werelddag-van-de-telecommunicatie-vn/2029-05-17/
CATEGORIES:Innovatie en technologie,Overige,Wetenschap
ORGANIZER;CN="ITU (International Telecommunication Union)":MAILTO:itumail@itu.int
END:VEVENT
END:VCALENDAR