BEGIN:VCALENDAR
VERSION:2.0
PRODID:-//Issuekalender - ECPv6.9.0//NONSGML v1.0//EN
CALSCALE:GREGORIAN
METHOD:PUBLISH
X-WR-CALNAME:Issuekalender
X-ORIGINAL-URL:https://issuekalender.nl
X-WR-CALDESC:Evenementen voor Issuekalender
REFRESH-INTERVAL;VALUE=DURATION:PT1H
X-Robots-Tag:noindex
X-PUBLISHED-TTL:PT1H
BEGIN:VTIMEZONE
TZID:Europe/Amsterdam
BEGIN:DAYLIGHT
TZOFFSETFROM:+0100
TZOFFSETTO:+0200
TZNAME:CEST
DTSTART:20290325T010000
END:DAYLIGHT
BEGIN:STANDARD
TZOFFSETFROM:+0200
TZOFFSETTO:+0100
TZNAME:CET
DTSTART:20291028T010000
END:STANDARD
END:VTIMEZONE
BEGIN:VEVENT
DTSTART;VALUE=DATE:20290428
DTEND;VALUE=DATE:20290512
DTSTAMP:20260424T074945
CREATED:20251201T141037Z
LAST-MODIFIED:20251201T141037Z
UID:10009621-1872028800-1873238399@issuekalender.nl
SUMMARY:Leven met Water Week
DESCRIPTION:[vc_row][vc_column][vc_single_image image=”61″ css_animation=”fadeInUp” alignment=”left”][/vc_column][/vc_row][vc_row][vc_column][vc_column_text css_animation=”fadeIn” font_size=”45″ font_family=”Roboto” font_weight=”500″ color=”#57529e”]\nLEVEN MET WATER WEEK \n[/vc_column_text][vc_empty_space height=”10px”][vc_single_image image=”88″ img_size=”medium” css_animation=”fadeInUp” alignment=”left”][/vc_column][/vc_row][vc_row][vc_column][vc_column_text]\nHet veranderende klimaat zorgt ervoor dat we steeds vaker te maken krijgen met droge perioden of juist met extreme neerslag. Dat kan leiden tot watertekort of juist tot wateroverlast. Ook raakt ons oppervlaktewater vervuild door de manier waarop we leven\, het klimaat dat verandert en door vervuild water dat ons land in stroomt. \nEr zijn dus nogal wat uitdagingen als het gaat om water. En dit vraagt om actie. We moeten anders met ons water omgaan. Dat moeten we samen doen: de overheid\, bedrijven én alle Nederlanders. \n[/vc_column_text][/vc_column][/vc_row][vc_row][vc_column][vc_single_image image=”61″ css_animation=”fadeInUp” alignment=”left”][/vc_column][/vc_row][vc_row][vc_column width=”1/2″]Issuekalender doorzoeken [/vc_column][vc_column width=”1/2″][/vc_column][/vc_row]
URL:https://issuekalender.nl/issue/leven-met-water-week/2029-04-28/
CATEGORIES:Mens en maatschappij
END:VEVENT
BEGIN:VEVENT
DTSTART;VALUE=DATE:20290501
DTEND;VALUE=DATE:20290601
DTSTAMP:20260424T074945
CREATED:20230716T091859Z
LAST-MODIFIED:20241009T084856Z
UID:10007240-1872288000-1874966399@issuekalender.nl
SUMMARY:MEI PLASTICVRIJ
DESCRIPTION:[vc_row][vc_column][vc_single_image image=”61″ css_animation=”fadeInUp” alignment=”left”][/vc_column][/vc_row][vc_row][vc_column][vc_column_text css_animation=”fadeIn” font_size=”45″ font_family=”Roboto” font_weight=”500″ color=”#57529e”]\nMEI PLASTICVRIJ \n[/vc_column_text][vc_empty_space height=”10px”][vc_single_image image=”88″ img_size=”medium” css_animation=”fadeInUp” alignment=”left”][/vc_column][/vc_row][vc_row][vc_column][vc_column_text]Wordt vooralsnog alleen in België georganiseerd.[/vc_column_text][/vc_column][/vc_row][vc_row][vc_column][vc_single_image image=”61″ css_animation=”fadeInUp” alignment=”left”][/vc_column][/vc_row][vc_row][vc_column width=”1/2″]Issuekalender doorzoeken [/vc_column][vc_column width=”1/2″][/vc_column][/vc_row]
URL:https://issuekalender.nl/issue/mei-plasticvrij/2029-05-01/
CATEGORIES:Mens en maatschappij,Milieu en duurzaamheid
END:VEVENT
BEGIN:VEVENT
DTSTART;VALUE=DATE:20290501
DTEND;VALUE=DATE:20290601
DTSTAMP:20260424T074945
CREATED:20241003T100805Z
LAST-MODIFIED:20241023T122124Z
UID:10008140-1872288000-1874966399@issuekalender.nl
SUMMARY:LYME AWARENESS MAAND
DESCRIPTION:[vc_row][vc_column][vc_single_image image=”61″ css_animation=”fadeInUp” alignment=”left”][/vc_column][/vc_row][vc_row][vc_column][vc_column_text css_animation=”fadeIn” font_size=”45″ font_family=”Roboto” font_weight=”500″ color=”#57529e”]\nLYME AWARENESS MAAND \n[/vc_column_text][vc_empty_space height=”10px”][vc_single_image image=”88″ img_size=”medium” css_animation=”fadeInUp” alignment=”left”][/vc_column][/vc_row][vc_row][vc_column][vc_column_text]De ziekte van Lyme\, ook wel Lymeziekte of Borreliose genoemd\, is een aandoening die veroorzaakt wordt door de Borrelia bacterie. U kunt de ziekte oplopen door een beet van een besmette teek. \nIn de maand mei wordt er stilgestaan bij het gevaar van tekenbeten en wat het betekent om de ziekte van Lyme te hebben.[/vc_column_text][/vc_column][/vc_row][vc_row][vc_column][vc_single_image image=”61″ css_animation=”fadeInUp” alignment=”left”][/vc_column][/vc_row][vc_row][vc_column width=”1/2″]Issuekalender doorzoeken [/vc_column][vc_column width=”1/2″][/vc_column][/vc_row]
URL:https://issuekalender.nl/issue/lyme-awareness-maand-2/2029-05-01/
CATEGORIES:Overige,Welzijn en gezondheid
END:VEVENT
BEGIN:VEVENT
DTSTART;VALUE=DATE:20290506
DTEND;VALUE=DATE:20290507
DTSTAMP:20260424T074945
CREATED:20230716T092707Z
LAST-MODIFIED:20251111T131541Z
UID:10007303-1872720000-1872806399@issuekalender.nl
SUMMARY:INTERNATIONALE ANTI-DIEETDAG
DESCRIPTION:[vc_row][vc_column][vc_single_image image=”61″ css_animation=”fadeInUp” alignment=”left”][/vc_column][/vc_row][vc_row][vc_column][vc_column_text css_animation=”fadeIn” font_size=”45″ font_family=”Roboto” font_weight=”500″ color=”#57529e”]\nINTERNATIONALE ANTI-DIEETDAG \n[/vc_column_text][vc_empty_space height=”10px”][vc_single_image image=”88″ img_size=”medium” css_animation=”fadeInUp” alignment=”left”][/vc_column][/vc_row][vc_row][vc_column][vc_column_text]Op Internationale Anti-Dieetdag wordt stil gestaan bij de grote plaats die gewicht en de obsessie om slank te zijn in onze samenleving inneemt. Op deze dag denken we niet aan diëten en afvallen\, maar meer aan lekker en gezond eten en met plezier bewegen. Ook geldt de dag als herdenkingsdag voor alle mensen die gestorven zijn of blijvend letsel opgelopen hebben als gevolg van het slankheidsideaal\, zij het aan anorexia nervosa\, of als gevolg van een afslankdieet of -operatie.[/vc_column_text][/vc_column][/vc_row][vc_row][vc_column][vc_single_image image=”61″ css_animation=”fadeInUp” alignment=”left”][/vc_column][/vc_row][vc_row][vc_column width=”1/2″]Issuekalender doorzoeken [/vc_column][vc_column width=”1/2″][/vc_column][/vc_row]
URL:https://issuekalender.nl/issue/internationale-anti-dieetdag/2029-05-06/
CATEGORIES:Overige,Welzijn en gezondheid
END:VEVENT
BEGIN:VEVENT
DTSTART;VALUE=DATE:20290506
DTEND;VALUE=DATE:20290507
DTSTAMP:20260424T074945
CREATED:20230716T093054Z
LAST-MODIFIED:20251111T131653Z
UID:10007297-1872720000-1872806399@issuekalender.nl
SUMMARY:INTERNATIONALE DAG VAN DE LACH
DESCRIPTION:[vc_row][vc_column][vc_single_image image=”61″ css_animation=”fadeInUp” alignment=”left”][/vc_column][/vc_row][vc_row][vc_column][vc_column_text css_animation=”fadeIn” font_size=”45″ font_family=”Roboto” font_weight=”500″ color=”#57529e”]\nINTERNATIONALE DAG VAN DE LACH \n[/vc_column_text][vc_empty_space height=”10px”][vc_single_image image=”88″ img_size=”medium” css_animation=”fadeInUp” alignment=”left”][/vc_column][/vc_row][vc_row][vc_column][vc_column_text]De Internationale Dag van de Lach is in het leven geroepen door Dr. Madan Kataria\, de grondlegger van de wereldwijde Laughter-Yoga beweging. Op de eerste zondag van mei worden in meer dan 65 landen ter wereld lach-manifestaties georganiseerd om aandacht te vragen voor vrede en het belang van de lach voor vriendschap en verbroedering.[/vc_column_text][/vc_column][/vc_row][vc_row][vc_column][vc_single_image image=”61″ css_animation=”fadeInUp” alignment=”left”][/vc_column][/vc_row][vc_row][vc_column width=”1/2″]Issuekalender doorzoeken [/vc_column][vc_column width=”1/2″][/vc_column][/vc_row]
URL:https://issuekalender.nl/issue/internationale-dag-van-de-lach/2029-05-06/
CATEGORIES:Ontspanning en plezier
END:VEVENT
END:VCALENDAR