BEGIN:VCALENDAR
VERSION:2.0
PRODID:-//Issuekalender - ECPv6.9.0//NONSGML v1.0//EN
CALSCALE:GREGORIAN
METHOD:PUBLISH
X-ORIGINAL-URL:https://issuekalender.nl
X-WR-CALDESC:Evenementen voor Issuekalender
REFRESH-INTERVAL;VALUE=DURATION:PT1H
X-Robots-Tag:noindex
X-PUBLISHED-TTL:PT1H
BEGIN:VTIMEZONE
TZID:Europe/Amsterdam
BEGIN:DAYLIGHT
TZOFFSETFROM:+0100
TZOFFSETTO:+0200
TZNAME:CEST
DTSTART:20290325T010000
END:DAYLIGHT
BEGIN:STANDARD
TZOFFSETFROM:+0200
TZOFFSETTO:+0100
TZNAME:CET
DTSTART:20291028T010000
END:STANDARD
END:VTIMEZONE
BEGIN:VEVENT
DTSTART;VALUE=DATE:20290401
DTEND;VALUE=DATE:20290501
DTSTAMP:20260425T235909
CREATED:20231113T100049Z
LAST-MODIFIED:20241023T130010Z
UID:10008070-1869696000-1872287999@issuekalender.nl
SUMMARY:MAAND VAN DE GROENE TUIN
DESCRIPTION:[vc_row][vc_column][vc_single_image image=”61″ css_animation=”fadeInUp” alignment=”left”][/vc_column][/vc_row][vc_row][vc_column][vc_column_text css_animation=”fadeIn” css=”” font_size=”45″ font_family=”Roboto” font_weight=”500″ color=”#57529e”]\nMAAND VAN DE GROENE TUIN \n[/vc_column_text][vc_empty_space height=”10px”][vc_single_image image=”88″ img_size=”medium” css_animation=”fadeInUp” alignment=”left”][/vc_column][/vc_row][vc_row][vc_column][vc_column_text css=””]Het doel van de Maand van de Groene Tuin is om tuinbezitters te stimuleren hun eigen tuin én eigen straat (verder) te vergroenen en te verduurzamen. Een maand lang krijgen tuinbezitters tuintips zoals het ontstenen van hun tuin\, het voorkomen van plagen\, en tips om meer dieren in de tuin van voedsel en schuilplek te voorzien.[/vc_column_text][/vc_column][/vc_row][vc_row][vc_column][vc_single_image image=”61″ css_animation=”fadeInUp” alignment=”left”][/vc_column][/vc_row][vc_row][vc_column width=”1/2″]Issuekalender doorzoeken [/vc_column][vc_column width=”1/2″][/vc_column][/vc_row]
URL:https://issuekalender.nl/issue/maand-van-de-groene-tuin-2/2029-04-01/
CATEGORIES:Milieu en duurzaamheid
ORGANIZER;CN="Milieu Centraal":MAILTO:info@milieucentraal.nl
END:VEVENT
BEGIN:VEVENT
DTSTART;VALUE=DATE:20290413
DTEND;VALUE=DATE:20290421
DTSTAMP:20260425T235909
CREATED:20251117T092628Z
LAST-MODIFIED:20251117T092628Z
UID:10009367-1870732800-1871423999@issuekalender.nl
SUMMARY:MEDIA UKKIE DAGEN
DESCRIPTION:[vc_row][vc_column][vc_single_image image=”61″ css_animation=”fadeInUp” alignment=”left”][/vc_column][/vc_row][vc_row][vc_column][vc_column_text css_animation=”fadeIn” font_size=”45″ font_family=”Roboto” font_weight=”500″ color=”#57529e”]\nMEDIA UKKIE DAGEN \n[/vc_column_text][vc_empty_space height=”10px”][vc_single_image image=”88″ img_size=”medium” css_animation=”fadeInUp” alignment=”left”][/vc_column][/vc_row][vc_row][vc_column][vc_column_text css=””]De Media Ukkie Dagen hebben tot doel om opvoeders en professionals te ondersteunen bij de mediaopvoeding van kinderen van 0 t/m 6 jaar. \nDe Media Ukkie Dagen is een initiatief van het Netwerk Mediawijsheid waar de focus ligt op jonge kinderen van 0 t/m 6 jaar\, hun ouders en (professionele) opvoeders. Met de campagne wil het Netwerk Mediawijsheid hen bewust maken van de vele kennis die er al is op het gebied van mediaopvoeding en concrete handvatten bieden om hier thuis mee aan de slag te gaan. Elk jaar spelen de netwerkpartners van het Netwerk Mediawijsheid een belangrijke rol in de campagne door het organiseren van activiteiten en door het gezamenlijk uitdragen van de campagneboodschap.[/vc_column_text][/vc_column][/vc_row][vc_row][vc_column][vc_single_image image=”61″ css_animation=”fadeInUp” alignment=”left”][/vc_column][/vc_row][vc_row][vc_column width=”1/2″]Issuekalender doorzoeken [/vc_column][vc_column width=”1/2″][/vc_column][/vc_row]
URL:https://issuekalender.nl/issue/media-ukkie-dagen-check-2/2029-04-13/
CATEGORIES:Onderwijs en educatie
ORGANIZER;CN="Netwerk Mediawijsheid":MAILTO:info@mediawijzer.net
END:VEVENT
BEGIN:VEVENT
DTSTART;VALUE=DATE:20290414
DTEND;VALUE=DATE:20290421
DTSTAMP:20260425T235909
CREATED:20251125T140037Z
LAST-MODIFIED:20251125T140545Z
UID:10009523-1870819200-1871423999@issuekalender.nl
SUMMARY:Week van de Jongerenparticipatie
DESCRIPTION:[vc_row][vc_column][vc_single_image image=”61″ css_animation=”fadeInUp” alignment=”left”][/vc_column][/vc_row][vc_row][vc_column][vc_column_text css_animation=”fadeIn” font_size=”45″ font_family=”Roboto” font_weight=”500″ color=”#57529e”]\nWeek van de Jongerenparticipatie \n[/vc_column_text][vc_empty_space height=”10px”][vc_single_image image=”88″ img_size=”medium” css_animation=”fadeInUp” alignment=”left”][/vc_column][/vc_row][vc_row][vc_column][vc_column_text]Vanuit de Nationale Jeugdraad wordt de Week van de Jongerenparticipatie georganiseerd. \n[/vc_column_text][/vc_column][/vc_row][vc_row][vc_column][vc_single_image image=”61″ css_animation=”fadeInUp” alignment=”left”][/vc_column][/vc_row][vc_row][vc_column width=”1/2″]Issuekalender doorzoeken [/vc_column][vc_column width=”1/2″][/vc_column][/vc_row]
URL:https://issuekalender.nl/issue/week-van-de-jongerenparticipatie/2029-04-14/
CATEGORIES:Mens en maatschappij
END:VEVENT
BEGIN:VEVENT
DTSTART;VALUE=DATE:20290416
DTEND;VALUE=DATE:20290423
DTSTAMP:20260425T235909
CREATED:20251117T092814Z
LAST-MODIFIED:20251117T092814Z
UID:10009383-1870992000-1871596799@issuekalender.nl
SUMMARY:NATIONALE HARTFALENWEEK
DESCRIPTION:[vc_row][vc_column][vc_single_image image=”61″ css_animation=”fadeInUp” alignment=”left”][/vc_column][/vc_row][vc_row][vc_column][vc_column_text css_animation=”fadeIn” css=”” font_size=”45″ font_family=”Roboto” font_weight=”500″ color=”#57529e”]\nNATIONALE HARTFALENWEEK \n[/vc_column_text][vc_empty_space height=”10px”][vc_single_image image=”88″ img_size=”medium” css_animation=”fadeInUp” alignment=”left”][/vc_column][/vc_row][vc_row][vc_column][vc_column_text css=””]Bij hartfalen kan het hart niet genoeg bloed rondpompen. Daardoor krijgen organen en spieren niet genoeg zuurstof en voedingsstoffen. Deze ziekte ontstaat meestal geleidelijk. Zonder behandeling gaat\nhet hart steeds verder achteruit. Hartfalen is niet hetzelfde als een hartinfarct of een hartstilstand. Deze ziekten treden altijd plotseling op. Veel mensen herkennen klachten van hartfalen niet als signalen\nvan een ziekte. Hierdoor gaan zij te laat of zelfs niet naar een dokter. Tijdige behandeling kan juist voorkomen dat iemand steeds meer klachten krijgt en alsmaar zieker wordt. \nIn de periode om de Hartfalendag heen is er extra aandacht in ziekenhuizen en huisartspraktijken om mensen bewust te maken van hartfalen en de klachten die op hartfalen kunnen wijzen. Op de Hartfalendag zelf is er een congres voor cardiologen\, huisartsen\, fysiotherapeuten\, verpleegkundig specialisten\, hartfalenverpleegkundigen en andere (para)medici betrokken bij hartfalenzorg.[/vc_column_text][/vc_column][/vc_row][vc_row][vc_column][vc_single_image image=”61″ css_animation=”fadeInUp” alignment=”left”][/vc_column][/vc_row][vc_row][vc_column width=”1/2″]Issuekalender doorzoeken [/vc_column][vc_column width=”1/2″][/vc_column][/vc_row]
URL:https://issuekalender.nl/issue/nationale-hartfalenweek-2/2029-04-16/
CATEGORIES:Welzijn en gezondheid
ORGANIZER;CN="Hartstichting":MAILTO:r.vanduin@hartstichting.nl
END:VEVENT
END:VCALENDAR